{"text_format":"1","workbook":"xlsx","n_sheets":4,"sheets":["Clasificación","Puntos","Socios","Carreras"],"not_rendered":{"charts":0,"images":1,"macros":1,"external_links":0,"defined_names":0,"comments":0,"pivot_tables":0},"unopened":[],"bounds":{"document_bytes":16777216,"sheet_cells":100000,"rows_first":2000,"rows_last":500,"rows_between":2000,"halvings":0,"cell_chars":16384,"cell_head_chars":4096},"cells_cut":0,"cells_raw":0,"read":"whole","date_system":"1900"}

{"sheet":"Clasificación","index":0,"n_rows":103,"n_cols":24,"rows_kept":103,"cut":false,"hidden":false,"merged":[[0,0,0,23],[1,4,1,5],[1,6,1,7],[1,8,1,9],[1,10,1,11],[1,14,1,15],[1,12,1,13],[1,16,1,17],[1,18,1,19],[1,20,1,21]]}
["CAMPEONATO DE PRUEBA"]
[null,null,null,null,"1ª Prueba",null,"2ª Prueba",null,"3ª Prueba",null,"4ª Prueba",null,"5ª Prueba",null,"6ª Prueba",null,"7ª Prueba",null,"8ª Prueba",null,"Asistencia"]
["Ord","Lic","Piloto","Región","Pos","Puntos","Pos","Puntos","Pos","Puntos","Pos","Puntos","Pos","Puntos","Pos","Puntos","Pos","Puntos","Pos","Puntos","nº","Puntos","TOTAL","Netos"]
[1,{"$f":"IF(Carreras!$K2=0,\"\",Carreras!$K2)","v":""},{"$f":"IF(B4=\"\",\"\",_xlfn.XLOOKUP(B4,Socios!A:A,Socios!B:B,FALSE,0,1))","v":""},{"$f":"IF(B4=\"\",\"\",_xlfn.XLOOKUP(B4,Socios!A:A,Socios!C:C,FALSE,0,1))","v":""},{"$f":"IF($B4=\"\",\"\",_xlfn.XLOOKUP($B4,Carreras!$B:$B,Carreras!$A:$A,0,0,1))","v":""},{"$f":"IF($B4=\"\",\"\",IF($E4=0,0,_xlfn.XLOOKUP($E4,Puntos!A:A,Puntos!B:B,TRUE)))","v":""},{"$f":"IF($B4=\"\",\"\",_xlfn.XLOOKUP($B4,Carreras!C:C,Carreras!A:A,0,0,1))","v":""},{"$f":"IF($B4=\"\",\"\",IF($G4=0,0,_xlfn.XLOOKUP($G4,Puntos!A:A,Puntos!B:B,TRUE)))","v":""},{"$f":"IF($B4=\"\",\"\",_xlfn.XLOOKUP($B4,Carreras!$D:$D,Carreras!$A:$A,0,0,1))","v":""},{"$f":"IF($B4=\"\",\"\",IF($I4=0,0,_xlfn.XLOOKUP($I4,Puntos!A:A,Puntos!B:B,TRUE)))","v":""},{"$f":"IF($B4=\"\",\"\",_xlfn.XLOOKUP($B4,Carreras!$E:$E,Carreras!$A:$A,0,0,1))","v":""},{"$f":"IF($B4=\"\",\"\",IF($K4=0,0,_xlfn.XLOOKUP($K4,Puntos!$A:$A,Puntos!$B:$B)))","v":""},{"$f":"IF($B4=\"\",\"\",_xlfn.XLOOKUP($B4,Carreras!F:F,Carreras!$A:$A,0,0,1))","v":""},{"$f":"IF($B4=\"\",\"\",IF($M4=0,0,_xlfn.XLOOKUP(M4,Puntos!A:A,Puntos!B:B,TRUE)))","v":""},{"$f":"IF($B4=\"\",\"\",_xlfn.XLOOKUP($B4,Carreras!$G:$G,Carreras!$A:$A,0,0,1))","v":""},{"$f":"IF($B4=\"\",\"\",IF($O4=0,0,_xlfn.XLOOKUP($O4,Puntos!A:A,Puntos!B:B,TRUE)))","v":""},{"$f":"IF($B4=\"\",\"\",_xlfn.XLOOKUP($B4,Carreras!$H:$H,Carreras!$A:$A,0,0,1))","v":""},{"$f":"IF($B4=\"\",\"\",IF($Q4=0,0,_xlfn.XLOOKUP($Q4,Puntos!A:A,Puntos!B:B,TRUE)))","v":""},{"$f":"IF($B4=\"\",\"\",_xlfn.XLOOKUP($B4,Carreras!$I:$I,Carreras!$A:$A,0,0,1))","v":""},{"$f":"IF($B4=\"\",\"\",IF($S4=0,0,_xlfn.XLOOKUP($S4,Puntos!A:A,Puntos!B:B,TRUE)))","v":""},{"$f":"IF($B4=\"\",\"\",COUNTIF(F4,\">0\")+COUNTIF(H4,\">0\")+COUNTIF(J4,\">0\")+COUNTIF(L4,\">0\")+COUNTIF(N4,\">0\")*COUNTIF(P4,\">0\")+COUNTIF(R4,\">0\")+COUNTIF(T4,\"\">0))","v":""},{"$f":"IF($B4=\"\",\"\",_xlfn.IFS(U4=0,0,U4=1,0,U4=2,50,U4=3,100,U4=4,150,U4=5,200,U4=6,250,U4=7,300,U4=8,350))","v":""},{"$f":"IF(B4=\"\",\"\",F4+H4+J4+L4+P4+N4+R4+T4+V4)","v":""},{"$f":"IF(B4=\"\",0,W4-MIN(F4,H4,J4,L4,N4,P4,R4,T4))","v":0}]
[{"$f":"A4+1","v":2},{"$f":"IF(Carreras!$K3=0,\"\",Carreras!$K3)","v":""},{"$f":"IF(B5=\"\",\"\",_xlfn.XLOOKUP(B5,Socios!A:A,Socios!B:B,FALSE,0,1))","v":""},{"$f":"IF(B5=\"\",\"\",_xlfn.XLOOKUP(B5,Socios!A:A,Socios!C:C,FALSE,0,1))","v":""},{"$f":"IF($B5=\"\",\"\",_xlfn.XLOOKUP($B5,Carreras!$B:$B,Carreras!$A:$A,0,0,1))","v":""},{"$f":"IF($B5=\"\",\"\",IF($E5=0,0,_xlfn.XLOOKUP($E5,Puntos!A:A,Puntos!B:B,TRUE)))","v":""},{"$f":"IF($B5=\"\",\"\",_xlfn.XLOOKUP($B5,Carreras!C:C,Carreras!A:A,0,0,1))","v":""},{"$f":"IF($B5=\"\",\"\",IF($G5=0,0,_xlfn.XLOOKUP($G5,Puntos!A:A,Puntos!B:B,TRUE)))","v":""},{"$f":"IF($B5=\"\",\"\",_xlfn.XLOOKUP($B5,Carreras!$D:$D,Carreras!$A:$A,0,0,1))","v":""},{"$f":"IF($B5=\"\",\"\",IF($I5=0,0,_xlfn.XLOOKUP($I5,Puntos!A:A,Puntos!B:B,TRUE)))","v":""},{"$f":"IF($B5=\"\",\"\",_xlfn.XLOOKUP($B5,Carreras!$E:$E,Carreras!$A:$A,0,0,1))","v":""},{"$f":"IF($B5=\"\",\"\",IF($K5=0,0,_xlfn.XLOOKUP($K5,Puntos!$A:$A,Puntos!$B:$B)))","v":""},{"$f":"IF($B5=\"\",\"\",_xlfn.XLOOKUP($B5,Carreras!F:F,Carreras!$A:$A,0,0,1))","v":""},{"$f":"IF($B5=\"\",\"\",IF($M5=0,0,_xlfn.XLOOKUP(M5,Puntos!A:A,Puntos!B:B,TRUE)))","v":""},{"$f":"IF($B5=\"\",\"\",_xlfn.XLOOKUP($B5,Carreras!$G:$G,Carreras!$A:$A,0,0,1))","v":""},{"$f":"IF($B5=\"\",\"\",IF($O5=0,0,_xlfn.XLOOKUP($O5,Puntos!A:A,Puntos!B:B,TRUE)))","v":""},{"$f":"IF($B5=\"\",\"\",_xlfn.XLOOKUP($B5,Carreras!$H:$H,Carreras!$A:$A,0,0,1))","v":""},{"$f":"IF($B5=\"\",\"\",IF($Q5=0,0,_xlfn.XLOOKUP($Q5,Puntos!A:A,Puntos!B:B,TRUE)))","v":""},{"$f":"IF($B5=\"\",\"\",_xlfn.XLOOKUP($B5,Carreras!$I:$I,Carreras!$A:$A,0,0,1))","v":""},{"$f":"IF($B5=\"\",\"\",IF($S5=0,0,_xlfn.XLOOKUP($S5,Puntos!A:A,Puntos!B:B,TRUE)))","v":""},"",{"$f":"IF($B5=\"\",\"\",_xlfn.IFS(U5=0,0,U5=1,0,U5=2,50,U5=3,100,U5=4,150,U5=5,200,U5=6,250,U5=7,300,U5=8,350))","v":""},"",0]
[{"$f":"A5+1","v":3},{"$f":"IF(Carreras!$K4=0,\"\",Carreras!$K4)","v":""},{"$f":"IF(B6=\"\",\"\",_xlfn.XLOOKUP(B6,Socios!A:A,Socios!B:B,FALSE,0,1))","v":""},{"$f":"IF(B6=\"\",\"\",_xlfn.XLOOKUP(B6,Socios!A:A,Socios!C:C,FALSE,0,1))","v":""},{"$f":"IF($B6=\"\",\"\",_xlfn.XLOOKUP($B6,Carreras!$B:$B,Carreras!$A:$A,0,0,1))","v":""},{"$f":"IF($B6=\"\",\"\",IF($E6=0,0,_xlfn.XLOOKUP($E6,Puntos!A:A,Puntos!B:B,TRUE)))","v":""},{"$f":"IF($B6=\"\",\"\",_xlfn.XLOOKUP($B6,Carreras!C:C,Carreras!A:A,0,0,1))","v":""},{"$f":"IF($B6=\"\",\"\",IF($G6=0,0,_xlfn.XLOOKUP($G6,Puntos!A:A,Puntos!B:B,TRUE)))","v":""},{"$f":"IF($B6=\"\",\"\",_xlfn.XLOOKUP($B6,Carreras!$D:$D,Carreras!$A:$A,0,0,1))","v":""},{"$f":"IF($B6=\"\",\"\",IF($I6=0,0,_xlfn.XLOOKUP($I6,Puntos!A:A,Puntos!B:B,TRUE)))","v":""},{"$f":"IF($B6=\"\",\"\",_xlfn.XLOOKUP($B6,Carreras!$E:$E,Carreras!$A:$A,0,0,1))","v":""},{"$f":"IF($B6=\"\",\"\",IF($K6=0,0,_xlfn.XLOOKUP($K6,Puntos!$A:$A,Puntos!$B:$B)))","v":""},{"$f":"IF($B6=\"\",\"\",_xlfn.XLOOKUP($B6,Carreras!F:F,Carreras!$A:$A,0,0,1))","v":""},{"$f":"IF($B6=\"\",\"\",IF($M6=0,0,_xlfn.XLOOKUP(M6,Puntos!A:A,Puntos!B:B,TRUE)))","v":""},{"$f":"IF($B6=\"\",\"\",_xlfn.XLOOKUP($B6,Carreras!$G:$G,Carreras!$A:$A,0,0,1))","v":""},{"$f":"IF($B6=\"\",\"\",IF($O6=0,0,_xlfn.XLOOKUP($O6,Puntos!A:A,Puntos!B:B,TRUE)))","v":""},{"$f":"IF($B6=\"\",\"\",_xlfn.XLOOKUP($B6,Carreras!$H:$H,Carreras!$A:$A,0,0,1))","v":""},{"$f":"IF($B6=\"\",\"\",IF($Q6=0,0,_xlfn.XLOOKUP($Q6,Puntos!A:A,Puntos!B:B,TRUE)))","v":""},{"$f":"IF($B6=\"\",\"\",_xlfn.XLOOKUP($B6,Carreras!$I:$I,Carreras!$A:$A,0,0,1))","v":""},{"$f":"IF($B6=\"\",\"\",IF($S6=0,0,_xlfn.XLOOKUP($S6,Puntos!A:A,Puntos!B:B,TRUE)))","v":""},"",{"$f":"IF($B6=\"\",\"\",_xlfn.IFS(U6=0,0,U6=1,0,U6=2,50,U6=3,100,U6=4,150,U6=5,200,U6=6,250,U6=7,300,U6=8,350))","v":""},"",0]
[4,{"$f":"IF(Carreras!$K6=0,\"\",Carreras!$K6)","v":""},{"$f":"IF(B7=\"\",\"\",_xlfn.XLOOKUP(B7,Socios!A:A,Socios!B:B,FALSE,0,1))","v":""},{"$f":"IF(B7=\"\",\"\",_xlfn.XLOOKUP(B7,Socios!A:A,Socios!C:C,FALSE,0,1))","v":""},{"$f":"IF($B7=\"\",\"\",_xlfn.XLOOKUP($B7,Carreras!$B:$B,Carreras!$A:$A,0,0,1))","v":""},{"$f":"IF($B7=\"\",\"\",IF($E7=0,0,_xlfn.XLOOKUP($E7,Puntos!A:A,Puntos!B:B,TRUE)))","v":""},{"$f":"IF($B7=\"\",\"\",_xlfn.XLOOKUP($B7,Carreras!C:C,Carreras!A:A,0,0,1))","v":""},{"$f":"IF($B7=\"\",\"\",IF($G7=0,0,_xlfn.XLOOKUP($G7,Puntos!A:A,Puntos!B:B,TRUE)))","v":""},{"$f":"IF($B7=\"\",\"\",_xlfn.XLOOKUP($B7,Carreras!$D:$D,Carreras!$A:$A,0,0,1))","v":""},{"$f":"IF($B7=\"\",\"\",IF($I7=0,0,_xlfn.XLOOKUP($I7,Puntos!A:A,Puntos!B:B,TRUE)))","v":""},{"$f":"IF($B7=\"\",\"\",_xlfn.XLOOKUP($B7,Carreras!$E:$E,Carreras!$A:$A,0,0,1))","v":""},{"$f":"IF($B7=\"\",\"\",IF($K7=0,0,_xlfn.XLOOKUP($K7,Puntos!$A:$A,Puntos!$B:$B)))","v":""},{"$f":"IF($B7=\"\",\"\",_xlfn.XLOOKUP($B7,Carreras!F:F,Carreras!$A:$A,0,0,1))","v":""},{"$f":"IF($B7=\"\",\"\",IF($M7=0,0,_xlfn.XLOOKUP(M7,Puntos!A:A,Puntos!B:B,TRUE)))","v":""},{"$f":"IF($B7=\"\",\"\",_xlfn.XLOOKUP($B7,Carreras!$G:$G,Carreras!$A:$A,0,0,1))","v":""},{"$f":"IF($B7=\"\",\"\",IF($O7=0,0,_xlfn.XLOOKUP($O7,Puntos!A:A,Puntos!B:B,TRUE)))","v":""},{"$f":"IF($B7=\"\",\"\",_xlfn.XLOOKUP($B7,Carreras!$H:$H,Carreras!$A:$A,0,0,1))","v":""},{"$f":"IF($B7=\"\",\"\",IF($Q7=0,0,_xlfn.XLOOKUP($Q7,Puntos!A:A,Puntos!B:B,TRUE)))","v":""},{"$f":"IF($B7=\"\",\"\",_xlfn.XLOOKUP($B7,Carreras!$I:$I,Carreras!$A:$A,0,0,1))","v":""},{"$f":"IF($B7=\"\",\"\",IF($S7=0,0,_xlfn.XLOOKUP($S7,Puntos!A:A,Puntos!B:B,TRUE)))","v":""},"",{"$f":"IF($B7=\"\",\"\",_xlfn.IFS(U7=0,0,U7=1,0,U7=2,50,U7=3,100,U7=4,150,U7=5,200,U7=6,250,U7=7,300,U7=8,350))","v":""},"",0]
[5,{"$f":"IF(Carreras!$K7=0,\"\",Carreras!$K7)","v":""},{"$f":"IF(B8=\"\",\"\",_xlfn.XLOOKUP(B8,Socios!A:A,Socios!B:B,FALSE,0,1))","v":""},{"$f":"IF(B8=\"\",\"\",_xlfn.XLOOKUP(B8,Socios!A:A,Socios!C:C,FALSE,0,1))","v":""},{"$f":"IF($B8=\"\",\"\",_xlfn.XLOOKUP($B8,Carreras!$B:$B,Carreras!$A:$A,0,0,1))","v":""},{"$f":"IF($B8=\"\",\"\",IF($E8=0,0,_xlfn.XLOOKUP($E8,Puntos!A:A,Puntos!B:B,TRUE)))","v":""},{"$f":"IF($B8=\"\",\"\",_xlfn.XLOOKUP($B8,Carreras!C:C,Carreras!A:A,0,0,1))","v":""},{"$f":"IF($B8=\"\",\"\",IF($G8=0,0,_xlfn.XLOOKUP($G8,Puntos!A:A,Puntos!B:B,TRUE)))","v":""},{"$f":"IF($B8=\"\",\"\",_xlfn.XLOOKUP($B8,Carreras!$D:$D,Carreras!$A:$A,0,0,1))","v":""},{"$f":"IF($B8=\"\",\"\",IF($I8=0,0,_xlfn.XLOOKUP($I8,Puntos!A:A,Puntos!B:B,TRUE)))","v":""},{"$f":"IF($B8=\"\",\"\",_xlfn.XLOOKUP($B8,Carreras!$E:$E,Carreras!$A:$A,0,0,1))","v":""},{"$f":"IF($B8=\"\",\"\",IF($K8=0,0,_xlfn.XLOOKUP($K8,Puntos!$A:$A,Puntos!$B:$B)))","v":""},{"$f":"IF($B8=\"\",\"\",_xlfn.XLOOKUP($B8,Carreras!F:F,Carreras!$A:$A,0,0,1))","v":""},{"$f":"IF($B8=\"\",\"\",IF($M8=0,0,_xlfn.XLOOKUP(M8,Puntos!A:A,Puntos!B:B,TRUE)))","v":""},{"$f":"IF($B8=\"\",\"\",_xlfn.XLOOKUP($B8,Carreras!$G:$G,Carreras!$A:$A,0,0,1))","v":""},{"$f":"IF($B8=\"\",\"\",IF($O8=0,0,_xlfn.XLOOKUP($O8,Puntos!A:A,Puntos!B:B,TRUE)))","v":""},{"$f":"IF($B8=\"\",\"\",_xlfn.XLOOKUP($B8,Carreras!$H:$H,Carreras!$A:$A,0,0,1))","v":""},{"$f":"IF($B8=\"\",\"\",IF($Q8=0,0,_xlfn.XLOOKUP($Q8,Puntos!A:A,Puntos!B:B,TRUE)))","v":""},{"$f":"IF($B8=\"\",\"\",_xlfn.XLOOKUP($B8,Carreras!$I:$I,Carreras!$A:$A,0,0,1))","v":""},{"$f":"IF($B8=\"\",\"\",IF($S8=0,0,_xlfn.XLOOKUP($S8,Puntos!A:A,Puntos!B:B,TRUE)))","v":""},"",{"$f":"IF($B8=\"\",\"\",_xlfn.IFS(U8=0,0,U8=1,0,U8=2,50,U8=3,100,U8=4,150,U8=5,200,U8=6,250,U8=7,300,U8=8,350))","v":""},"",0]
[6,{"$f":"IF(Carreras!$K5=0,\"\",Carreras!$K5)","v":""},{"$f":"IF(B9=\"\",\"\",_xlfn.XLOOKUP(B9,Socios!A:A,Socios!B:B,FALSE,0,1))","v":""},{"$f":"IF(B9=\"\",\"\",_xlfn.XLOOKUP(B9,Socios!A:A,Socios!C:C,FALSE,0,1))","v":""},{"$f":"IF($B9=\"\",\"\",_xlfn.XLOOKUP($B9,Carreras!$B:$B,Carreras!$A:$A,0,0,1))","v":""},{"$f":"IF($B9=\"\",\"\",IF($E9=0,0,_xlfn.XLOOKUP($E9,Puntos!A:A,Puntos!B:B,TRUE)))","v":""},{"$f":"IF($B9=\"\",\"\",_xlfn.XLOOKUP($B9,Carreras!C:C,Carreras!A:A,0,0,1))","v":""},{"$f":"IF($B9=\"\",\"\",IF($G9=0,0,_xlfn.XLOOKUP($G9,Puntos!A:A,Puntos!B:B,TRUE)))","v":""},{"$f":"IF($B9=\"\",\"\",_xlfn.XLOOKUP($B9,Carreras!$D:$D,Carreras!$A:$A,0,0,1))","v":""},{"$f":"IF($B9=\"\",\"\",IF($I9=0,0,_xlfn.XLOOKUP($I9,Puntos!A:A,Puntos!B:B,TRUE)))","v":""},{"$f":"IF($B9=\"\",\"\",_xlfn.XLOOKUP($B9,Carreras!$E:$E,Carreras!$A:$A,0,0,1))","v":""},{"$f":"IF($B9=\"\",\"\",IF($K9=0,0,_xlfn.XLOOKUP($K9,Puntos!$A:$A,Puntos!$B:$B)))","v":""},{"$f":"IF($B9=\"\",\"\",_xlfn.XLOOKUP($B9,Carreras!F:F,Carreras!$A:$A,0,0,1))","v":""},{"$f":"IF($B9=\"\",\"\",IF($M9=0,0,_xlfn.XLOOKUP(M9,Puntos!A:A,Puntos!B:B,TRUE)))","v":""},{"$f":"IF($B9=\"\",\"\",_xlfn.XLOOKUP($B9,Carreras!$G:$G,Carreras!$A:$A,0,0,1))","v":""},{"$f":"IF($B9=\"\",\"\",IF($O9=0,0,_xlfn.XLOOKUP($O9,Puntos!A:A,Puntos!B:B,TRUE)))","v":""},{"$f":"IF($B9=\"\",\"\",_xlfn.XLOOKUP($B9,Carreras!$H:$H,Carreras!$A:$A,0,0,1))","v":""},{"$f":"IF($B9=\"\",\"\",IF($Q9=0,0,_xlfn.XLOOKUP($Q9,Puntos!A:A,Puntos!B:B,TRUE)))","v":""},{"$f":"IF($B9=\"\",\"\",_xlfn.XLOOKUP($B9,Carreras!$I:$I,Carreras!$A:$A,0,0,1))","v":""},{"$f":"IF($B9=\"\",\"\",IF($S9=0,0,_xlfn.XLOOKUP($S9,Puntos!A:A,Puntos!B:B,TRUE)))","v":""},"",{"$f":"IF($B9=\"\",\"\",_xlfn.IFS(U9=0,0,U9=1,0,U9=2,50,U9=3,100,U9=4,150,U9=5,200,U9=6,250,U9=7,300,U9=8,350))","v":""},"",0]
[7,{"$f":"IF(Carreras!$K8=0,\"\",Carreras!$K8)","v":""},{"$f":"IF(B10=\"\",\"\",_xlfn.XLOOKUP(B10,Socios!A:A,Socios!B:B,FALSE,0,1))","v":""},{"$f":"IF(B10=\"\",\"\",_xlfn.XLOOKUP(B10,Socios!A:A,Socios!C:C,FALSE,0,1))","v":""},{"$f":"IF($B10=\"\",\"\",_xlfn.XLOOKUP($B10,Carreras!$B:$B,Carreras!$A:$A,0,0,1))","v":""},{"$f":"IF($B10=\"\",\"\",IF($E10=0,0,_xlfn.XLOOKUP($E10,Puntos!A:A,Puntos!B:B,TRUE)))","v":""},{"$f":"IF($B10=\"\",\"\",_xlfn.XLOOKUP($B10,Carreras!C:C,Carreras!A:A,0,0,1))","v":""},{"$f":"IF($B10=\"\",\"\",IF($G10=0,0,_xlfn.XLOOKUP($G10,Puntos!A:A,Puntos!B:B,TRUE)))","v":""},{"$f":"IF($B10=\"\",\"\",_xlfn.XLOOKUP($B10,Carreras!$D:$D,Carreras!$A:$A,0,0,1))","v":""},{"$f":"IF($B10=\"\",\"\",IF($I10=0,0,_xlfn.XLOOKUP($I10,Puntos!A:A,Puntos!B:B,TRUE)))","v":""},{"$f":"IF($B10=\"\",\"\",_xlfn.XLOOKUP($B10,Carreras!$E:$E,Carreras!$A:$A,0,0,1))","v":""},{"$f":"IF($B10=\"\",\"\",IF($K10=0,0,_xlfn.XLOOKUP($K10,Puntos!$A:$A,Puntos!$B:$B)))","v":""},{"$f":"IF($B10=\"\",\"\",_xlfn.XLOOKUP($B10,Carreras!F:F,Carreras!$A:$A,0,0,1))","v":""},{"$f":"IF($B10=\"\",\"\",IF($M10=0,0,_xlfn.XLOOKUP(M10,Puntos!A:A,Puntos!B:B,TRUE)))","v":""},{"$f":"IF($B10=\"\",\"\",_xlfn.XLOOKUP($B10,Carreras!$G:$G,Carreras!$A:$A,0,0,1))","v":""},{"$f":"IF($B10=\"\",\"\",IF($O10=0,0,_xlfn.XLOOKUP($O10,Puntos!A:A,Puntos!B:B,TRUE)))","v":""},{"$f":"IF($B10=\"\",\"\",_xlfn.XLOOKUP($B10,Carreras!$H:$H,Carreras!$A:$A,0,0,1))","v":""},{"$f":"IF($B10=\"\",\"\",IF($Q10=0,0,_xlfn.XLOOKUP($Q10,Puntos!A:A,Puntos!B:B,TRUE)))","v":""},{"$f":"IF($B10=\"\",\"\",_xlfn.XLOOKUP($B10,Carreras!$I:$I,Carreras!$A:$A,0,0,1))","v":""},{"$f":"IF($B10=\"\",\"\",IF($S10=0,0,_xlfn.XLOOKUP($S10,Puntos!A:A,Puntos!B:B,TRUE)))","v":""},"",{"$f":"IF($B10=\"\",\"\",_xlfn.IFS(U10=0,0,U10=1,0,U10=2,50,U10=3,100,U10=4,150,U10=5,200,U10=6,250,U10=7,300,U10=8,350))","v":""},"",0]
[8,{"$f":"IF(Carreras!$K9=0,\"\",Carreras!$K9)","v":""},{"$f":"IF(B11=\"\",\"\",_xlfn.XLOOKUP(B11,Socios!A:A,Socios!B:B,FALSE,0,1))","v":""},{"$f":"IF(B11=\"\",\"\",_xlfn.XLOOKUP(B11,Socios!A:A,Socios!C:C,FALSE,0,1))","v":""},{"$f":"IF($B11=\"\",\"\",_xlfn.XLOOKUP($B11,Carreras!$B:$B,Carreras!$A:$A,0,0,1))","v":""},{"$f":"IF($B11=\"\",\"\",IF($E11=0,0,_xlfn.XLOOKUP($E11,Puntos!A:A,Puntos!B:B,TRUE)))","v":""},{"$f":"IF($B11=\"\",\"\",_xlfn.XLOOKUP($B11,Carreras!C:C,Carreras!A:A,0,0,1))","v":""},{"$f":"IF($B11=\"\",\"\",IF($G11=0,0,_xlfn.XLOOKUP($G11,Puntos!A:A,Puntos!B:B,TRUE)))","v":""},{"$f":"IF($B11=\"\",\"\",_xlfn.XLOOKUP($B11,Carreras!$D:$D,Carreras!$A:$A,0,0,1))","v":""},{"$f":"IF($B11=\"\",\"\",IF($I11=0,0,_xlfn.XLOOKUP($I11,Puntos!A:A,Puntos!B:B,TRUE)))","v":""},{"$f":"IF($B11=\"\",\"\",_xlfn.XLOOKUP($B11,Carreras!$E:$E,Carreras!$A:$A,0,0,1))","v":""},{"$f":"IF($B11=\"\",\"\",IF($K11=0,0,_xlfn.XLOOKUP($K11,Puntos!$A:$A,Puntos!$B:$B)))","v":""},{"$f":"IF($B11=\"\",\"\",_xlfn.XLOOKUP($B11,Carreras!F:F,Carreras!$A:$A,0,0,1))","v":""},{"$f":"IF($B11=\"\",\"\",IF($M11=0,0,_xlfn.XLOOKUP(M11,Puntos!A:A,Puntos!B:B,TRUE)))","v":""},{"$f":"IF($B11=\"\",\"\",_xlfn.XLOOKUP($B11,Carreras!$G:$G,Carreras!$A:$A,0,0,1))","v":""},{"$f":"IF($B11=\"\",\"\",IF($O11=0,0,_xlfn.XLOOKUP($O11,Puntos!A:A,Puntos!B:B,TRUE)))","v":""},{"$f":"IF($B11=\"\",\"\",_xlfn.XLOOKUP($B11,Carreras!$H:$H,Carreras!$A:$A,0,0,1))","v":""},{"$f":"IF($B11=\"\",\"\",IF($Q11=0,0,_xlfn.XLOOKUP($Q11,Puntos!A:A,Puntos!B:B,TRUE)))","v":""},{"$f":"IF($B11=\"\",\"\",_xlfn.XLOOKUP($B11,Carreras!$I:$I,Carreras!$A:$A,0,0,1))","v":""},{"$f":"IF($B11=\"\",\"\",IF($S11=0,0,_xlfn.XLOOKUP($S11,Puntos!A:A,Puntos!B:B,TRUE)))","v":""},"",{"$f":"IF($B11=\"\",\"\",_xlfn.IFS(U11=0,0,U11=1,0,U11=2,50,U11=3,100,U11=4,150,U11=5,200,U11=6,250,U11=7,300,U11=8,350))","v":""},"",0]
[9,{"$f":"IF(Carreras!$K10=0,\"\",Carreras!$K10)","v":""},{"$f":"IF(B12=\"\",\"\",_xlfn.XLOOKUP(B12,Socios!A:A,Socios!B:B,FALSE,0,1))","v":""},{"$f":"IF(B12=\"\",\"\",_xlfn.XLOOKUP(B12,Socios!A:A,Socios!C:C,FALSE,0,1))","v":""},{"$f":"IF($B12=\"\",\"\",_xlfn.XLOOKUP($B12,Carreras!$B:$B,Carreras!$A:$A,0,0,1))","v":""},{"$f":"IF($B12=\"\",\"\",IF($E12=0,0,_xlfn.XLOOKUP($E12,Puntos!A:A,Puntos!B:B,TRUE)))","v":""},{"$f":"IF($B12=\"\",\"\",_xlfn.XLOOKUP($B12,Carreras!C:C,Carreras!A:A,0,0,1))","v":""},{"$f":"IF($B12=\"\",\"\",IF($G12=0,0,_xlfn.XLOOKUP($G12,Puntos!A:A,Puntos!B:B,TRUE)))","v":""},{"$f":"IF($B12=\"\",\"\",_xlfn.XLOOKUP($B12,Carreras!$D:$D,Carreras!$A:$A,0,0,1))","v":""},{"$f":"IF($B12=\"\",\"\",IF($I12=0,0,_xlfn.XLOOKUP($I12,Puntos!A:A,Puntos!B:B,TRUE)))","v":""},{"$f":"IF($B12=\"\",\"\",_xlfn.XLOOKUP($B12,Carreras!$E:$E,Carreras!$A:$A,0,0,1))","v":""},{"$f":"IF($B12=\"\",\"\",IF($K12=0,0,_xlfn.XLOOKUP($K12,Puntos!$A:$A,Puntos!$B:$B)))","v":""},{"$f":"IF($B12=\"\",\"\",_xlfn.XLOOKUP($B12,Carreras!F:F,Carreras!$A:$A,0,0,1))","v":""},{"$f":"IF($B12=\"\",\"\",IF($M12=0,0,_xlfn.XLOOKUP(M12,Puntos!A:A,Puntos!B:B,TRUE)))","v":""},{"$f":"IF($B12=\"\",\"\",_xlfn.XLOOKUP($B12,Carreras!$G:$G,Carreras!$A:$A,0,0,1))","v":""},{"$f":"IF($B12=\"\",\"\",IF($O12=0,0,_xlfn.XLOOKUP($O12,Puntos!A:A,Puntos!B:B,TRUE)))","v":""},{"$f":"IF($B12=\"\",\"\",_xlfn.XLOOKUP($B12,Carreras!$H:$H,Carreras!$A:$A,0,0,1))","v":""},{"$f":"IF($B12=\"\",\"\",IF($Q12=0,0,_xlfn.XLOOKUP($Q12,Puntos!A:A,Puntos!B:B,TRUE)))","v":""},{"$f":"IF($B12=\"\",\"\",_xlfn.XLOOKUP($B12,Carreras!$I:$I,Carreras!$A:$A,0,0,1))","v":""},{"$f":"IF($B12=\"\",\"\",IF($S12=0,0,_xlfn.XLOOKUP($S12,Puntos!A:A,Puntos!B:B,TRUE)))","v":""},"",{"$f":"IF($B12=\"\",\"\",_xlfn.IFS(U12=0,0,U12=1,0,U12=2,50,U12=3,100,U12=4,150,U12=5,200,U12=6,250,U12=7,300,U12=8,350))","v":""},"",0]
[10,{"$f":"IF(Carreras!$K11=0,\"\",Carreras!$K11)","v":""},{"$f":"IF(B13=\"\",\"\",_xlfn.XLOOKUP(B13,Socios!A:A,Socios!B:B,FALSE,0,1))","v":""},{"$f":"IF(B13=\"\",\"\",_xlfn.XLOOKUP(B13,Socios!A:A,Socios!C:C,FALSE,0,1))","v":""},{"$f":"IF($B13=\"\",\"\",_xlfn.XLOOKUP($B13,Carreras!$B:$B,Carreras!$A:$A,0,0,1))","v":""},{"$f":"IF($B13=\"\",\"\",IF($E13=0,0,_xlfn.XLOOKUP($E13,Puntos!A:A,Puntos!B:B,TRUE)))","v":""},{"$f":"IF($B13=\"\",\"\",_xlfn.XLOOKUP($B13,Carreras!C:C,Carreras!A:A,0,0,1))","v":""},{"$f":"IF($B13=\"\",\"\",IF($G13=0,0,_xlfn.XLOOKUP($G13,Puntos!A:A,Puntos!B:B,TRUE)))","v":""},{"$f":"IF($B13=\"\",\"\",_xlfn.XLOOKUP($B13,Carreras!$D:$D,Carreras!$A:$A,0,0,1))","v":""},{"$f":"IF($B13=\"\",\"\",IF($I13=0,0,_xlfn.XLOOKUP($I13,Puntos!A:A,Puntos!B:B,TRUE)))","v":""},{"$f":"IF($B13=\"\",\"\",_xlfn.XLOOKUP($B13,Carreras!$E:$E,Carreras!$A:$A,0,0,1))","v":""},{"$f":"IF($B13=\"\",\"\",IF($K13=0,0,_xlfn.XLOOKUP($K13,Puntos!$A:$A,Puntos!$B:$B)))","v":""},{"$f":"IF($B13=\"\",\"\",_xlfn.XLOOKUP($B13,Carreras!F:F,Carreras!$A:$A,0,0,1))","v":""},{"$f":"IF($B13=\"\",\"\",IF($M13=0,0,_xlfn.XLOOKUP(M13,Puntos!A:A,Puntos!B:B,TRUE)))","v":""},{"$f":"IF($B13=\"\",\"\",_xlfn.XLOOKUP($B13,Carreras!$G:$G,Carreras!$A:$A,0,0,1))","v":""},{"$f":"IF($B13=\"\",\"\",IF($O13=0,0,_xlfn.XLOOKUP($O13,Puntos!A:A,Puntos!B:B,TRUE)))","v":""},{"$f":"IF($B13=\"\",\"\",_xlfn.XLOOKUP($B13,Carreras!$H:$H,Carreras!$A:$A,0,0,1))","v":""},{"$f":"IF($B13=\"\",\"\",IF($Q13=0,0,_xlfn.XLOOKUP($Q13,Puntos!A:A,Puntos!B:B,TRUE)))","v":""},{"$f":"IF($B13=\"\",\"\",_xlfn.XLOOKUP($B13,Carreras!$I:$I,Carreras!$A:$A,0,0,1))","v":""},{"$f":"IF($B13=\"\",\"\",IF($S13=0,0,_xlfn.XLOOKUP($S13,Puntos!A:A,Puntos!B:B,TRUE)))","v":""},"",{"$f":"IF($B13=\"\",\"\",_xlfn.IFS(U13=0,0,U13=1,0,U13=2,50,U13=3,100,U13=4,150,U13=5,200,U13=6,250,U13=7,300,U13=8,350))","v":""},"",0]
[11,{"$f":"IF(Carreras!$K12=0,\"\",Carreras!$K12)","v":""},{"$f":"IF(B14=\"\",\"\",_xlfn.XLOOKUP(B14,Socios!A:A,Socios!B:B,FALSE,0,1))","v":""},{"$f":"IF(B14=\"\",\"\",_xlfn.XLOOKUP(B14,Socios!A:A,Socios!C:C,FALSE,0,1))","v":""},{"$f":"IF($B14=\"\",\"\",_xlfn.XLOOKUP($B14,Carreras!$B:$B,Carreras!$A:$A,0,0,1))","v":""},{"$f":"IF($B14=\"\",\"\",IF($E14=0,0,_xlfn.XLOOKUP($E14,Puntos!A:A,Puntos!B:B,TRUE)))","v":""},{"$f":"IF($B14=\"\",\"\",_xlfn.XLOOKUP($B14,Carreras!C:C,Carreras!A:A,0,0,1))","v":""},{"$f":"IF($B14=\"\",\"\",IF($G14=0,0,_xlfn.XLOOKUP($G14,Puntos!A:A,Puntos!B:B,TRUE)))","v":""},{"$f":"IF($B14=\"\",\"\",_xlfn.XLOOKUP($B14,Carreras!$D:$D,Carreras!$A:$A,0,0,1))","v":""},{"$f":"IF($B14=\"\",\"\",IF($I14=0,0,_xlfn.XLOOKUP($I14,Puntos!A:A,Puntos!B:B,TRUE)))","v":""},{"$f":"IF($B14=\"\",\"\",_xlfn.XLOOKUP($B14,Carreras!$E:$E,Carreras!$A:$A,0,0,1))","v":""},{"$f":"IF($B14=\"\",\"\",IF($K14=0,0,_xlfn.XLOOKUP($K14,Puntos!$A:$A,Puntos!$B:$B)))","v":""},{"$f":"IF($B14=\"\",\"\",_xlfn.XLOOKUP($B14,Carreras!F:F,Carreras!$A:$A,0,0,1))","v":""},{"$f":"IF($B14=\"\",\"\",IF($M14=0,0,_xlfn.XLOOKUP(M14,Puntos!A:A,Puntos!B:B,TRUE)))","v":""},{"$f":"IF($B14=\"\",\"\",_xlfn.XLOOKUP($B14,Carreras!$G:$G,Carreras!$A:$A,0,0,1))","v":""},{"$f":"IF($B14=\"\",\"\",IF($O14=0,0,_xlfn.XLOOKUP($O14,Puntos!A:A,Puntos!B:B,TRUE)))","v":""},{"$f":"IF($B14=\"\",\"\",_xlfn.XLOOKUP($B14,Carreras!$H:$H,Carreras!$A:$A,0,0,1))","v":""},{"$f":"IF($B14=\"\",\"\",IF($Q14=0,0,_xlfn.XLOOKUP($Q14,Puntos!A:A,Puntos!B:B,TRUE)))","v":""},{"$f":"IF($B14=\"\",\"\",_xlfn.XLOOKUP($B14,Carreras!$I:$I,Carreras!$A:$A,0,0,1))","v":""},{"$f":"IF($B14=\"\",\"\",IF($S14=0,0,_xlfn.XLOOKUP($S14,Puntos!A:A,Puntos!B:B,TRUE)))","v":""},"",{"$f":"IF($B14=\"\",\"\",_xlfn.IFS(U14=0,0,U14=1,0,U14=2,50,U14=3,100,U14=4,150,U14=5,200,U14=6,250,U14=7,300,U14=8,350))","v":""},"",0]
[12,{"$f":"IF(Carreras!$K13=0,\"\",Carreras!$K13)","v":""},{"$f":"IF(B15=\"\",\"\",_xlfn.XLOOKUP(B15,Socios!A:A,Socios!B:B,FALSE,0,1))","v":""},{"$f":"IF(B15=\"\",\"\",_xlfn.XLOOKUP(B15,Socios!A:A,Socios!C:C,FALSE,0,1))","v":""},{"$f":"IF($B15=\"\",\"\",_xlfn.XLOOKUP($B15,Carreras!$B:$B,Carreras!$A:$A,0,0,1))","v":""},{"$f":"IF($B15=\"\",\"\",IF($E15=0,0,_xlfn.XLOOKUP($E15,Puntos!A:A,Puntos!B:B,TRUE)))","v":""},{"$f":"IF($B15=\"\",\"\",_xlfn.XLOOKUP($B15,Carreras!C:C,Carreras!A:A,0,0,1))","v":""},{"$f":"IF($B15=\"\",\"\",IF($G15=0,0,_xlfn.XLOOKUP($G15,Puntos!A:A,Puntos!B:B,TRUE)))","v":""},{"$f":"IF($B15=\"\",\"\",_xlfn.XLOOKUP($B15,Carreras!$D:$D,Carreras!$A:$A,0,0,1))","v":""},{"$f":"IF($B15=\"\",\"\",IF($I15=0,0,_xlfn.XLOOKUP($I15,Puntos!A:A,Puntos!B:B,TRUE)))","v":""},{"$f":"IF($B15=\"\",\"\",_xlfn.XLOOKUP($B15,Carreras!$E:$E,Carreras!$A:$A,0,0,1))","v":""},{"$f":"IF($B15=\"\",\"\",IF($K15=0,0,_xlfn.XLOOKUP($K15,Puntos!$A:$A,Puntos!$B:$B)))","v":""},{"$f":"IF($B15=\"\",\"\",_xlfn.XLOOKUP($B15,Carreras!F:F,Carreras!$A:$A,0,0,1))","v":""},{"$f":"IF($B15=\"\",\"\",IF($M15=0,0,_xlfn.XLOOKUP(M15,Puntos!A:A,Puntos!B:B,TRUE)))","v":""},{"$f":"IF($B15=\"\",\"\",_xlfn.XLOOKUP($B15,Carreras!$G:$G,Carreras!$A:$A,0,0,1))","v":""},{"$f":"IF($B15=\"\",\"\",IF($O15=0,0,_xlfn.XLOOKUP($O15,Puntos!A:A,Puntos!B:B,TRUE)))","v":""},{"$f":"IF($B15=\"\",\"\",_xlfn.XLOOKUP($B15,Carreras!$H:$H,Carreras!$A:$A,0,0,1))","v":""},{"$f":"IF($B15=\"\",\"\",IF($Q15=0,0,_xlfn.XLOOKUP($Q15,Puntos!A:A,Puntos!B:B,TRUE)))","v":""},{"$f":"IF($B15=\"\",\"\",_xlfn.XLOOKUP($B15,Carreras!$I:$I,Carreras!$A:$A,0,0,1))","v":""},{"$f":"IF($B15=\"\",\"\",IF($S15=0,0,_xlfn.XLOOKUP($S15,Puntos!A:A,Puntos!B:B,TRUE)))","v":""},"",{"$f":"IF($B15=\"\",\"\",_xlfn.IFS(U15=0,0,U15=1,0,U15=2,50,U15=3,100,U15=4,150,U15=5,200,U15=6,250,U15=7,300,U15=8,350))","v":""},"",0]
[13,{"$f":"IF(Carreras!$K14=0,\"\",Carreras!$K14)","v":""},{"$f":"IF(B16=\"\",\"\",_xlfn.XLOOKUP(B16,Socios!A:A,Socios!B:B,FALSE,0,1))","v":""},{"$f":"IF(B16=\"\",\"\",_xlfn.XLOOKUP(B16,Socios!A:A,Socios!C:C,FALSE,0,1))","v":""},{"$f":"IF($B16=\"\",\"\",_xlfn.XLOOKUP($B16,Carreras!$B:$B,Carreras!$A:$A,0,0,1))","v":""},{"$f":"IF($B16=\"\",\"\",IF($E16=0,0,_xlfn.XLOOKUP($E16,Puntos!A:A,Puntos!B:B,TRUE)))","v":""},{"$f":"IF($B16=\"\",\"\",_xlfn.XLOOKUP($B16,Carreras!C:C,Carreras!A:A,0,0,1))","v":""},{"$f":"IF($B16=\"\",\"\",IF($G16=0,0,_xlfn.XLOOKUP($G16,Puntos!A:A,Puntos!B:B,TRUE)))","v":""},{"$f":"IF($B16=\"\",\"\",_xlfn.XLOOKUP($B16,Carreras!$D:$D,Carreras!$A:$A,0,0,1))","v":""},{"$f":"IF($B16=\"\",\"\",IF($I16=0,0,_xlfn.XLOOKUP($I16,Puntos!A:A,Puntos!B:B,TRUE)))","v":""},{"$f":"IF($B16=\"\",\"\",_xlfn.XLOOKUP($B16,Carreras!$E:$E,Carreras!$A:$A,0,0,1))","v":""},{"$f":"IF($B16=\"\",\"\",IF($K16=0,0,_xlfn.XLOOKUP($K16,Puntos!$A:$A,Puntos!$B:$B)))","v":""},{"$f":"IF($B16=\"\",\"\",_xlfn.XLOOKUP($B16,Carreras!F:F,Carreras!$A:$A,0,0,1))","v":""},{"$f":"IF($B16=\"\",\"\",IF($M16=0,0,_xlfn.XLOOKUP(M16,Puntos!A:A,Puntos!B:B,TRUE)))","v":""},{"$f":"IF($B16=\"\",\"\",_xlfn.XLOOKUP($B16,Carreras!$G:$G,Carreras!$A:$A,0,0,1))","v":""},{"$f":"IF($B16=\"\",\"\",IF($O16=0,0,_xlfn.XLOOKUP($O16,Puntos!A:A,Puntos!B:B,TRUE)))","v":""},{"$f":"IF($B16=\"\",\"\",_xlfn.XLOOKUP($B16,Carreras!$H:$H,Carreras!$A:$A,0,0,1))","v":""},{"$f":"IF($B16=\"\",\"\",IF($Q16=0,0,_xlfn.XLOOKUP($Q16,Puntos!A:A,Puntos!B:B,TRUE)))","v":""},{"$f":"IF($B16=\"\",\"\",_xlfn.XLOOKUP($B16,Carreras!$I:$I,Carreras!$A:$A,0,0,1))","v":""},{"$f":"IF($B16=\"\",\"\",IF($S16=0,0,_xlfn.XLOOKUP($S16,Puntos!A:A,Puntos!B:B,TRUE)))","v":""},"",{"$f":"IF($B16=\"\",\"\",_xlfn.IFS(U16=0,0,U16=1,0,U16=2,50,U16=3,100,U16=4,150,U16=5,200,U16=6,250,U16=7,300,U16=8,350))","v":""},"",0]
[14,{"$f":"IF(Carreras!$K15=0,\"\",Carreras!$K15)","v":""},{"$f":"IF(B17=\"\",\"\",_xlfn.XLOOKUP(B17,Socios!A:A,Socios!B:B,FALSE,0,1))","v":""},{"$f":"IF(B17=\"\",\"\",_xlfn.XLOOKUP(B17,Socios!A:A,Socios!C:C,FALSE,0,1))","v":""},{"$f":"IF($B17=\"\",\"\",_xlfn.XLOOKUP($B17,Carreras!$B:$B,Carreras!$A:$A,0,0,1))","v":""},{"$f":"IF($B17=\"\",\"\",IF($E17=0,0,_xlfn.XLOOKUP($E17,Puntos!A:A,Puntos!B:B,TRUE)))","v":""},{"$f":"IF($B17=\"\",\"\",_xlfn.XLOOKUP($B17,Carreras!C:C,Carreras!A:A,0,0,1))","v":""},{"$f":"IF($B17=\"\",\"\",IF($G17=0,0,_xlfn.XLOOKUP($G17,Puntos!A:A,Puntos!B:B,TRUE)))","v":""},{"$f":"IF($B17=\"\",\"\",_xlfn.XLOOKUP($B17,Carreras!$D:$D,Carreras!$A:$A,0,0,1))","v":""},{"$f":"IF($B17=\"\",\"\",IF($I17=0,0,_xlfn.XLOOKUP($I17,Puntos!A:A,Puntos!B:B,TRUE)))","v":""},{"$f":"IF($B17=\"\",\"\",_xlfn.XLOOKUP($B17,Carreras!$E:$E,Carreras!$A:$A,0,0,1))","v":""},{"$f":"IF($B17=\"\",\"\",IF($K17=0,0,_xlfn.XLOOKUP($K17,Puntos!$A:$A,Puntos!$B:$B)))","v":""},{"$f":"IF($B17=\"\",\"\",_xlfn.XLOOKUP($B17,Carreras!F:F,Carreras!$A:$A,0,0,1))","v":""},{"$f":"IF($B17=\"\",\"\",IF($M17=0,0,_xlfn.XLOOKUP(M17,Puntos!A:A,Puntos!B:B,TRUE)))","v":""},{"$f":"IF($B17=\"\",\"\",_xlfn.XLOOKUP($B17,Carreras!$G:$G,Carreras!$A:$A,0,0,1))","v":""},{"$f":"IF($B17=\"\",\"\",IF($O17=0,0,_xlfn.XLOOKUP($O17,Puntos!A:A,Puntos!B:B,TRUE)))","v":""},{"$f":"IF($B17=\"\",\"\",_xlfn.XLOOKUP($B17,Carreras!$H:$H,Carreras!$A:$A,0,0,1))","v":""},{"$f":"IF($B17=\"\",\"\",IF($Q17=0,0,_xlfn.XLOOKUP($Q17,Puntos!A:A,Puntos!B:B,TRUE)))","v":""},{"$f":"IF($B17=\"\",\"\",_xlfn.XLOOKUP($B17,Carreras!$I:$I,Carreras!$A:$A,0,0,1))","v":""},{"$f":"IF($B17=\"\",\"\",IF($S17=0,0,_xlfn.XLOOKUP($S17,Puntos!A:A,Puntos!B:B,TRUE)))","v":""},"",{"$f":"IF($B17=\"\",\"\",_xlfn.IFS(U17=0,0,U17=1,0,U17=2,50,U17=3,100,U17=4,150,U17=5,200,U17=6,250,U17=7,300,U17=8,350))","v":""},"",0]
[15,{"$f":"IF(Carreras!$K16=0,\"\",Carreras!$K16)","v":""},{"$f":"IF(B18=\"\",\"\",_xlfn.XLOOKUP(B18,Socios!A:A,Socios!B:B,FALSE,0,1))","v":""},{"$f":"IF(B18=\"\",\"\",_xlfn.XLOOKUP(B18,Socios!A:A,Socios!C:C,FALSE,0,1))","v":""},{"$f":"IF($B18=\"\",\"\",_xlfn.XLOOKUP($B18,Carreras!$B:$B,Carreras!$A:$A,0,0,1))","v":""},{"$f":"IF($B18=\"\",\"\",IF($E18=0,0,_xlfn.XLOOKUP($E18,Puntos!A:A,Puntos!B:B,TRUE)))","v":""},{"$f":"IF($B18=\"\",\"\",_xlfn.XLOOKUP($B18,Carreras!C:C,Carreras!A:A,0,0,1))","v":""},{"$f":"IF($B18=\"\",\"\",IF($G18=0,0,_xlfn.XLOOKUP($G18,Puntos!A:A,Puntos!B:B,TRUE)))","v":""},{"$f":"IF($B18=\"\",\"\",_xlfn.XLOOKUP($B18,Carreras!$D:$D,Carreras!$A:$A,0,0,1))","v":""},{"$f":"IF($B18=\"\",\"\",IF($I18=0,0,_xlfn.XLOOKUP($I18,Puntos!A:A,Puntos!B:B,TRUE)))","v":""},{"$f":"IF($B18=\"\",\"\",_xlfn.XLOOKUP($B18,Carreras!$E:$E,Carreras!$A:$A,0,0,1))","v":""},{"$f":"IF($B18=\"\",\"\",IF($K18=0,0,_xlfn.XLOOKUP($K18,Puntos!$A:$A,Puntos!$B:$B)))","v":""},{"$f":"IF($B18=\"\",\"\",_xlfn.XLOOKUP($B18,Carreras!F:F,Carreras!$A:$A,0,0,1))","v":""},{"$f":"IF($B18=\"\",\"\",IF($M18=0,0,_xlfn.XLOOKUP(M18,Puntos!A:A,Puntos!B:B,TRUE)))","v":""},{"$f":"IF($B18=\"\",\"\",_xlfn.XLOOKUP($B18,Carreras!$G:$G,Carreras!$A:$A,0,0,1))","v":""},{"$f":"IF($B18=\"\",\"\",IF($O18=0,0,_xlfn.XLOOKUP($O18,Puntos!A:A,Puntos!B:B,TRUE)))","v":""},{"$f":"IF($B18=\"\",\"\",_xlfn.XLOOKUP($B18,Carreras!$H:$H,Carreras!$A:$A,0,0,1))","v":""},{"$f":"IF($B18=\"\",\"\",IF($Q18=0,0,_xlfn.XLOOKUP($Q18,Puntos!A:A,Puntos!B:B,TRUE)))","v":""},{"$f":"IF($B18=\"\",\"\",_xlfn.XLOOKUP($B18,Carreras!$I:$I,Carreras!$A:$A,0,0,1))","v":""},{"$f":"IF($B18=\"\",\"\",IF($S18=0,0,_xlfn.XLOOKUP($S18,Puntos!A:A,Puntos!B:B,TRUE)))","v":""},"",{"$f":"IF($B18=\"\",\"\",_xlfn.IFS(U18=0,0,U18=1,0,U18=2,50,U18=3,100,U18=4,150,U18=5,200,U18=6,250,U18=7,300,U18=8,350))","v":""},"",0]
[16,{"$f":"IF(Carreras!$K17=0,\"\",Carreras!$K17)","v":""},{"$f":"IF(B19=\"\",\"\",_xlfn.XLOOKUP(B19,Socios!A:A,Socios!B:B,FALSE,0,1))","v":""},{"$f":"IF(B19=\"\",\"\",_xlfn.XLOOKUP(B19,Socios!A:A,Socios!C:C,FALSE,0,1))","v":""},{"$f":"IF($B19=\"\",\"\",_xlfn.XLOOKUP($B19,Carreras!$B:$B,Carreras!$A:$A,0,0,1))","v":""},{"$f":"IF($B19=\"\",\"\",IF($E19=0,0,_xlfn.XLOOKUP($E19,Puntos!A:A,Puntos!B:B,TRUE)))","v":""},{"$f":"IF($B19=\"\",\"\",_xlfn.XLOOKUP($B19,Carreras!C:C,Carreras!A:A,0,0,1))","v":""},{"$f":"IF($B19=\"\",\"\",IF($G19=0,0,_xlfn.XLOOKUP($G19,Puntos!A:A,Puntos!B:B,TRUE)))","v":""},{"$f":"IF($B19=\"\",\"\",_xlfn.XLOOKUP($B19,Carreras!$D:$D,Carreras!$A:$A,0,0,1))","v":""},{"$f":"IF($B19=\"\",\"\",IF($I19=0,0,_xlfn.XLOOKUP($I19,Puntos!A:A,Puntos!B:B,TRUE)))","v":""},{"$f":"IF($B19=\"\",\"\",_xlfn.XLOOKUP($B19,Carreras!$E:$E,Carreras!$A:$A,0,0,1))","v":""},{"$f":"IF($B19=\"\",\"\",IF($K19=0,0,_xlfn.XLOOKUP($K19,Puntos!$A:$A,Puntos!$B:$B)))","v":""},{"$f":"IF($B19=\"\",\"\",_xlfn.XLOOKUP($B19,Carreras!F:F,Carreras!$A:$A,0,0,1))","v":""},{"$f":"IF($B19=\"\",\"\",IF($M19=0,0,_xlfn.XLOOKUP(M19,Puntos!A:A,Puntos!B:B,TRUE)))","v":""},{"$f":"IF($B19=\"\",\"\",_xlfn.XLOOKUP($B19,Carreras!$G:$G,Carreras!$A:$A,0,0,1))","v":""},{"$f":"IF($B19=\"\",\"\",IF($O19=0,0,_xlfn.XLOOKUP($O19,Puntos!A:A,Puntos!B:B,TRUE)))","v":""},{"$f":"IF($B19=\"\",\"\",_xlfn.XLOOKUP($B19,Carreras!$H:$H,Carreras!$A:$A,0,0,1))","v":""},{"$f":"IF($B19=\"\",\"\",IF($Q19=0,0,_xlfn.XLOOKUP($Q19,Puntos!A:A,Puntos!B:B,TRUE)))","v":""},{"$f":"IF($B19=\"\",\"\",_xlfn.XLOOKUP($B19,Carreras!$I:$I,Carreras!$A:$A,0,0,1))","v":""},{"$f":"IF($B19=\"\",\"\",IF($S19=0,0,_xlfn.XLOOKUP($S19,Puntos!A:A,Puntos!B:B,TRUE)))","v":""},"",{"$f":"IF($B19=\"\",\"\",_xlfn.IFS(U19=0,0,U19=1,0,U19=2,50,U19=3,100,U19=4,150,U19=5,200,U19=6,250,U19=7,300,U19=8,350))","v":""},"",0]
[17,{"$f":"IF(Carreras!$K18=0,\"\",Carreras!$K18)","v":""},{"$f":"IF(B20=\"\",\"\",_xlfn.XLOOKUP(B20,Socios!A:A,Socios!B:B,FALSE,0,1))","v":""},{"$f":"IF(B20=\"\",\"\",_xlfn.XLOOKUP(B20,Socios!A:A,Socios!C:C,FALSE,0,1))","v":""},{"$f":"IF($B20=\"\",\"\",_xlfn.XLOOKUP($B20,Carreras!$B:$B,Carreras!$A:$A,0,0,1))","v":""},{"$f":"IF($B20=\"\",\"\",IF($E20=0,0,_xlfn.XLOOKUP($E20,Puntos!A:A,Puntos!B:B,TRUE)))","v":""},{"$f":"IF($B20=\"\",\"\",_xlfn.XLOOKUP($B20,Carreras!C:C,Carreras!A:A,0,0,1))","v":""},{"$f":"IF($B20=\"\",\"\",IF($G20=0,0,_xlfn.XLOOKUP($G20,Puntos!A:A,Puntos!B:B,TRUE)))","v":""},{"$f":"IF($B20=\"\",\"\",_xlfn.XLOOKUP($B20,Carreras!$D:$D,Carreras!$A:$A,0,0,1))","v":""},{"$f":"IF($B20=\"\",\"\",IF($I20=0,0,_xlfn.XLOOKUP($I20,Puntos!A:A,Puntos!B:B,TRUE)))","v":""},{"$f":"IF($B20=\"\",\"\",_xlfn.XLOOKUP($B20,Carreras!$E:$E,Carreras!$A:$A,0,0,1))","v":""},{"$f":"IF($B20=\"\",\"\",IF($K20=0,0,_xlfn.XLOOKUP($K20,Puntos!$A:$A,Puntos!$B:$B)))","v":""},{"$f":"IF($B20=\"\",\"\",_xlfn.XLOOKUP($B20,Carreras!F:F,Carreras!$A:$A,0,0,1))","v":""},{"$f":"IF($B20=\"\",\"\",IF($M20=0,0,_xlfn.XLOOKUP(M20,Puntos!A:A,Puntos!B:B,TRUE)))","v":""},{"$f":"IF($B20=\"\",\"\",_xlfn.XLOOKUP($B20,Carreras!$G:$G,Carreras!$A:$A,0,0,1))","v":""},{"$f":"IF($B20=\"\",\"\",IF($O20=0,0,_xlfn.XLOOKUP($O20,Puntos!A:A,Puntos!B:B,TRUE)))","v":""},{"$f":"IF($B20=\"\",\"\",_xlfn.XLOOKUP($B20,Carreras!$H:$H,Carreras!$A:$A,0,0,1))","v":""},{"$f":"IF($B20=\"\",\"\",IF($Q20=0,0,_xlfn.XLOOKUP($Q20,Puntos!A:A,Puntos!B:B,TRUE)))","v":""},{"$f":"IF($B20=\"\",\"\",_xlfn.XLOOKUP($B20,Carreras!$I:$I,Carreras!$A:$A,0,0,1))","v":""},{"$f":"IF($B20=\"\",\"\",IF($S20=0,0,_xlfn.XLOOKUP($S20,Puntos!A:A,Puntos!B:B,TRUE)))","v":""},"",{"$f":"IF($B20=\"\",\"\",_xlfn.IFS(U20=0,0,U20=1,0,U20=2,50,U20=3,100,U20=4,150,U20=5,200,U20=6,250,U20=7,300,U20=8,350))","v":""},"",0]
[18,{"$f":"IF(Carreras!$K19=0,\"\",Carreras!$K19)","v":""},{"$f":"IF(B21=\"\",\"\",_xlfn.XLOOKUP(B21,Socios!A:A,Socios!B:B,FALSE,0,1))","v":""},{"$f":"IF(B21=\"\",\"\",_xlfn.XLOOKUP(B21,Socios!A:A,Socios!C:C,FALSE,0,1))","v":""},{"$f":"IF($B21=\"\",\"\",_xlfn.XLOOKUP($B21,Carreras!$B:$B,Carreras!$A:$A,0,0,1))","v":""},{"$f":"IF($B21=\"\",\"\",IF($E21=0,0,_xlfn.XLOOKUP($E21,Puntos!A:A,Puntos!B:B,TRUE)))","v":""},{"$f":"IF($B21=\"\",\"\",_xlfn.XLOOKUP($B21,Carreras!C:C,Carreras!A:A,0,0,1))","v":""},{"$f":"IF($B21=\"\",\"\",IF($G21=0,0,_xlfn.XLOOKUP($G21,Puntos!A:A,Puntos!B:B,TRUE)))","v":""},{"$f":"IF($B21=\"\",\"\",_xlfn.XLOOKUP($B21,Carreras!$D:$D,Carreras!$A:$A,0,0,1))","v":""},{"$f":"IF($B21=\"\",\"\",IF($I21=0,0,_xlfn.XLOOKUP($I21,Puntos!A:A,Puntos!B:B,TRUE)))","v":""},{"$f":"IF($B21=\"\",\"\",_xlfn.XLOOKUP($B21,Carreras!$E:$E,Carreras!$A:$A,0,0,1))","v":""},{"$f":"IF($B21=\"\",\"\",IF($K21=0,0,_xlfn.XLOOKUP($K21,Puntos!$A:$A,Puntos!$B:$B)))","v":""},{"$f":"IF($B21=\"\",\"\",_xlfn.XLOOKUP($B21,Carreras!F:F,Carreras!$A:$A,0,0,1))","v":""},{"$f":"IF($B21=\"\",\"\",IF($M21=0,0,_xlfn.XLOOKUP(M21,Puntos!A:A,Puntos!B:B,TRUE)))","v":""},{"$f":"IF($B21=\"\",\"\",_xlfn.XLOOKUP($B21,Carreras!$G:$G,Carreras!$A:$A,0,0,1))","v":""},{"$f":"IF($B21=\"\",\"\",IF($O21=0,0,_xlfn.XLOOKUP($O21,Puntos!A:A,Puntos!B:B,TRUE)))","v":""},{"$f":"IF($B21=\"\",\"\",_xlfn.XLOOKUP($B21,Carreras!$H:$H,Carreras!$A:$A,0,0,1))","v":""},{"$f":"IF($B21=\"\",\"\",IF($Q21=0,0,_xlfn.XLOOKUP($Q21,Puntos!A:A,Puntos!B:B,TRUE)))","v":""},{"$f":"IF($B21=\"\",\"\",_xlfn.XLOOKUP($B21,Carreras!$I:$I,Carreras!$A:$A,0,0,1))","v":""},{"$f":"IF($B21=\"\",\"\",IF($S21=0,0,_xlfn.XLOOKUP($S21,Puntos!A:A,Puntos!B:B,TRUE)))","v":""},"",{"$f":"IF($B21=\"\",\"\",_xlfn.IFS(U21=0,0,U21=1,0,U21=2,50,U21=3,100,U21=4,150,U21=5,200,U21=6,250,U21=7,300,U21=8,350))","v":""},"",0]
[19,{"$f":"IF(Carreras!$K20=0,\"\",Carreras!$K20)","v":""},{"$f":"IF(B22=\"\",\"\",_xlfn.XLOOKUP(B22,Socios!A:A,Socios!B:B,FALSE,0,1))","v":""},{"$f":"IF(B22=\"\",\"\",_xlfn.XLOOKUP(B22,Socios!A:A,Socios!C:C,FALSE,0,1))","v":""},{"$f":"IF($B22=\"\",\"\",_xlfn.XLOOKUP($B22,Carreras!$B:$B,Carreras!$A:$A,0,0,1))","v":""},{"$f":"IF($B22=\"\",\"\",IF($E22=0,0,_xlfn.XLOOKUP($E22,Puntos!A:A,Puntos!B:B,TRUE)))","v":""},{"$f":"IF($B22=\"\",\"\",_xlfn.XLOOKUP($B22,Carreras!C:C,Carreras!A:A,0,0,1))","v":""},{"$f":"IF($B22=\"\",\"\",IF($G22=0,0,_xlfn.XLOOKUP($G22,Puntos!A:A,Puntos!B:B,TRUE)))","v":""},{"$f":"IF($B22=\"\",\"\",_xlfn.XLOOKUP($B22,Carreras!$D:$D,Carreras!$A:$A,0,0,1))","v":""},{"$f":"IF($B22=\"\",\"\",IF($I22=0,0,_xlfn.XLOOKUP($I22,Puntos!A:A,Puntos!B:B,TRUE)))","v":""},{"$f":"IF($B22=\"\",\"\",_xlfn.XLOOKUP($B22,Carreras!$E:$E,Carreras!$A:$A,0,0,1))","v":""},{"$f":"IF($B22=\"\",\"\",IF($K22=0,0,_xlfn.XLOOKUP($K22,Puntos!$A:$A,Puntos!$B:$B)))","v":""},{"$f":"IF($B22=\"\",\"\",_xlfn.XLOOKUP($B22,Carreras!F:F,Carreras!$A:$A,0,0,1))","v":""},{"$f":"IF($B22=\"\",\"\",IF($M22=0,0,_xlfn.XLOOKUP(M22,Puntos!A:A,Puntos!B:B,TRUE)))","v":""},{"$f":"IF($B22=\"\",\"\",_xlfn.XLOOKUP($B22,Carreras!$G:$G,Carreras!$A:$A,0,0,1))","v":""},{"$f":"IF($B22=\"\",\"\",IF($O22=0,0,_xlfn.XLOOKUP($O22,Puntos!A:A,Puntos!B:B,TRUE)))","v":""},{"$f":"IF($B22=\"\",\"\",_xlfn.XLOOKUP($B22,Carreras!$H:$H,Carreras!$A:$A,0,0,1))","v":""},{"$f":"IF($B22=\"\",\"\",IF($Q22=0,0,_xlfn.XLOOKUP($Q22,Puntos!A:A,Puntos!B:B,TRUE)))","v":""},{"$f":"IF($B22=\"\",\"\",_xlfn.XLOOKUP($B22,Carreras!$I:$I,Carreras!$A:$A,0,0,1))","v":""},{"$f":"IF($B22=\"\",\"\",IF($S22=0,0,_xlfn.XLOOKUP($S22,Puntos!A:A,Puntos!B:B,TRUE)))","v":""},"",{"$f":"IF($B22=\"\",\"\",_xlfn.IFS(U22=0,0,U22=1,0,U22=2,50,U22=3,100,U22=4,150,U22=5,200,U22=6,250,U22=7,300,U22=8,350))","v":""},"",0]
[20,{"$f":"IF(Carreras!$K21=0,\"\",Carreras!$K21)","v":""},{"$f":"IF(B23=\"\",\"\",_xlfn.XLOOKUP(B23,Socios!A:A,Socios!B:B,FALSE,0,1))","v":""},{"$f":"IF(B23=\"\",\"\",_xlfn.XLOOKUP(B23,Socios!A:A,Socios!C:C,FALSE,0,1))","v":""},{"$f":"IF($B23=\"\",\"\",_xlfn.XLOOKUP($B23,Carreras!$B:$B,Carreras!$A:$A,0,0,1))","v":""},{"$f":"IF($B23=\"\",\"\",IF($E23=0,0,_xlfn.XLOOKUP($E23,Puntos!A:A,Puntos!B:B,TRUE)))","v":""},{"$f":"IF($B23=\"\",\"\",_xlfn.XLOOKUP($B23,Carreras!C:C,Carreras!A:A,0,0,1))","v":""},{"$f":"IF($B23=\"\",\"\",IF($G23=0,0,_xlfn.XLOOKUP($G23,Puntos!A:A,Puntos!B:B,TRUE)))","v":""},{"$f":"IF($B23=\"\",\"\",_xlfn.XLOOKUP($B23,Carreras!$D:$D,Carreras!$A:$A,0,0,1))","v":""},{"$f":"IF($B23=\"\",\"\",IF($I23=0,0,_xlfn.XLOOKUP($I23,Puntos!A:A,Puntos!B:B,TRUE)))","v":""},{"$f":"IF($B23=\"\",\"\",_xlfn.XLOOKUP($B23,Carreras!$E:$E,Carreras!$A:$A,0,0,1))","v":""},{"$f":"IF($B23=\"\",\"\",IF($K23=0,0,_xlfn.XLOOKUP($K23,Puntos!$A:$A,Puntos!$B:$B)))","v":""},{"$f":"IF($B23=\"\",\"\",_xlfn.XLOOKUP($B23,Carreras!F:F,Carreras!$A:$A,0,0,1))","v":""},{"$f":"IF($B23=\"\",\"\",IF($M23=0,0,_xlfn.XLOOKUP(M23,Puntos!A:A,Puntos!B:B,TRUE)))","v":""},{"$f":"IF($B23=\"\",\"\",_xlfn.XLOOKUP($B23,Carreras!$G:$G,Carreras!$A:$A,0,0,1))","v":""},{"$f":"IF($B23=\"\",\"\",IF($O23=0,0,_xlfn.XLOOKUP($O23,Puntos!A:A,Puntos!B:B,TRUE)))","v":""},{"$f":"IF($B23=\"\",\"\",_xlfn.XLOOKUP($B23,Carreras!$H:$H,Carreras!$A:$A,0,0,1))","v":""},{"$f":"IF($B23=\"\",\"\",IF($Q23=0,0,_xlfn.XLOOKUP($Q23,Puntos!A:A,Puntos!B:B,TRUE)))","v":""},{"$f":"IF($B23=\"\",\"\",_xlfn.XLOOKUP($B23,Carreras!$I:$I,Carreras!$A:$A,0,0,1))","v":""},{"$f":"IF($B23=\"\",\"\",IF($S23=0,0,_xlfn.XLOOKUP($S23,Puntos!A:A,Puntos!B:B,TRUE)))","v":""},"",{"$f":"IF($B23=\"\",\"\",_xlfn.IFS(U23=0,0,U23=1,0,U23=2,50,U23=3,100,U23=4,150,U23=5,200,U23=6,250,U23=7,300,U23=8,350))","v":""},"",0]
[21,{"$f":"IF(Carreras!$K22=0,\"\",Carreras!$K22)","v":""},{"$f":"IF(B24=\"\",\"\",_xlfn.XLOOKUP(B24,Socios!A:A,Socios!B:B,FALSE,0,1))","v":""},{"$f":"IF(B24=\"\",\"\",_xlfn.XLOOKUP(B24,Socios!A:A,Socios!C:C,FALSE,0,1))","v":""},{"$f":"IF($B24=\"\",\"\",_xlfn.XLOOKUP($B24,Carreras!$B:$B,Carreras!$A:$A,0,0,1))","v":""},{"$f":"IF($B24=\"\",\"\",IF($E24=0,0,_xlfn.XLOOKUP($E24,Puntos!A:A,Puntos!B:B,TRUE)))","v":""},{"$f":"IF($B24=\"\",\"\",_xlfn.XLOOKUP($B24,Carreras!C:C,Carreras!A:A,0,0,1))","v":""},{"$f":"IF($B24=\"\",\"\",IF($G24=0,0,_xlfn.XLOOKUP($G24,Puntos!A:A,Puntos!B:B,TRUE)))","v":""},{"$f":"IF($B24=\"\",\"\",_xlfn.XLOOKUP($B24,Carreras!$D:$D,Carreras!$A:$A,0,0,1))","v":""},{"$f":"IF($B24=\"\",\"\",IF($I24=0,0,_xlfn.XLOOKUP($I24,Puntos!A:A,Puntos!B:B,TRUE)))","v":""},{"$f":"IF($B24=\"\",\"\",_xlfn.XLOOKUP($B24,Carreras!$E:$E,Carreras!$A:$A,0,0,1))","v":""},{"$f":"IF($B24=\"\",\"\",IF($K24=0,0,_xlfn.XLOOKUP($K24,Puntos!$A:$A,Puntos!$B:$B)))","v":""},{"$f":"IF($B24=\"\",\"\",_xlfn.XLOOKUP($B24,Carreras!F:F,Carreras!$A:$A,0,0,1))","v":""},{"$f":"IF($B24=\"\",\"\",IF($M24=0,0,_xlfn.XLOOKUP(M24,Puntos!A:A,Puntos!B:B,TRUE)))","v":""},{"$f":"IF($B24=\"\",\"\",_xlfn.XLOOKUP($B24,Carreras!$G:$G,Carreras!$A:$A,0,0,1))","v":""},{"$f":"IF($B24=\"\",\"\",IF($O24=0,0,_xlfn.XLOOKUP($O24,Puntos!A:A,Puntos!B:B,TRUE)))","v":""},{"$f":"IF($B24=\"\",\"\",_xlfn.XLOOKUP($B24,Carreras!$H:$H,Carreras!$A:$A,0,0,1))","v":""},{"$f":"IF($B24=\"\",\"\",IF($Q24=0,0,_xlfn.XLOOKUP($Q24,Puntos!A:A,Puntos!B:B,TRUE)))","v":""},{"$f":"IF($B24=\"\",\"\",_xlfn.XLOOKUP($B24,Carreras!$I:$I,Carreras!$A:$A,0,0,1))","v":""},{"$f":"IF($B24=\"\",\"\",IF($S24=0,0,_xlfn.XLOOKUP($S24,Puntos!A:A,Puntos!B:B,TRUE)))","v":""},"",{"$f":"IF($B24=\"\",\"\",_xlfn.IFS(U24=0,0,U24=1,0,U24=2,50,U24=3,100,U24=4,150,U24=5,200,U24=6,250,U24=7,300,U24=8,350))","v":""},"",0]
[22,{"$f":"IF(Carreras!$K23=0,\"\",Carreras!$K23)","v":""},{"$f":"IF(B25=\"\",\"\",_xlfn.XLOOKUP(B25,Socios!A:A,Socios!B:B,FALSE,0,1))","v":""},{"$f":"IF(B25=\"\",\"\",_xlfn.XLOOKUP(B25,Socios!A:A,Socios!C:C,FALSE,0,1))","v":""},{"$f":"IF($B25=\"\",\"\",_xlfn.XLOOKUP($B25,Carreras!$B:$B,Carreras!$A:$A,0,0,1))","v":""},{"$f":"IF($B25=\"\",\"\",IF($E25=0,0,_xlfn.XLOOKUP($E25,Puntos!A:A,Puntos!B:B,TRUE)))","v":""},{"$f":"IF($B25=\"\",\"\",_xlfn.XLOOKUP($B25,Carreras!C:C,Carreras!A:A,0,0,1))","v":""},{"$f":"IF($B25=\"\",\"\",IF($G25=0,0,_xlfn.XLOOKUP($G25,Puntos!A:A,Puntos!B:B,TRUE)))","v":""},{"$f":"IF($B25=\"\",\"\",_xlfn.XLOOKUP($B25,Carreras!$D:$D,Carreras!$A:$A,0,0,1))","v":""},{"$f":"IF($B25=\"\",\"\",IF($I25=0,0,_xlfn.XLOOKUP($I25,Puntos!A:A,Puntos!B:B,TRUE)))","v":""},{"$f":"IF($B25=\"\",\"\",_xlfn.XLOOKUP($B25,Carreras!$E:$E,Carreras!$A:$A,0,0,1))","v":""},{"$f":"IF($B25=\"\",\"\",IF($K25=0,0,_xlfn.XLOOKUP($K25,Puntos!$A:$A,Puntos!$B:$B)))","v":""},{"$f":"IF($B25=\"\",\"\",_xlfn.XLOOKUP($B25,Carreras!F:F,Carreras!$A:$A,0,0,1))","v":""},{"$f":"IF($B25=\"\",\"\",IF($M25=0,0,_xlfn.XLOOKUP(M25,Puntos!A:A,Puntos!B:B,TRUE)))","v":""},{"$f":"IF($B25=\"\",\"\",_xlfn.XLOOKUP($B25,Carreras!$G:$G,Carreras!$A:$A,0,0,1))","v":""},{"$f":"IF($B25=\"\",\"\",IF($O25=0,0,_xlfn.XLOOKUP($O25,Puntos!A:A,Puntos!B:B,TRUE)))","v":""},{"$f":"IF($B25=\"\",\"\",_xlfn.XLOOKUP($B25,Carreras!$H:$H,Carreras!$A:$A,0,0,1))","v":""},{"$f":"IF($B25=\"\",\"\",IF($Q25=0,0,_xlfn.XLOOKUP($Q25,Puntos!A:A,Puntos!B:B,TRUE)))","v":""},{"$f":"IF($B25=\"\",\"\",_xlfn.XLOOKUP($B25,Carreras!$I:$I,Carreras!$A:$A,0,0,1))","v":""},{"$f":"IF($B25=\"\",\"\",IF($S25=0,0,_xlfn.XLOOKUP($S25,Puntos!A:A,Puntos!B:B,TRUE)))","v":""},"",{"$f":"IF($B25=\"\",\"\",_xlfn.IFS(U25=0,0,U25=1,0,U25=2,50,U25=3,100,U25=4,150,U25=5,200,U25=6,250,U25=7,300,U25=8,350))","v":""},"",0]
[23,{"$f":"IF(Carreras!$K24=0,\"\",Carreras!$K24)","v":""},{"$f":"IF(B26=\"\",\"\",_xlfn.XLOOKUP(B26,Socios!A:A,Socios!B:B,FALSE,0,1))","v":""},{"$f":"IF(B26=\"\",\"\",_xlfn.XLOOKUP(B26,Socios!A:A,Socios!C:C,FALSE,0,1))","v":""},{"$f":"IF($B26=\"\",\"\",_xlfn.XLOOKUP($B26,Carreras!$B:$B,Carreras!$A:$A,0,0,1))","v":""},{"$f":"IF($B26=\"\",\"\",IF($E26=0,0,_xlfn.XLOOKUP($E26,Puntos!A:A,Puntos!B:B,TRUE)))","v":""},{"$f":"IF($B26=\"\",\"\",_xlfn.XLOOKUP($B26,Carreras!C:C,Carreras!A:A,0,0,1))","v":""},{"$f":"IF($B26=\"\",\"\",IF($G26=0,0,_xlfn.XLOOKUP($G26,Puntos!A:A,Puntos!B:B,TRUE)))","v":""},{"$f":"IF($B26=\"\",\"\",_xlfn.XLOOKUP($B26,Carreras!$D:$D,Carreras!$A:$A,0,0,1))","v":""},{"$f":"IF($B26=\"\",\"\",IF($I26=0,0,_xlfn.XLOOKUP($I26,Puntos!A:A,Puntos!B:B,TRUE)))","v":""},{"$f":"IF($B26=\"\",\"\",_xlfn.XLOOKUP($B26,Carreras!$E:$E,Carreras!$A:$A,0,0,1))","v":""},{"$f":"IF($B26=\"\",\"\",IF($K26=0,0,_xlfn.XLOOKUP($K26,Puntos!$A:$A,Puntos!$B:$B)))","v":""},{"$f":"IF($B26=\"\",\"\",_xlfn.XLOOKUP($B26,Carreras!F:F,Carreras!$A:$A,0,0,1))","v":""},{"$f":"IF($B26=\"\",\"\",IF($M26=0,0,_xlfn.XLOOKUP(M26,Puntos!A:A,Puntos!B:B,TRUE)))","v":""},{"$f":"IF($B26=\"\",\"\",_xlfn.XLOOKUP($B26,Carreras!$G:$G,Carreras!$A:$A,0,0,1))","v":""},{"$f":"IF($B26=\"\",\"\",IF($O26=0,0,_xlfn.XLOOKUP($O26,Puntos!A:A,Puntos!B:B,TRUE)))","v":""},{"$f":"IF($B26=\"\",\"\",_xlfn.XLOOKUP($B26,Carreras!$H:$H,Carreras!$A:$A,0,0,1))","v":""},{"$f":"IF($B26=\"\",\"\",IF($Q26=0,0,_xlfn.XLOOKUP($Q26,Puntos!A:A,Puntos!B:B,TRUE)))","v":""},{"$f":"IF($B26=\"\",\"\",_xlfn.XLOOKUP($B26,Carreras!$I:$I,Carreras!$A:$A,0,0,1))","v":""},{"$f":"IF($B26=\"\",\"\",IF($S26=0,0,_xlfn.XLOOKUP($S26,Puntos!A:A,Puntos!B:B,TRUE)))","v":""},"",{"$f":"IF($B26=\"\",\"\",_xlfn.IFS(U26=0,0,U26=1,0,U26=2,50,U26=3,100,U26=4,150,U26=5,200,U26=6,250,U26=7,300,U26=8,350))","v":""},"",0]
[24,{"$f":"IF(Carreras!$K25=0,\"\",Carreras!$K25)","v":""},{"$f":"IF(B27=\"\",\"\",_xlfn.XLOOKUP(B27,Socios!A:A,Socios!B:B,FALSE,0,1))","v":""},{"$f":"IF(B27=\"\",\"\",_xlfn.XLOOKUP(B27,Socios!A:A,Socios!C:C,FALSE,0,1))","v":""},{"$f":"IF($B27=\"\",\"\",_xlfn.XLOOKUP($B27,Carreras!$B:$B,Carreras!$A:$A,0,0,1))","v":""},{"$f":"IF($B27=\"\",\"\",IF($E27=0,0,_xlfn.XLOOKUP($E27,Puntos!A:A,Puntos!B:B,TRUE)))","v":""},{"$f":"IF($B27=\"\",\"\",_xlfn.XLOOKUP($B27,Carreras!C:C,Carreras!A:A,0,0,1))","v":""},{"$f":"IF($B27=\"\",\"\",IF($G27=0,0,_xlfn.XLOOKUP($G27,Puntos!A:A,Puntos!B:B,TRUE)))","v":""},{"$f":"IF($B27=\"\",\"\",_xlfn.XLOOKUP($B27,Carreras!$D:$D,Carreras!$A:$A,0,0,1))","v":""},{"$f":"IF($B27=\"\",\"\",IF($I27=0,0,_xlfn.XLOOKUP($I27,Puntos!A:A,Puntos!B:B,TRUE)))","v":""},{"$f":"IF($B27=\"\",\"\",_xlfn.XLOOKUP($B27,Carreras!$E:$E,Carreras!$A:$A,0,0,1))","v":""},{"$f":"IF($B27=\"\",\"\",IF($K27=0,0,_xlfn.XLOOKUP($K27,Puntos!$A:$A,Puntos!$B:$B)))","v":""},{"$f":"IF($B27=\"\",\"\",_xlfn.XLOOKUP($B27,Carreras!F:F,Carreras!$A:$A,0,0,1))","v":""},{"$f":"IF($B27=\"\",\"\",IF($M27=0,0,_xlfn.XLOOKUP(M27,Puntos!A:A,Puntos!B:B,TRUE)))","v":""},{"$f":"IF($B27=\"\",\"\",_xlfn.XLOOKUP($B27,Carreras!$G:$G,Carreras!$A:$A,0,0,1))","v":""},{"$f":"IF($B27=\"\",\"\",IF($O27=0,0,_xlfn.XLOOKUP($O27,Puntos!A:A,Puntos!B:B,TRUE)))","v":""},{"$f":"IF($B27=\"\",\"\",_xlfn.XLOOKUP($B27,Carreras!$H:$H,Carreras!$A:$A,0,0,1))","v":""},{"$f":"IF($B27=\"\",\"\",IF($Q27=0,0,_xlfn.XLOOKUP($Q27,Puntos!A:A,Puntos!B:B,TRUE)))","v":""},{"$f":"IF($B27=\"\",\"\",_xlfn.XLOOKUP($B27,Carreras!$I:$I,Carreras!$A:$A,0,0,1))","v":""},{"$f":"IF($B27=\"\",\"\",IF($S27=0,0,_xlfn.XLOOKUP($S27,Puntos!A:A,Puntos!B:B,TRUE)))","v":""},"",{"$f":"IF($B27=\"\",\"\",_xlfn.IFS(U27=0,0,U27=1,0,U27=2,50,U27=3,100,U27=4,150,U27=5,200,U27=6,250,U27=7,300,U27=8,350))","v":""},"",0]
[25,{"$f":"IF(Carreras!$K26=0,\"\",Carreras!$K26)","v":""},{"$f":"IF(B28=\"\",\"\",_xlfn.XLOOKUP(B28,Socios!A:A,Socios!B:B,FALSE,0,1))","v":""},{"$f":"IF(B28=\"\",\"\",_xlfn.XLOOKUP(B28,Socios!A:A,Socios!C:C,FALSE,0,1))","v":""},{"$f":"IF($B28=\"\",\"\",_xlfn.XLOOKUP($B28,Carreras!$B:$B,Carreras!$A:$A,0,0,1))","v":""},{"$f":"IF($B28=\"\",\"\",IF($E28=0,0,_xlfn.XLOOKUP($E28,Puntos!A:A,Puntos!B:B,TRUE)))","v":""},{"$f":"IF($B28=\"\",\"\",_xlfn.XLOOKUP($B28,Carreras!C:C,Carreras!A:A,0,0,1))","v":""},{"$f":"IF($B28=\"\",\"\",IF($G28=0,0,_xlfn.XLOOKUP($G28,Puntos!A:A,Puntos!B:B,TRUE)))","v":""},{"$f":"IF($B28=\"\",\"\",_xlfn.XLOOKUP($B28,Carreras!$D:$D,Carreras!$A:$A,0,0,1))","v":""},{"$f":"IF($B28=\"\",\"\",IF($I28=0,0,_xlfn.XLOOKUP($I28,Puntos!A:A,Puntos!B:B,TRUE)))","v":""},{"$f":"IF($B28=\"\",\"\",_xlfn.XLOOKUP($B28,Carreras!$E:$E,Carreras!$A:$A,0,0,1))","v":""},{"$f":"IF($B28=\"\",\"\",IF($K28=0,0,_xlfn.XLOOKUP($K28,Puntos!$A:$A,Puntos!$B:$B)))","v":""},{"$f":"IF($B28=\"\",\"\",_xlfn.XLOOKUP($B28,Carreras!F:F,Carreras!$A:$A,0,0,1))","v":""},{"$f":"IF($B28=\"\",\"\",IF($M28=0,0,_xlfn.XLOOKUP(M28,Puntos!A:A,Puntos!B:B,TRUE)))","v":""},{"$f":"IF($B28=\"\",\"\",_xlfn.XLOOKUP($B28,Carreras!$G:$G,Carreras!$A:$A,0,0,1))","v":""},{"$f":"IF($B28=\"\",\"\",IF($O28=0,0,_xlfn.XLOOKUP($O28,Puntos!A:A,Puntos!B:B,TRUE)))","v":""},{"$f":"IF($B28=\"\",\"\",_xlfn.XLOOKUP($B28,Carreras!$H:$H,Carreras!$A:$A,0,0,1))","v":""},{"$f":"IF($B28=\"\",\"\",IF($Q28=0,0,_xlfn.XLOOKUP($Q28,Puntos!A:A,Puntos!B:B,TRUE)))","v":""},{"$f":"IF($B28=\"\",\"\",_xlfn.XLOOKUP($B28,Carreras!$I:$I,Carreras!$A:$A,0,0,1))","v":""},{"$f":"IF($B28=\"\",\"\",IF($S28=0,0,_xlfn.XLOOKUP($S28,Puntos!A:A,Puntos!B:B,TRUE)))","v":""},"",{"$f":"IF($B28=\"\",\"\",_xlfn.IFS(U28=0,0,U28=1,0,U28=2,50,U28=3,100,U28=4,150,U28=5,200,U28=6,250,U28=7,300,U28=8,350))","v":""},"",0]
[26,{"$f":"IF(Carreras!$K27=0,\"\",Carreras!$K27)","v":""},{"$f":"IF(B29=\"\",\"\",_xlfn.XLOOKUP(B29,Socios!A:A,Socios!B:B,FALSE,0,1))","v":""},{"$f":"IF(B29=\"\",\"\",_xlfn.XLOOKUP(B29,Socios!A:A,Socios!C:C,FALSE,0,1))","v":""},{"$f":"IF($B29=\"\",\"\",_xlfn.XLOOKUP($B29,Carreras!$B:$B,Carreras!$A:$A,0,0,1))","v":""},{"$f":"IF($B29=\"\",\"\",IF($E29=0,0,_xlfn.XLOOKUP($E29,Puntos!A:A,Puntos!B:B,TRUE)))","v":""},{"$f":"IF($B29=\"\",\"\",_xlfn.XLOOKUP($B29,Carreras!C:C,Carreras!A:A,0,0,1))","v":""},{"$f":"IF($B29=\"\",\"\",IF($G29=0,0,_xlfn.XLOOKUP($G29,Puntos!A:A,Puntos!B:B,TRUE)))","v":""},{"$f":"IF($B29=\"\",\"\",_xlfn.XLOOKUP($B29,Carreras!$D:$D,Carreras!$A:$A,0,0,1))","v":""},{"$f":"IF($B29=\"\",\"\",IF($I29=0,0,_xlfn.XLOOKUP($I29,Puntos!A:A,Puntos!B:B,TRUE)))","v":""},{"$f":"IF($B29=\"\",\"\",_xlfn.XLOOKUP($B29,Carreras!$E:$E,Carreras!$A:$A,0,0,1))","v":""},{"$f":"IF($B29=\"\",\"\",IF($K29=0,0,_xlfn.XLOOKUP($K29,Puntos!$A:$A,Puntos!$B:$B)))","v":""},{"$f":"IF($B29=\"\",\"\",_xlfn.XLOOKUP($B29,Carreras!F:F,Carreras!$A:$A,0,0,1))","v":""},{"$f":"IF($B29=\"\",\"\",IF($M29=0,0,_xlfn.XLOOKUP(M29,Puntos!A:A,Puntos!B:B,TRUE)))","v":""},{"$f":"IF($B29=\"\",\"\",_xlfn.XLOOKUP($B29,Carreras!$G:$G,Carreras!$A:$A,0,0,1))","v":""},{"$f":"IF($B29=\"\",\"\",IF($O29=0,0,_xlfn.XLOOKUP($O29,Puntos!A:A,Puntos!B:B,TRUE)))","v":""},{"$f":"IF($B29=\"\",\"\",_xlfn.XLOOKUP($B29,Carreras!$H:$H,Carreras!$A:$A,0,0,1))","v":""},{"$f":"IF($B29=\"\",\"\",IF($Q29=0,0,_xlfn.XLOOKUP($Q29,Puntos!A:A,Puntos!B:B,TRUE)))","v":""},{"$f":"IF($B29=\"\",\"\",_xlfn.XLOOKUP($B29,Carreras!$I:$I,Carreras!$A:$A,0,0,1))","v":""},{"$f":"IF($B29=\"\",\"\",IF($S29=0,0,_xlfn.XLOOKUP($S29,Puntos!A:A,Puntos!B:B,TRUE)))","v":""},"",{"$f":"IF($B29=\"\",\"\",_xlfn.IFS(U29=0,0,U29=1,0,U29=2,50,U29=3,100,U29=4,150,U29=5,200,U29=6,250,U29=7,300,U29=8,350))","v":""},"",0]
[27,{"$f":"IF(Carreras!$K28=0,\"\",Carreras!$K28)","v":""},{"$f":"IF(B30=\"\",\"\",_xlfn.XLOOKUP(B30,Socios!A:A,Socios!B:B,FALSE,0,1))","v":""},{"$f":"IF(B30=\"\",\"\",_xlfn.XLOOKUP(B30,Socios!A:A,Socios!C:C,FALSE,0,1))","v":""},{"$f":"IF($B30=\"\",\"\",_xlfn.XLOOKUP($B30,Carreras!$B:$B,Carreras!$A:$A,0,0,1))","v":""},{"$f":"IF($B30=\"\",\"\",IF($E30=0,0,_xlfn.XLOOKUP($E30,Puntos!A:A,Puntos!B:B,TRUE)))","v":""},{"$f":"IF($B30=\"\",\"\",_xlfn.XLOOKUP($B30,Carreras!C:C,Carreras!A:A,0,0,1))","v":""},{"$f":"IF($B30=\"\",\"\",IF($G30=0,0,_xlfn.XLOOKUP($G30,Puntos!A:A,Puntos!B:B,TRUE)))","v":""},{"$f":"IF($B30=\"\",\"\",_xlfn.XLOOKUP($B30,Carreras!$D:$D,Carreras!$A:$A,0,0,1))","v":""},{"$f":"IF($B30=\"\",\"\",IF($I30=0,0,_xlfn.XLOOKUP($I30,Puntos!A:A,Puntos!B:B,TRUE)))","v":""},{"$f":"IF($B30=\"\",\"\",_xlfn.XLOOKUP($B30,Carreras!$E:$E,Carreras!$A:$A,0,0,1))","v":""},{"$f":"IF($B30=\"\",\"\",IF($K30=0,0,_xlfn.XLOOKUP($K30,Puntos!$A:$A,Puntos!$B:$B)))","v":""},{"$f":"IF($B30=\"\",\"\",_xlfn.XLOOKUP($B30,Carreras!F:F,Carreras!$A:$A,0,0,1))","v":""},{"$f":"IF($B30=\"\",\"\",IF($M30=0,0,_xlfn.XLOOKUP(M30,Puntos!A:A,Puntos!B:B,TRUE)))","v":""},{"$f":"IF($B30=\"\",\"\",_xlfn.XLOOKUP($B30,Carreras!$G:$G,Carreras!$A:$A,0,0,1))","v":""},{"$f":"IF($B30=\"\",\"\",IF($O30=0,0,_xlfn.XLOOKUP($O30,Puntos!A:A,Puntos!B:B,TRUE)))","v":""},{"$f":"IF($B30=\"\",\"\",_xlfn.XLOOKUP($B30,Carreras!$H:$H,Carreras!$A:$A,0,0,1))","v":""},{"$f":"IF($B30=\"\",\"\",IF($Q30=0,0,_xlfn.XLOOKUP($Q30,Puntos!A:A,Puntos!B:B,TRUE)))","v":""},{"$f":"IF($B30=\"\",\"\",_xlfn.XLOOKUP($B30,Carreras!$I:$I,Carreras!$A:$A,0,0,1))","v":""},{"$f":"IF($B30=\"\",\"\",IF($S30=0,0,_xlfn.XLOOKUP($S30,Puntos!A:A,Puntos!B:B,TRUE)))","v":""},"",{"$f":"IF($B30=\"\",\"\",_xlfn.IFS(U30=0,0,U30=1,0,U30=2,50,U30=3,100,U30=4,150,U30=5,200,U30=6,250,U30=7,300,U30=8,350))","v":""},"",0]
[28,{"$f":"IF(Carreras!$K29=0,\"\",Carreras!$K29)","v":""},{"$f":"IF(B31=\"\",\"\",_xlfn.XLOOKUP(B31,Socios!A:A,Socios!B:B,FALSE,0,1))","v":""},{"$f":"IF(B31=\"\",\"\",_xlfn.XLOOKUP(B31,Socios!A:A,Socios!C:C,FALSE,0,1))","v":""},{"$f":"IF($B31=\"\",\"\",_xlfn.XLOOKUP($B31,Carreras!$B:$B,Carreras!$A:$A,0,0,1))","v":""},{"$f":"IF($B31=\"\",\"\",IF($E31=0,0,_xlfn.XLOOKUP($E31,Puntos!A:A,Puntos!B:B,TRUE)))","v":""},{"$f":"IF($B31=\"\",\"\",_xlfn.XLOOKUP($B31,Carreras!C:C,Carreras!A:A,0,0,1))","v":""},{"$f":"IF($B31=\"\",\"\",IF($G31=0,0,_xlfn.XLOOKUP($G31,Puntos!A:A,Puntos!B:B,TRUE)))","v":""},{"$f":"IF($B31=\"\",\"\",_xlfn.XLOOKUP($B31,Carreras!$D:$D,Carreras!$A:$A,0,0,1))","v":""},{"$f":"IF($B31=\"\",\"\",IF($I31=0,0,_xlfn.XLOOKUP($I31,Puntos!A:A,Puntos!B:B,TRUE)))","v":""},{"$f":"IF($B31=\"\",\"\",_xlfn.XLOOKUP($B31,Carreras!$E:$E,Carreras!$A:$A,0,0,1))","v":""},{"$f":"IF($B31=\"\",\"\",IF($K31=0,0,_xlfn.XLOOKUP($K31,Puntos!$A:$A,Puntos!$B:$B)))","v":""},{"$f":"IF($B31=\"\",\"\",_xlfn.XLOOKUP($B31,Carreras!F:F,Carreras!$A:$A,0,0,1))","v":""},{"$f":"IF($B31=\"\",\"\",IF($M31=0,0,_xlfn.XLOOKUP(M31,Puntos!A:A,Puntos!B:B,TRUE)))","v":""},{"$f":"IF($B31=\"\",\"\",_xlfn.XLOOKUP($B31,Carreras!$G:$G,Carreras!$A:$A,0,0,1))","v":""},{"$f":"IF($B31=\"\",\"\",IF($O31=0,0,_xlfn.XLOOKUP($O31,Puntos!A:A,Puntos!B:B,TRUE)))","v":""},{"$f":"IF($B31=\"\",\"\",_xlfn.XLOOKUP($B31,Carreras!$H:$H,Carreras!$A:$A,0,0,1))","v":""},{"$f":"IF($B31=\"\",\"\",IF($Q31=0,0,_xlfn.XLOOKUP($Q31,Puntos!A:A,Puntos!B:B,TRUE)))","v":""},{"$f":"IF($B31=\"\",\"\",_xlfn.XLOOKUP($B31,Carreras!$I:$I,Carreras!$A:$A,0,0,1))","v":""},{"$f":"IF($B31=\"\",\"\",IF($S31=0,0,_xlfn.XLOOKUP($S31,Puntos!A:A,Puntos!B:B,TRUE)))","v":""},"",{"$f":"IF($B31=\"\",\"\",_xlfn.IFS(U31=0,0,U31=1,0,U31=2,50,U31=3,100,U31=4,150,U31=5,200,U31=6,250,U31=7,300,U31=8,350))","v":""},"",0]
[29,{"$f":"IF(Carreras!$K30=0,\"\",Carreras!$K30)","v":""},{"$f":"IF(B32=\"\",\"\",_xlfn.XLOOKUP(B32,Socios!A:A,Socios!B:B,FALSE,0,1))","v":""},{"$f":"IF(B32=\"\",\"\",_xlfn.XLOOKUP(B32,Socios!A:A,Socios!C:C,FALSE,0,1))","v":""},{"$f":"IF($B32=\"\",\"\",_xlfn.XLOOKUP($B32,Carreras!$B:$B,Carreras!$A:$A,0,0,1))","v":""},{"$f":"IF($B32=\"\",\"\",IF($E32=0,0,_xlfn.XLOOKUP($E32,Puntos!A:A,Puntos!B:B,TRUE)))","v":""},{"$f":"IF($B32=\"\",\"\",_xlfn.XLOOKUP($B32,Carreras!C:C,Carreras!A:A,0,0,1))","v":""},{"$f":"IF($B32=\"\",\"\",IF($G32=0,0,_xlfn.XLOOKUP($G32,Puntos!A:A,Puntos!B:B,TRUE)))","v":""},{"$f":"IF($B32=\"\",\"\",_xlfn.XLOOKUP($B32,Carreras!$D:$D,Carreras!$A:$A,0,0,1))","v":""},{"$f":"IF($B32=\"\",\"\",IF($I32=0,0,_xlfn.XLOOKUP($I32,Puntos!A:A,Puntos!B:B,TRUE)))","v":""},{"$f":"IF($B32=\"\",\"\",_xlfn.XLOOKUP($B32,Carreras!$E:$E,Carreras!$A:$A,0,0,1))","v":""},{"$f":"IF($B32=\"\",\"\",IF($K32=0,0,_xlfn.XLOOKUP($K32,Puntos!$A:$A,Puntos!$B:$B)))","v":""},{"$f":"IF($B32=\"\",\"\",_xlfn.XLOOKUP($B32,Carreras!F:F,Carreras!$A:$A,0,0,1))","v":""},{"$f":"IF($B32=\"\",\"\",IF($M32=0,0,_xlfn.XLOOKUP(M32,Puntos!A:A,Puntos!B:B,TRUE)))","v":""},{"$f":"IF($B32=\"\",\"\",_xlfn.XLOOKUP($B32,Carreras!$G:$G,Carreras!$A:$A,0,0,1))","v":""},{"$f":"IF($B32=\"\",\"\",IF($O32=0,0,_xlfn.XLOOKUP($O32,Puntos!A:A,Puntos!B:B,TRUE)))","v":""},{"$f":"IF($B32=\"\",\"\",_xlfn.XLOOKUP($B32,Carreras!$H:$H,Carreras!$A:$A,0,0,1))","v":""},{"$f":"IF($B32=\"\",\"\",IF($Q32=0,0,_xlfn.XLOOKUP($Q32,Puntos!A:A,Puntos!B:B,TRUE)))","v":""},{"$f":"IF($B32=\"\",\"\",_xlfn.XLOOKUP($B32,Carreras!$I:$I,Carreras!$A:$A,0,0,1))","v":""},{"$f":"IF($B32=\"\",\"\",IF($S32=0,0,_xlfn.XLOOKUP($S32,Puntos!A:A,Puntos!B:B,TRUE)))","v":""},"",{"$f":"IF($B32=\"\",\"\",_xlfn.IFS(U32=0,0,U32=1,0,U32=2,50,U32=3,100,U32=4,150,U32=5,200,U32=6,250,U32=7,300,U32=8,350))","v":""},"",0]
[30,{"$f":"IF(Carreras!$K31=0,\"\",Carreras!$K31)","v":""},{"$f":"IF(B33=\"\",\"\",_xlfn.XLOOKUP(B33,Socios!A:A,Socios!B:B,FALSE,0,1))","v":""},{"$f":"IF(B33=\"\",\"\",_xlfn.XLOOKUP(B33,Socios!A:A,Socios!C:C,FALSE,0,1))","v":""},{"$f":"IF($B33=\"\",\"\",_xlfn.XLOOKUP($B33,Carreras!$B:$B,Carreras!$A:$A,0,0,1))","v":""},{"$f":"IF($B33=\"\",\"\",IF($E33=0,0,_xlfn.XLOOKUP($E33,Puntos!A:A,Puntos!B:B,TRUE)))","v":""},{"$f":"IF($B33=\"\",\"\",_xlfn.XLOOKUP($B33,Carreras!C:C,Carreras!A:A,0,0,1))","v":""},{"$f":"IF($B33=\"\",\"\",IF($G33=0,0,_xlfn.XLOOKUP($G33,Puntos!A:A,Puntos!B:B,TRUE)))","v":""},{"$f":"IF($B33=\"\",\"\",_xlfn.XLOOKUP($B33,Carreras!$D:$D,Carreras!$A:$A,0,0,1))","v":""},{"$f":"IF($B33=\"\",\"\",IF($I33=0,0,_xlfn.XLOOKUP($I33,Puntos!A:A,Puntos!B:B,TRUE)))","v":""},{"$f":"IF($B33=\"\",\"\",_xlfn.XLOOKUP($B33,Carreras!$E:$E,Carreras!$A:$A,0,0,1))","v":""},{"$f":"IF($B33=\"\",\"\",IF($K33=0,0,_xlfn.XLOOKUP($K33,Puntos!$A:$A,Puntos!$B:$B)))","v":""},{"$f":"IF($B33=\"\",\"\",_xlfn.XLOOKUP($B33,Carreras!F:F,Carreras!$A:$A,0,0,1))","v":""},{"$f":"IF($B33=\"\",\"\",IF($M33=0,0,_xlfn.XLOOKUP(M33,Puntos!A:A,Puntos!B:B,TRUE)))","v":""},{"$f":"IF($B33=\"\",\"\",_xlfn.XLOOKUP($B33,Carreras!$G:$G,Carreras!$A:$A,0,0,1))","v":""},{"$f":"IF($B33=\"\",\"\",IF($O33=0,0,_xlfn.XLOOKUP($O33,Puntos!A:A,Puntos!B:B,TRUE)))","v":""},{"$f":"IF($B33=\"\",\"\",_xlfn.XLOOKUP($B33,Carreras!$H:$H,Carreras!$A:$A,0,0,1))","v":""},{"$f":"IF($B33=\"\",\"\",IF($Q33=0,0,_xlfn.XLOOKUP($Q33,Puntos!A:A,Puntos!B:B,TRUE)))","v":""},{"$f":"IF($B33=\"\",\"\",_xlfn.XLOOKUP($B33,Carreras!$I:$I,Carreras!$A:$A,0,0,1))","v":""},{"$f":"IF($B33=\"\",\"\",IF($S33=0,0,_xlfn.XLOOKUP($S33,Puntos!A:A,Puntos!B:B,TRUE)))","v":""},"",{"$f":"IF($B33=\"\",\"\",_xlfn.IFS(U33=0,0,U33=1,0,U33=2,50,U33=3,100,U33=4,150,U33=5,200,U33=6,250,U33=7,300,U33=8,350))","v":""},"",0]
[31,{"$f":"IF(Carreras!$K32=0,\"\",Carreras!$K32)","v":""},{"$f":"IF(B34=\"\",\"\",_xlfn.XLOOKUP(B34,Socios!A:A,Socios!B:B,FALSE,0,1))","v":""},{"$f":"IF(B34=\"\",\"\",_xlfn.XLOOKUP(B34,Socios!A:A,Socios!C:C,FALSE,0,1))","v":""},{"$f":"IF($B34=\"\",\"\",_xlfn.XLOOKUP($B34,Carreras!$B:$B,Carreras!$A:$A,0,0,1))","v":""},{"$f":"IF($B34=\"\",\"\",IF($E34=0,0,_xlfn.XLOOKUP($E34,Puntos!A:A,Puntos!B:B,TRUE)))","v":""},{"$f":"IF($B34=\"\",\"\",_xlfn.XLOOKUP($B34,Carreras!C:C,Carreras!A:A,0,0,1))","v":""},{"$f":"IF($B34=\"\",\"\",IF($G34=0,0,_xlfn.XLOOKUP($G34,Puntos!A:A,Puntos!B:B,TRUE)))","v":""},{"$f":"IF($B34=\"\",\"\",_xlfn.XLOOKUP($B34,Carreras!$D:$D,Carreras!$A:$A,0,0,1))","v":""},{"$f":"IF($B34=\"\",\"\",IF($I34=0,0,_xlfn.XLOOKUP($I34,Puntos!A:A,Puntos!B:B,TRUE)))","v":""},{"$f":"IF($B34=\"\",\"\",_xlfn.XLOOKUP($B34,Carreras!$E:$E,Carreras!$A:$A,0,0,1))","v":""},{"$f":"IF($B34=\"\",\"\",IF($K34=0,0,_xlfn.XLOOKUP($K34,Puntos!$A:$A,Puntos!$B:$B)))","v":""},{"$f":"IF($B34=\"\",\"\",_xlfn.XLOOKUP($B34,Carreras!F:F,Carreras!$A:$A,0,0,1))","v":""},{"$f":"IF($B34=\"\",\"\",IF($M34=0,0,_xlfn.XLOOKUP(M34,Puntos!A:A,Puntos!B:B,TRUE)))","v":""},{"$f":"IF($B34=\"\",\"\",_xlfn.XLOOKUP($B34,Carreras!$G:$G,Carreras!$A:$A,0,0,1))","v":""},{"$f":"IF($B34=\"\",\"\",IF($O34=0,0,_xlfn.XLOOKUP($O34,Puntos!A:A,Puntos!B:B,TRUE)))","v":""},{"$f":"IF($B34=\"\",\"\",_xlfn.XLOOKUP($B34,Carreras!$H:$H,Carreras!$A:$A,0,0,1))","v":""},{"$f":"IF($B34=\"\",\"\",IF($Q34=0,0,_xlfn.XLOOKUP($Q34,Puntos!A:A,Puntos!B:B,TRUE)))","v":""},{"$f":"IF($B34=\"\",\"\",_xlfn.XLOOKUP($B34,Carreras!$I:$I,Carreras!$A:$A,0,0,1))","v":""},{"$f":"IF($B34=\"\",\"\",IF($S34=0,0,_xlfn.XLOOKUP($S34,Puntos!A:A,Puntos!B:B,TRUE)))","v":""},"",{"$f":"IF($B34=\"\",\"\",_xlfn.IFS(U34=0,0,U34=1,0,U34=2,50,U34=3,100,U34=4,150,U34=5,200,U34=6,250,U34=7,300,U34=8,350))","v":""},"",0]
[32,{"$f":"IF(Carreras!$K33=0,\"\",Carreras!$K33)","v":""},{"$f":"IF(B35=\"\",\"\",_xlfn.XLOOKUP(B35,Socios!A:A,Socios!B:B,FALSE,0,1))","v":""},{"$f":"IF(B35=\"\",\"\",_xlfn.XLOOKUP(B35,Socios!A:A,Socios!C:C,FALSE,0,1))","v":""},{"$f":"IF($B35=\"\",\"\",_xlfn.XLOOKUP($B35,Carreras!$B:$B,Carreras!$A:$A,0,0,1))","v":""},{"$f":"IF($B35=\"\",\"\",IF($E35=0,0,_xlfn.XLOOKUP($E35,Puntos!A:A,Puntos!B:B,TRUE)))","v":""},{"$f":"IF($B35=\"\",\"\",_xlfn.XLOOKUP($B35,Carreras!C:C,Carreras!A:A,0,0,1))","v":""},{"$f":"IF($B35=\"\",\"\",IF($G35=0,0,_xlfn.XLOOKUP($G35,Puntos!A:A,Puntos!B:B,TRUE)))","v":""},{"$f":"IF($B35=\"\",\"\",_xlfn.XLOOKUP($B35,Carreras!$D:$D,Carreras!$A:$A,0,0,1))","v":""},{"$f":"IF($B35=\"\",\"\",IF($I35=0,0,_xlfn.XLOOKUP($I35,Puntos!A:A,Puntos!B:B,TRUE)))","v":""},{"$f":"IF($B35=\"\",\"\",_xlfn.XLOOKUP($B35,Carreras!$E:$E,Carreras!$A:$A,0,0,1))","v":""},{"$f":"IF($B35=\"\",\"\",IF($K35=0,0,_xlfn.XLOOKUP($K35,Puntos!$A:$A,Puntos!$B:$B)))","v":""},{"$f":"IF($B35=\"\",\"\",_xlfn.XLOOKUP($B35,Carreras!F:F,Carreras!$A:$A,0,0,1))","v":""},{"$f":"IF($B35=\"\",\"\",IF($M35=0,0,_xlfn.XLOOKUP(M35,Puntos!A:A,Puntos!B:B,TRUE)))","v":""},{"$f":"IF($B35=\"\",\"\",_xlfn.XLOOKUP($B35,Carreras!$G:$G,Carreras!$A:$A,0,0,1))","v":""},{"$f":"IF($B35=\"\",\"\",IF($O35=0,0,_xlfn.XLOOKUP($O35,Puntos!A:A,Puntos!B:B,TRUE)))","v":""},{"$f":"IF($B35=\"\",\"\",_xlfn.XLOOKUP($B35,Carreras!$H:$H,Carreras!$A:$A,0,0,1))","v":""},{"$f":"IF($B35=\"\",\"\",IF($Q35=0,0,_xlfn.XLOOKUP($Q35,Puntos!A:A,Puntos!B:B,TRUE)))","v":""},{"$f":"IF($B35=\"\",\"\",_xlfn.XLOOKUP($B35,Carreras!$I:$I,Carreras!$A:$A,0,0,1))","v":""},{"$f":"IF($B35=\"\",\"\",IF($S35=0,0,_xlfn.XLOOKUP($S35,Puntos!A:A,Puntos!B:B,TRUE)))","v":""},"",{"$f":"IF($B35=\"\",\"\",_xlfn.IFS(U35=0,0,U35=1,0,U35=2,50,U35=3,100,U35=4,150,U35=5,200,U35=6,250,U35=7,300,U35=8,350))","v":""},"",0]
[33,{"$f":"IF(Carreras!$K34=0,\"\",Carreras!$K34)","v":""},{"$f":"IF(B36=\"\",\"\",_xlfn.XLOOKUP(B36,Socios!A:A,Socios!B:B,FALSE,0,1))","v":""},{"$f":"IF(B36=\"\",\"\",_xlfn.XLOOKUP(B36,Socios!A:A,Socios!C:C,FALSE,0,1))","v":""},{"$f":"IF($B36=\"\",\"\",_xlfn.XLOOKUP($B36,Carreras!$B:$B,Carreras!$A:$A,0,0,1))","v":""},{"$f":"IF($B36=\"\",\"\",IF($E36=0,0,_xlfn.XLOOKUP($E36,Puntos!A:A,Puntos!B:B,TRUE)))","v":""},{"$f":"IF($B36=\"\",\"\",_xlfn.XLOOKUP($B36,Carreras!C:C,Carreras!A:A,0,0,1))","v":""},{"$f":"IF($B36=\"\",\"\",IF($G36=0,0,_xlfn.XLOOKUP($G36,Puntos!A:A,Puntos!B:B,TRUE)))","v":""},{"$f":"IF($B36=\"\",\"\",_xlfn.XLOOKUP($B36,Carreras!$D:$D,Carreras!$A:$A,0,0,1))","v":""},{"$f":"IF($B36=\"\",\"\",IF($I36=0,0,_xlfn.XLOOKUP($I36,Puntos!A:A,Puntos!B:B,TRUE)))","v":""},{"$f":"IF($B36=\"\",\"\",_xlfn.XLOOKUP($B36,Carreras!$E:$E,Carreras!$A:$A,0,0,1))","v":""},{"$f":"IF($B36=\"\",\"\",IF($K36=0,0,_xlfn.XLOOKUP($K36,Puntos!$A:$A,Puntos!$B:$B)))","v":""},{"$f":"IF($B36=\"\",\"\",_xlfn.XLOOKUP($B36,Carreras!F:F,Carreras!$A:$A,0,0,1))","v":""},{"$f":"IF($B36=\"\",\"\",IF($M36=0,0,_xlfn.XLOOKUP(M36,Puntos!A:A,Puntos!B:B,TRUE)))","v":""},{"$f":"IF($B36=\"\",\"\",_xlfn.XLOOKUP($B36,Carreras!$G:$G,Carreras!$A:$A,0,0,1))","v":""},{"$f":"IF($B36=\"\",\"\",IF($O36=0,0,_xlfn.XLOOKUP($O36,Puntos!A:A,Puntos!B:B,TRUE)))","v":""},{"$f":"IF($B36=\"\",\"\",_xlfn.XLOOKUP($B36,Carreras!$H:$H,Carreras!$A:$A,0,0,1))","v":""},{"$f":"IF($B36=\"\",\"\",IF($Q36=0,0,_xlfn.XLOOKUP($Q36,Puntos!A:A,Puntos!B:B,TRUE)))","v":""},{"$f":"IF($B36=\"\",\"\",_xlfn.XLOOKUP($B36,Carreras!$I:$I,Carreras!$A:$A,0,0,1))","v":""},{"$f":"IF($B36=\"\",\"\",IF($S36=0,0,_xlfn.XLOOKUP($S36,Puntos!A:A,Puntos!B:B,TRUE)))","v":""},{"$f":"IF($B36=\"\",\"\",COUNTIF(F36,\">0\")+COUNTIF(H36,\">0\")+COUNTIF(J36,\">0\")+COUNTIF(L36,\">0\")+COUNTIF(N36,\">0\")*COUNTIF(P36,\">0\")+COUNTIF(R36,\">0\")+COUNTIF(T36,\"\">0))","v":""},{"$f":"IF($B36=\"\",\"\",_xlfn.IFS(U36=0,0,U36=1,0,U36=2,50,U36=3,100,U36=4,150,U36=5,200,U36=6,250,U36=7,300,U36=8,350))","v":""},{"$f":"IF(B36=\"\",\"\",F36+H36+J36+L36+P36+N36+R36+T36+V36)","v":""},{"$f":"IF(B36=\"\",0,W36-MIN(F36,H36,J36,L36,N36,P36,R36,T36))","v":0}]
[34,{"$f":"IF(Carreras!$K35=0,\"\",Carreras!$K35)","v":""},{"$f":"IF(B37=\"\",\"\",_xlfn.XLOOKUP(B37,Socios!A:A,Socios!B:B,FALSE,0,1))","v":""},{"$f":"IF(B37=\"\",\"\",_xlfn.XLOOKUP(B37,Socios!A:A,Socios!C:C,FALSE,0,1))","v":""},{"$f":"IF($B37=\"\",\"\",_xlfn.XLOOKUP($B37,Carreras!$B:$B,Carreras!$A:$A,0,0,1))","v":""},{"$f":"IF($B37=\"\",\"\",IF($E37=0,0,_xlfn.XLOOKUP($E37,Puntos!A:A,Puntos!B:B,TRUE)))","v":""},{"$f":"IF($B37=\"\",\"\",_xlfn.XLOOKUP($B37,Carreras!C:C,Carreras!A:A,0,0,1))","v":""},{"$f":"IF($B37=\"\",\"\",IF($G37=0,0,_xlfn.XLOOKUP($G37,Puntos!A:A,Puntos!B:B,TRUE)))","v":""},{"$f":"IF($B37=\"\",\"\",_xlfn.XLOOKUP($B37,Carreras!$D:$D,Carreras!$A:$A,0,0,1))","v":""},{"$f":"IF($B37=\"\",\"\",IF($I37=0,0,_xlfn.XLOOKUP($I37,Puntos!A:A,Puntos!B:B,TRUE)))","v":""},{"$f":"IF($B37=\"\",\"\",_xlfn.XLOOKUP($B37,Carreras!$E:$E,Carreras!$A:$A,0,0,1))","v":""},{"$f":"IF($B37=\"\",\"\",IF($K37=0,0,_xlfn.XLOOKUP($K37,Puntos!$A:$A,Puntos!$B:$B)))","v":""},{"$f":"IF($B37=\"\",\"\",_xlfn.XLOOKUP($B37,Carreras!F:F,Carreras!$A:$A,0,0,1))","v":""},{"$f":"IF($B37=\"\",\"\",IF($M37=0,0,_xlfn.XLOOKUP(M37,Puntos!A:A,Puntos!B:B,TRUE)))","v":""},{"$f":"IF($B37=\"\",\"\",_xlfn.XLOOKUP($B37,Carreras!$G:$G,Carreras!$A:$A,0,0,1))","v":""},{"$f":"IF($B37=\"\",\"\",IF($O37=0,0,_xlfn.XLOOKUP($O37,Puntos!A:A,Puntos!B:B,TRUE)))","v":""},{"$f":"IF($B37=\"\",\"\",_xlfn.XLOOKUP($B37,Carreras!$H:$H,Carreras!$A:$A,0,0,1))","v":""},{"$f":"IF($B37=\"\",\"\",IF($Q37=0,0,_xlfn.XLOOKUP($Q37,Puntos!A:A,Puntos!B:B,TRUE)))","v":""},{"$f":"IF($B37=\"\",\"\",_xlfn.XLOOKUP($B37,Carreras!$I:$I,Carreras!$A:$A,0,0,1))","v":""},{"$f":"IF($B37=\"\",\"\",IF($S37=0,0,_xlfn.XLOOKUP($S37,Puntos!A:A,Puntos!B:B,TRUE)))","v":""},"",{"$f":"IF($B37=\"\",\"\",_xlfn.IFS(U37=0,0,U37=1,0,U37=2,50,U37=3,100,U37=4,150,U37=5,200,U37=6,250,U37=7,300,U37=8,350))","v":""},"",0]
[35,{"$f":"IF(Carreras!$K36=0,\"\",Carreras!$K36)","v":""},{"$f":"IF(B38=\"\",\"\",_xlfn.XLOOKUP(B38,Socios!A:A,Socios!B:B,FALSE,0,1))","v":""},{"$f":"IF(B38=\"\",\"\",_xlfn.XLOOKUP(B38,Socios!A:A,Socios!C:C,FALSE,0,1))","v":""},{"$f":"IF($B38=\"\",\"\",_xlfn.XLOOKUP($B38,Carreras!$B:$B,Carreras!$A:$A,0,0,1))","v":""},{"$f":"IF($B38=\"\",\"\",IF($E38=0,0,_xlfn.XLOOKUP($E38,Puntos!A:A,Puntos!B:B,TRUE)))","v":""},{"$f":"IF($B38=\"\",\"\",_xlfn.XLOOKUP($B38,Carreras!C:C,Carreras!A:A,0,0,1))","v":""},{"$f":"IF($B38=\"\",\"\",IF($G38=0,0,_xlfn.XLOOKUP($G38,Puntos!A:A,Puntos!B:B,TRUE)))","v":""},{"$f":"IF($B38=\"\",\"\",_xlfn.XLOOKUP($B38,Carreras!$D:$D,Carreras!$A:$A,0,0,1))","v":""},{"$f":"IF($B38=\"\",\"\",IF($I38=0,0,_xlfn.XLOOKUP($I38,Puntos!A:A,Puntos!B:B,TRUE)))","v":""},{"$f":"IF($B38=\"\",\"\",_xlfn.XLOOKUP($B38,Carreras!$E:$E,Carreras!$A:$A,0,0,1))","v":""},{"$f":"IF($B38=\"\",\"\",IF($K38=0,0,_xlfn.XLOOKUP($K38,Puntos!$A:$A,Puntos!$B:$B)))","v":""},{"$f":"IF($B38=\"\",\"\",_xlfn.XLOOKUP($B38,Carreras!F:F,Carreras!$A:$A,0,0,1))","v":""},{"$f":"IF($B38=\"\",\"\",IF($M38=0,0,_xlfn.XLOOKUP(M38,Puntos!A:A,Puntos!B:B,TRUE)))","v":""},{"$f":"IF($B38=\"\",\"\",_xlfn.XLOOKUP($B38,Carreras!$G:$G,Carreras!$A:$A,0,0,1))","v":""},{"$f":"IF($B38=\"\",\"\",IF($O38=0,0,_xlfn.XLOOKUP($O38,Puntos!A:A,Puntos!B:B,TRUE)))","v":""},{"$f":"IF($B38=\"\",\"\",_xlfn.XLOOKUP($B38,Carreras!$H:$H,Carreras!$A:$A,0,0,1))","v":""},{"$f":"IF($B38=\"\",\"\",IF($Q38=0,0,_xlfn.XLOOKUP($Q38,Puntos!A:A,Puntos!B:B,TRUE)))","v":""},{"$f":"IF($B38=\"\",\"\",_xlfn.XLOOKUP($B38,Carreras!$I:$I,Carreras!$A:$A,0,0,1))","v":""},{"$f":"IF($B38=\"\",\"\",IF($S38=0,0,_xlfn.XLOOKUP($S38,Puntos!A:A,Puntos!B:B,TRUE)))","v":""},"",{"$f":"IF($B38=\"\",\"\",_xlfn.IFS(U38=0,0,U38=1,0,U38=2,50,U38=3,100,U38=4,150,U38=5,200,U38=6,250,U38=7,300,U38=8,350))","v":""},"",0]
[36,{"$f":"IF(Carreras!$K37=0,\"\",Carreras!$K37)","v":""},{"$f":"IF(B39=\"\",\"\",_xlfn.XLOOKUP(B39,Socios!A:A,Socios!B:B,FALSE,0,1))","v":""},{"$f":"IF(B39=\"\",\"\",_xlfn.XLOOKUP(B39,Socios!A:A,Socios!C:C,FALSE,0,1))","v":""},{"$f":"IF($B39=\"\",\"\",_xlfn.XLOOKUP($B39,Carreras!$B:$B,Carreras!$A:$A,0,0,1))","v":""},{"$f":"IF($B39=\"\",\"\",IF($E39=0,0,_xlfn.XLOOKUP($E39,Puntos!A:A,Puntos!B:B,TRUE)))","v":""},{"$f":"IF($B39=\"\",\"\",_xlfn.XLOOKUP($B39,Carreras!C:C,Carreras!A:A,0,0,1))","v":""},{"$f":"IF($B39=\"\",\"\",IF($G39=0,0,_xlfn.XLOOKUP($G39,Puntos!A:A,Puntos!B:B,TRUE)))","v":""},{"$f":"IF($B39=\"\",\"\",_xlfn.XLOOKUP($B39,Carreras!$D:$D,Carreras!$A:$A,0,0,1))","v":""},{"$f":"IF($B39=\"\",\"\",IF($I39=0,0,_xlfn.XLOOKUP($I39,Puntos!A:A,Puntos!B:B,TRUE)))","v":""},{"$f":"IF($B39=\"\",\"\",_xlfn.XLOOKUP($B39,Carreras!$E:$E,Carreras!$A:$A,0,0,1))","v":""},{"$f":"IF($B39=\"\",\"\",IF($K39=0,0,_xlfn.XLOOKUP($K39,Puntos!$A:$A,Puntos!$B:$B)))","v":""},{"$f":"IF($B39=\"\",\"\",_xlfn.XLOOKUP($B39,Carreras!F:F,Carreras!$A:$A,0,0,1))","v":""},{"$f":"IF($B39=\"\",\"\",IF($M39=0,0,_xlfn.XLOOKUP(M39,Puntos!A:A,Puntos!B:B,TRUE)))","v":""},{"$f":"IF($B39=\"\",\"\",_xlfn.XLOOKUP($B39,Carreras!$G:$G,Carreras!$A:$A,0,0,1))","v":""},{"$f":"IF($B39=\"\",\"\",IF($O39=0,0,_xlfn.XLOOKUP($O39,Puntos!A:A,Puntos!B:B,TRUE)))","v":""},{"$f":"IF($B39=\"\",\"\",_xlfn.XLOOKUP($B39,Carreras!$H:$H,Carreras!$A:$A,0,0,1))","v":""},{"$f":"IF($B39=\"\",\"\",IF($Q39=0,0,_xlfn.XLOOKUP($Q39,Puntos!A:A,Puntos!B:B,TRUE)))","v":""},{"$f":"IF($B39=\"\",\"\",_xlfn.XLOOKUP($B39,Carreras!$I:$I,Carreras!$A:$A,0,0,1))","v":""},{"$f":"IF($B39=\"\",\"\",IF($S39=0,0,_xlfn.XLOOKUP($S39,Puntos!A:A,Puntos!B:B,TRUE)))","v":""},"",{"$f":"IF($B39=\"\",\"\",_xlfn.IFS(U39=0,0,U39=1,0,U39=2,50,U39=3,100,U39=4,150,U39=5,200,U39=6,250,U39=7,300,U39=8,350))","v":""},"",0]
[37,{"$f":"IF(Carreras!$K38=0,\"\",Carreras!$K38)","v":""},{"$f":"IF(B40=\"\",\"\",_xlfn.XLOOKUP(B40,Socios!A:A,Socios!B:B,FALSE,0,1))","v":""},{"$f":"IF(B40=\"\",\"\",_xlfn.XLOOKUP(B40,Socios!A:A,Socios!C:C,FALSE,0,1))","v":""},{"$f":"IF($B40=\"\",\"\",_xlfn.XLOOKUP($B40,Carreras!$B:$B,Carreras!$A:$A,0,0,1))","v":""},{"$f":"IF($B40=\"\",\"\",IF($E40=0,0,_xlfn.XLOOKUP($E40,Puntos!A:A,Puntos!B:B,TRUE)))","v":""},{"$f":"IF($B40=\"\",\"\",_xlfn.XLOOKUP($B40,Carreras!C:C,Carreras!A:A,0,0,1))","v":""},{"$f":"IF($B40=\"\",\"\",IF($G40=0,0,_xlfn.XLOOKUP($G40,Puntos!A:A,Puntos!B:B,TRUE)))","v":""},{"$f":"IF($B40=\"\",\"\",_xlfn.XLOOKUP($B40,Carreras!$D:$D,Carreras!$A:$A,0,0,1))","v":""},{"$f":"IF($B40=\"\",\"\",IF($I40=0,0,_xlfn.XLOOKUP($I40,Puntos!A:A,Puntos!B:B,TRUE)))","v":""},{"$f":"IF($B40=\"\",\"\",_xlfn.XLOOKUP($B40,Carreras!$E:$E,Carreras!$A:$A,0,0,1))","v":""},{"$f":"IF($B40=\"\",\"\",IF($K40=0,0,_xlfn.XLOOKUP($K40,Puntos!$A:$A,Puntos!$B:$B)))","v":""},{"$f":"IF($B40=\"\",\"\",_xlfn.XLOOKUP($B40,Carreras!F:F,Carreras!$A:$A,0,0,1))","v":""},{"$f":"IF($B40=\"\",\"\",IF($M40=0,0,_xlfn.XLOOKUP(M40,Puntos!A:A,Puntos!B:B,TRUE)))","v":""},{"$f":"IF($B40=\"\",\"\",_xlfn.XLOOKUP($B40,Carreras!$G:$G,Carreras!$A:$A,0,0,1))","v":""},{"$f":"IF($B40=\"\",\"\",IF($O40=0,0,_xlfn.XLOOKUP($O40,Puntos!A:A,Puntos!B:B,TRUE)))","v":""},{"$f":"IF($B40=\"\",\"\",_xlfn.XLOOKUP($B40,Carreras!$H:$H,Carreras!$A:$A,0,0,1))","v":""},{"$f":"IF($B40=\"\",\"\",IF($Q40=0,0,_xlfn.XLOOKUP($Q40,Puntos!A:A,Puntos!B:B,TRUE)))","v":""},{"$f":"IF($B40=\"\",\"\",_xlfn.XLOOKUP($B40,Carreras!$I:$I,Carreras!$A:$A,0,0,1))","v":""},{"$f":"IF($B40=\"\",\"\",IF($S40=0,0,_xlfn.XLOOKUP($S40,Puntos!A:A,Puntos!B:B,TRUE)))","v":""},"",{"$f":"IF($B40=\"\",\"\",_xlfn.IFS(U40=0,0,U40=1,0,U40=2,50,U40=3,100,U40=4,150,U40=5,200,U40=6,250,U40=7,300,U40=8,350))","v":""},"",0]
[38,{"$f":"IF(Carreras!$K39=0,\"\",Carreras!$K39)","v":""},{"$f":"IF(B41=\"\",\"\",_xlfn.XLOOKUP(B41,Socios!A:A,Socios!B:B,FALSE,0,1))","v":""},{"$f":"IF(B41=\"\",\"\",_xlfn.XLOOKUP(B41,Socios!A:A,Socios!C:C,FALSE,0,1))","v":""},{"$f":"IF($B41=\"\",\"\",_xlfn.XLOOKUP($B41,Carreras!$B:$B,Carreras!$A:$A,0,0,1))","v":""},{"$f":"IF($B41=\"\",\"\",IF($E41=0,0,_xlfn.XLOOKUP($E41,Puntos!A:A,Puntos!B:B,TRUE)))","v":""},{"$f":"IF($B41=\"\",\"\",_xlfn.XLOOKUP($B41,Carreras!C:C,Carreras!A:A,0,0,1))","v":""},{"$f":"IF($B41=\"\",\"\",IF($G41=0,0,_xlfn.XLOOKUP($G41,Puntos!A:A,Puntos!B:B,TRUE)))","v":""},{"$f":"IF($B41=\"\",\"\",_xlfn.XLOOKUP($B41,Carreras!$D:$D,Carreras!$A:$A,0,0,1))","v":""},{"$f":"IF($B41=\"\",\"\",IF($I41=0,0,_xlfn.XLOOKUP($I41,Puntos!A:A,Puntos!B:B,TRUE)))","v":""},{"$f":"IF($B41=\"\",\"\",_xlfn.XLOOKUP($B41,Carreras!$E:$E,Carreras!$A:$A,0,0,1))","v":""},{"$f":"IF($B41=\"\",\"\",IF($K41=0,0,_xlfn.XLOOKUP($K41,Puntos!$A:$A,Puntos!$B:$B)))","v":""},{"$f":"IF($B41=\"\",\"\",_xlfn.XLOOKUP($B41,Carreras!F:F,Carreras!$A:$A,0,0,1))","v":""},{"$f":"IF($B41=\"\",\"\",IF($M41=0,0,_xlfn.XLOOKUP(M41,Puntos!A:A,Puntos!B:B,TRUE)))","v":""},{"$f":"IF($B41=\"\",\"\",_xlfn.XLOOKUP($B41,Carreras!$G:$G,Carreras!$A:$A,0,0,1))","v":""},{"$f":"IF($B41=\"\",\"\",IF($O41=0,0,_xlfn.XLOOKUP($O41,Puntos!A:A,Puntos!B:B,TRUE)))","v":""},{"$f":"IF($B41=\"\",\"\",_xlfn.XLOOKUP($B41,Carreras!$H:$H,Carreras!$A:$A,0,0,1))","v":""},{"$f":"IF($B41=\"\",\"\",IF($Q41=0,0,_xlfn.XLOOKUP($Q41,Puntos!A:A,Puntos!B:B,TRUE)))","v":""},{"$f":"IF($B41=\"\",\"\",_xlfn.XLOOKUP($B41,Carreras!$I:$I,Carreras!$A:$A,0,0,1))","v":""},{"$f":"IF($B41=\"\",\"\",IF($S41=0,0,_xlfn.XLOOKUP($S41,Puntos!A:A,Puntos!B:B,TRUE)))","v":""},"",{"$f":"IF($B41=\"\",\"\",_xlfn.IFS(U41=0,0,U41=1,0,U41=2,50,U41=3,100,U41=4,150,U41=5,200,U41=6,250,U41=7,300,U41=8,350))","v":""},"",0]
[39,{"$f":"IF(Carreras!$K40=0,\"\",Carreras!$K40)","v":""},{"$f":"IF(B42=\"\",\"\",_xlfn.XLOOKUP(B42,Socios!A:A,Socios!B:B,FALSE,0,1))","v":""},{"$f":"IF(B42=\"\",\"\",_xlfn.XLOOKUP(B42,Socios!A:A,Socios!C:C,FALSE,0,1))","v":""},{"$f":"IF($B42=\"\",\"\",_xlfn.XLOOKUP($B42,Carreras!$B:$B,Carreras!$A:$A,0,0,1))","v":""},{"$f":"IF($B42=\"\",\"\",IF($E42=0,0,_xlfn.XLOOKUP($E42,Puntos!A:A,Puntos!B:B,TRUE)))","v":""},{"$f":"IF($B42=\"\",\"\",_xlfn.XLOOKUP($B42,Carreras!C:C,Carreras!A:A,0,0,1))","v":""},{"$f":"IF($B42=\"\",\"\",IF($G42=0,0,_xlfn.XLOOKUP($G42,Puntos!A:A,Puntos!B:B,TRUE)))","v":""},{"$f":"IF($B42=\"\",\"\",_xlfn.XLOOKUP($B42,Carreras!$D:$D,Carreras!$A:$A,0,0,1))","v":""},{"$f":"IF($B42=\"\",\"\",IF($I42=0,0,_xlfn.XLOOKUP($I42,Puntos!A:A,Puntos!B:B,TRUE)))","v":""},{"$f":"IF($B42=\"\",\"\",_xlfn.XLOOKUP($B42,Carreras!$E:$E,Carreras!$A:$A,0,0,1))","v":""},{"$f":"IF($B42=\"\",\"\",IF($K42=0,0,_xlfn.XLOOKUP($K42,Puntos!$A:$A,Puntos!$B:$B)))","v":""},{"$f":"IF($B42=\"\",\"\",_xlfn.XLOOKUP($B42,Carreras!F:F,Carreras!$A:$A,0,0,1))","v":""},{"$f":"IF($B42=\"\",\"\",IF($M42=0,0,_xlfn.XLOOKUP(M42,Puntos!A:A,Puntos!B:B,TRUE)))","v":""},{"$f":"IF($B42=\"\",\"\",_xlfn.XLOOKUP($B42,Carreras!$G:$G,Carreras!$A:$A,0,0,1))","v":""},{"$f":"IF($B42=\"\",\"\",IF($O42=0,0,_xlfn.XLOOKUP($O42,Puntos!A:A,Puntos!B:B,TRUE)))","v":""},{"$f":"IF($B42=\"\",\"\",_xlfn.XLOOKUP($B42,Carreras!$H:$H,Carreras!$A:$A,0,0,1))","v":""},{"$f":"IF($B42=\"\",\"\",IF($Q42=0,0,_xlfn.XLOOKUP($Q42,Puntos!A:A,Puntos!B:B,TRUE)))","v":""},{"$f":"IF($B42=\"\",\"\",_xlfn.XLOOKUP($B42,Carreras!$I:$I,Carreras!$A:$A,0,0,1))","v":""},{"$f":"IF($B42=\"\",\"\",IF($S42=0,0,_xlfn.XLOOKUP($S42,Puntos!A:A,Puntos!B:B,TRUE)))","v":""},"",{"$f":"IF($B42=\"\",\"\",_xlfn.IFS(U42=0,0,U42=1,0,U42=2,50,U42=3,100,U42=4,150,U42=5,200,U42=6,250,U42=7,300,U42=8,350))","v":""},"",0]
[40,{"$f":"IF(Carreras!$K41=0,\"\",Carreras!$K41)","v":""},{"$f":"IF(B43=\"\",\"\",_xlfn.XLOOKUP(B43,Socios!A:A,Socios!B:B,FALSE,0,1))","v":""},{"$f":"IF(B43=\"\",\"\",_xlfn.XLOOKUP(B43,Socios!A:A,Socios!C:C,FALSE,0,1))","v":""},{"$f":"IF($B43=\"\",\"\",_xlfn.XLOOKUP($B43,Carreras!$B:$B,Carreras!$A:$A,0,0,1))","v":""},{"$f":"IF($B43=\"\",\"\",IF($E43=0,0,_xlfn.XLOOKUP($E43,Puntos!A:A,Puntos!B:B,TRUE)))","v":""},{"$f":"IF($B43=\"\",\"\",_xlfn.XLOOKUP($B43,Carreras!C:C,Carreras!A:A,0,0,1))","v":""},{"$f":"IF($B43=\"\",\"\",IF($G43=0,0,_xlfn.XLOOKUP($G43,Puntos!A:A,Puntos!B:B,TRUE)))","v":""},{"$f":"IF($B43=\"\",\"\",_xlfn.XLOOKUP($B43,Carreras!$D:$D,Carreras!$A:$A,0,0,1))","v":""},{"$f":"IF($B43=\"\",\"\",IF($I43=0,0,_xlfn.XLOOKUP($I43,Puntos!A:A,Puntos!B:B,TRUE)))","v":""},{"$f":"IF($B43=\"\",\"\",_xlfn.XLOOKUP($B43,Carreras!$E:$E,Carreras!$A:$A,0,0,1))","v":""},{"$f":"IF($B43=\"\",\"\",IF($K43=0,0,_xlfn.XLOOKUP($K43,Puntos!$A:$A,Puntos!$B:$B)))","v":""},{"$f":"IF($B43=\"\",\"\",_xlfn.XLOOKUP($B43,Carreras!F:F,Carreras!$A:$A,0,0,1))","v":""},{"$f":"IF($B43=\"\",\"\",IF($M43=0,0,_xlfn.XLOOKUP(M43,Puntos!A:A,Puntos!B:B,TRUE)))","v":""},{"$f":"IF($B43=\"\",\"\",_xlfn.XLOOKUP($B43,Carreras!$G:$G,Carreras!$A:$A,0,0,1))","v":""},{"$f":"IF($B43=\"\",\"\",IF($O43=0,0,_xlfn.XLOOKUP($O43,Puntos!A:A,Puntos!B:B,TRUE)))","v":""},{"$f":"IF($B43=\"\",\"\",_xlfn.XLOOKUP($B43,Carreras!$H:$H,Carreras!$A:$A,0,0,1))","v":""},{"$f":"IF($B43=\"\",\"\",IF($Q43=0,0,_xlfn.XLOOKUP($Q43,Puntos!A:A,Puntos!B:B,TRUE)))","v":""},{"$f":"IF($B43=\"\",\"\",_xlfn.XLOOKUP($B43,Carreras!$I:$I,Carreras!$A:$A,0,0,1))","v":""},{"$f":"IF($B43=\"\",\"\",IF($S43=0,0,_xlfn.XLOOKUP($S43,Puntos!A:A,Puntos!B:B,TRUE)))","v":""},"",{"$f":"IF($B43=\"\",\"\",_xlfn.IFS(U43=0,0,U43=1,0,U43=2,50,U43=3,100,U43=4,150,U43=5,200,U43=6,250,U43=7,300,U43=8,350))","v":""},"",0]
[41,{"$f":"IF(Carreras!$K42=0,\"\",Carreras!$K42)","v":""},{"$f":"IF(B44=\"\",\"\",_xlfn.XLOOKUP(B44,Socios!A:A,Socios!B:B,FALSE,0,1))","v":""},{"$f":"IF(B44=\"\",\"\",_xlfn.XLOOKUP(B44,Socios!A:A,Socios!C:C,FALSE,0,1))","v":""},{"$f":"IF($B44=\"\",\"\",_xlfn.XLOOKUP($B44,Carreras!$B:$B,Carreras!$A:$A,0,0,1))","v":""},{"$f":"IF($B44=\"\",\"\",IF($E44=0,0,_xlfn.XLOOKUP($E44,Puntos!A:A,Puntos!B:B,TRUE)))","v":""},{"$f":"IF($B44=\"\",\"\",_xlfn.XLOOKUP($B44,Carreras!C:C,Carreras!A:A,0,0,1))","v":""},{"$f":"IF($B44=\"\",\"\",IF($G44=0,0,_xlfn.XLOOKUP($G44,Puntos!A:A,Puntos!B:B,TRUE)))","v":""},{"$f":"IF($B44=\"\",\"\",_xlfn.XLOOKUP($B44,Carreras!$D:$D,Carreras!$A:$A,0,0,1))","v":""},{"$f":"IF($B44=\"\",\"\",IF($I44=0,0,_xlfn.XLOOKUP($I44,Puntos!A:A,Puntos!B:B,TRUE)))","v":""},{"$f":"IF($B44=\"\",\"\",_xlfn.XLOOKUP($B44,Carreras!$E:$E,Carreras!$A:$A,0,0,1))","v":""},{"$f":"IF($B44=\"\",\"\",IF($K44=0,0,_xlfn.XLOOKUP($K44,Puntos!$A:$A,Puntos!$B:$B)))","v":""},{"$f":"IF($B44=\"\",\"\",_xlfn.XLOOKUP($B44,Carreras!F:F,Carreras!$A:$A,0,0,1))","v":""},{"$f":"IF($B44=\"\",\"\",IF($M44=0,0,_xlfn.XLOOKUP(M44,Puntos!A:A,Puntos!B:B,TRUE)))","v":""},{"$f":"IF($B44=\"\",\"\",_xlfn.XLOOKUP($B44,Carreras!$G:$G,Carreras!$A:$A,0,0,1))","v":""},{"$f":"IF($B44=\"\",\"\",IF($O44=0,0,_xlfn.XLOOKUP($O44,Puntos!A:A,Puntos!B:B,TRUE)))","v":""},{"$f":"IF($B44=\"\",\"\",_xlfn.XLOOKUP($B44,Carreras!$H:$H,Carreras!$A:$A,0,0,1))","v":""},{"$f":"IF($B44=\"\",\"\",IF($Q44=0,0,_xlfn.XLOOKUP($Q44,Puntos!A:A,Puntos!B:B,TRUE)))","v":""},{"$f":"IF($B44=\"\",\"\",_xlfn.XLOOKUP($B44,Carreras!$I:$I,Carreras!$A:$A,0,0,1))","v":""},{"$f":"IF($B44=\"\",\"\",IF($S44=0,0,_xlfn.XLOOKUP($S44,Puntos!A:A,Puntos!B:B,TRUE)))","v":""},"",{"$f":"IF($B44=\"\",\"\",_xlfn.IFS(U44=0,0,U44=1,0,U44=2,50,U44=3,100,U44=4,150,U44=5,200,U44=6,250,U44=7,300,U44=8,350))","v":""},"",0]
[42,{"$f":"IF(Carreras!$K43=0,\"\",Carreras!$K43)","v":""},{"$f":"IF(B45=\"\",\"\",_xlfn.XLOOKUP(B45,Socios!A:A,Socios!B:B,FALSE,0,1))","v":""},{"$f":"IF(B45=\"\",\"\",_xlfn.XLOOKUP(B45,Socios!A:A,Socios!C:C,FALSE,0,1))","v":""},{"$f":"IF($B45=\"\",\"\",_xlfn.XLOOKUP($B45,Carreras!$B:$B,Carreras!$A:$A,0,0,1))","v":""},{"$f":"IF($B45=\"\",\"\",IF($E45=0,0,_xlfn.XLOOKUP($E45,Puntos!A:A,Puntos!B:B,TRUE)))","v":""},{"$f":"IF($B45=\"\",\"\",_xlfn.XLOOKUP($B45,Carreras!C:C,Carreras!A:A,0,0,1))","v":""},{"$f":"IF($B45=\"\",\"\",IF($G45=0,0,_xlfn.XLOOKUP($G45,Puntos!A:A,Puntos!B:B,TRUE)))","v":""},{"$f":"IF($B45=\"\",\"\",_xlfn.XLOOKUP($B45,Carreras!$D:$D,Carreras!$A:$A,0,0,1))","v":""},{"$f":"IF($B45=\"\",\"\",IF($I45=0,0,_xlfn.XLOOKUP($I45,Puntos!A:A,Puntos!B:B,TRUE)))","v":""},{"$f":"IF($B45=\"\",\"\",_xlfn.XLOOKUP($B45,Carreras!$E:$E,Carreras!$A:$A,0,0,1))","v":""},{"$f":"IF($B45=\"\",\"\",IF($K45=0,0,_xlfn.XLOOKUP($K45,Puntos!$A:$A,Puntos!$B:$B)))","v":""},{"$f":"IF($B45=\"\",\"\",_xlfn.XLOOKUP($B45,Carreras!F:F,Carreras!$A:$A,0,0,1))","v":""},{"$f":"IF($B45=\"\",\"\",IF($M45=0,0,_xlfn.XLOOKUP(M45,Puntos!A:A,Puntos!B:B,TRUE)))","v":""},{"$f":"IF($B45=\"\",\"\",_xlfn.XLOOKUP($B45,Carreras!$G:$G,Carreras!$A:$A,0,0,1))","v":""},{"$f":"IF($B45=\"\",\"\",IF($O45=0,0,_xlfn.XLOOKUP($O45,Puntos!A:A,Puntos!B:B,TRUE)))","v":""},{"$f":"IF($B45=\"\",\"\",_xlfn.XLOOKUP($B45,Carreras!$H:$H,Carreras!$A:$A,0,0,1))","v":""},{"$f":"IF($B45=\"\",\"\",IF($Q45=0,0,_xlfn.XLOOKUP($Q45,Puntos!A:A,Puntos!B:B,TRUE)))","v":""},{"$f":"IF($B45=\"\",\"\",_xlfn.XLOOKUP($B45,Carreras!$I:$I,Carreras!$A:$A,0,0,1))","v":""},{"$f":"IF($B45=\"\",\"\",IF($S45=0,0,_xlfn.XLOOKUP($S45,Puntos!A:A,Puntos!B:B,TRUE)))","v":""},"",{"$f":"IF($B45=\"\",\"\",_xlfn.IFS(U45=0,0,U45=1,0,U45=2,50,U45=3,100,U45=4,150,U45=5,200,U45=6,250,U45=7,300,U45=8,350))","v":""},"",0]
[43,{"$f":"IF(Carreras!$K44=0,\"\",Carreras!$K44)","v":""},{"$f":"IF(B46=\"\",\"\",_xlfn.XLOOKUP(B46,Socios!A:A,Socios!B:B,FALSE,0,1))","v":""},{"$f":"IF(B46=\"\",\"\",_xlfn.XLOOKUP(B46,Socios!A:A,Socios!C:C,FALSE,0,1))","v":""},{"$f":"IF($B46=\"\",\"\",_xlfn.XLOOKUP($B46,Carreras!$B:$B,Carreras!$A:$A,0,0,1))","v":""},{"$f":"IF($B46=\"\",\"\",IF($E46=0,0,_xlfn.XLOOKUP($E46,Puntos!A:A,Puntos!B:B,TRUE)))","v":""},{"$f":"IF($B46=\"\",\"\",_xlfn.XLOOKUP($B46,Carreras!C:C,Carreras!A:A,0,0,1))","v":""},{"$f":"IF($B46=\"\",\"\",IF($G46=0,0,_xlfn.XLOOKUP($G46,Puntos!A:A,Puntos!B:B,TRUE)))","v":""},{"$f":"IF($B46=\"\",\"\",_xlfn.XLOOKUP($B46,Carreras!$D:$D,Carreras!$A:$A,0,0,1))","v":""},{"$f":"IF($B46=\"\",\"\",IF($I46=0,0,_xlfn.XLOOKUP($I46,Puntos!A:A,Puntos!B:B,TRUE)))","v":""},{"$f":"IF($B46=\"\",\"\",_xlfn.XLOOKUP($B46,Carreras!$E:$E,Carreras!$A:$A,0,0,1))","v":""},{"$f":"IF($B46=\"\",\"\",IF($K46=0,0,_xlfn.XLOOKUP($K46,Puntos!$A:$A,Puntos!$B:$B)))","v":""},{"$f":"IF($B46=\"\",\"\",_xlfn.XLOOKUP($B46,Carreras!F:F,Carreras!$A:$A,0,0,1))","v":""},{"$f":"IF($B46=\"\",\"\",IF($M46=0,0,_xlfn.XLOOKUP(M46,Puntos!A:A,Puntos!B:B,TRUE)))","v":""},{"$f":"IF($B46=\"\",\"\",_xlfn.XLOOKUP($B46,Carreras!$G:$G,Carreras!$A:$A,0,0,1))","v":""},{"$f":"IF($B46=\"\",\"\",IF($O46=0,0,_xlfn.XLOOKUP($O46,Puntos!A:A,Puntos!B:B,TRUE)))","v":""},{"$f":"IF($B46=\"\",\"\",_xlfn.XLOOKUP($B46,Carreras!$H:$H,Carreras!$A:$A,0,0,1))","v":""},{"$f":"IF($B46=\"\",\"\",IF($Q46=0,0,_xlfn.XLOOKUP($Q46,Puntos!A:A,Puntos!B:B,TRUE)))","v":""},{"$f":"IF($B46=\"\",\"\",_xlfn.XLOOKUP($B46,Carreras!$I:$I,Carreras!$A:$A,0,0,1))","v":""},{"$f":"IF($B46=\"\",\"\",IF($S46=0,0,_xlfn.XLOOKUP($S46,Puntos!A:A,Puntos!B:B,TRUE)))","v":""},"",{"$f":"IF($B46=\"\",\"\",_xlfn.IFS(U46=0,0,U46=1,0,U46=2,50,U46=3,100,U46=4,150,U46=5,200,U46=6,250,U46=7,300,U46=8,350))","v":""},"",0]
[44,{"$f":"IF(Carreras!$K45=0,\"\",Carreras!$K45)","v":""},{"$f":"IF(B47=\"\",\"\",_xlfn.XLOOKUP(B47,Socios!A:A,Socios!B:B,FALSE,0,1))","v":""},{"$f":"IF(B47=\"\",\"\",_xlfn.XLOOKUP(B47,Socios!A:A,Socios!C:C,FALSE,0,1))","v":""},{"$f":"IF($B47=\"\",\"\",_xlfn.XLOOKUP($B47,Carreras!$B:$B,Carreras!$A:$A,0,0,1))","v":""},{"$f":"IF($B47=\"\",\"\",IF($E47=0,0,_xlfn.XLOOKUP($E47,Puntos!A:A,Puntos!B:B,TRUE)))","v":""},{"$f":"IF($B47=\"\",\"\",_xlfn.XLOOKUP($B47,Carreras!C:C,Carreras!A:A,0,0,1))","v":""},{"$f":"IF($B47=\"\",\"\",IF($G47=0,0,_xlfn.XLOOKUP($G47,Puntos!A:A,Puntos!B:B,TRUE)))","v":""},{"$f":"IF($B47=\"\",\"\",_xlfn.XLOOKUP($B47,Carreras!$D:$D,Carreras!$A:$A,0,0,1))","v":""},{"$f":"IF($B47=\"\",\"\",IF($I47=0,0,_xlfn.XLOOKUP($I47,Puntos!A:A,Puntos!B:B,TRUE)))","v":""},{"$f":"IF($B47=\"\",\"\",_xlfn.XLOOKUP($B47,Carreras!$E:$E,Carreras!$A:$A,0,0,1))","v":""},{"$f":"IF($B47=\"\",\"\",IF($K47=0,0,_xlfn.XLOOKUP($K47,Puntos!$A:$A,Puntos!$B:$B)))","v":""},{"$f":"IF($B47=\"\",\"\",_xlfn.XLOOKUP($B47,Carreras!F:F,Carreras!$A:$A,0,0,1))","v":""},{"$f":"IF($B47=\"\",\"\",IF($M47=0,0,_xlfn.XLOOKUP(M47,Puntos!A:A,Puntos!B:B,TRUE)))","v":""},{"$f":"IF($B47=\"\",\"\",_xlfn.XLOOKUP($B47,Carreras!$G:$G,Carreras!$A:$A,0,0,1))","v":""},{"$f":"IF($B47=\"\",\"\",IF($O47=0,0,_xlfn.XLOOKUP($O47,Puntos!A:A,Puntos!B:B,TRUE)))","v":""},{"$f":"IF($B47=\"\",\"\",_xlfn.XLOOKUP($B47,Carreras!$H:$H,Carreras!$A:$A,0,0,1))","v":""},{"$f":"IF($B47=\"\",\"\",IF($Q47=0,0,_xlfn.XLOOKUP($Q47,Puntos!A:A,Puntos!B:B,TRUE)))","v":""},{"$f":"IF($B47=\"\",\"\",_xlfn.XLOOKUP($B47,Carreras!$I:$I,Carreras!$A:$A,0,0,1))","v":""},{"$f":"IF($B47=\"\",\"\",IF($S47=0,0,_xlfn.XLOOKUP($S47,Puntos!A:A,Puntos!B:B,TRUE)))","v":""},"",{"$f":"IF($B47=\"\",\"\",_xlfn.IFS(U47=0,0,U47=1,0,U47=2,50,U47=3,100,U47=4,150,U47=5,200,U47=6,250,U47=7,300,U47=8,350))","v":""},"",0]
[45,{"$f":"IF(Carreras!$K46=0,\"\",Carreras!$K46)","v":""},{"$f":"IF(B48=\"\",\"\",_xlfn.XLOOKUP(B48,Socios!A:A,Socios!B:B,FALSE,0,1))","v":""},{"$f":"IF(B48=\"\",\"\",_xlfn.XLOOKUP(B48,Socios!A:A,Socios!C:C,FALSE,0,1))","v":""},{"$f":"IF($B48=\"\",\"\",_xlfn.XLOOKUP($B48,Carreras!$B:$B,Carreras!$A:$A,0,0,1))","v":""},{"$f":"IF($B48=\"\",\"\",IF($E48=0,0,_xlfn.XLOOKUP($E48,Puntos!A:A,Puntos!B:B,TRUE)))","v":""},{"$f":"IF($B48=\"\",\"\",_xlfn.XLOOKUP($B48,Carreras!C:C,Carreras!A:A,0,0,1))","v":""},{"$f":"IF($B48=\"\",\"\",IF($G48=0,0,_xlfn.XLOOKUP($G48,Puntos!A:A,Puntos!B:B,TRUE)))","v":""},{"$f":"IF($B48=\"\",\"\",_xlfn.XLOOKUP($B48,Carreras!$D:$D,Carreras!$A:$A,0,0,1))","v":""},{"$f":"IF($B48=\"\",\"\",IF($I48=0,0,_xlfn.XLOOKUP($I48,Puntos!A:A,Puntos!B:B,TRUE)))","v":""},{"$f":"IF($B48=\"\",\"\",_xlfn.XLOOKUP($B48,Carreras!$E:$E,Carreras!$A:$A,0,0,1))","v":""},{"$f":"IF($B48=\"\",\"\",IF($K48=0,0,_xlfn.XLOOKUP($K48,Puntos!$A:$A,Puntos!$B:$B)))","v":""},{"$f":"IF($B48=\"\",\"\",_xlfn.XLOOKUP($B48,Carreras!F:F,Carreras!$A:$A,0,0,1))","v":""},{"$f":"IF($B48=\"\",\"\",IF($M48=0,0,_xlfn.XLOOKUP(M48,Puntos!A:A,Puntos!B:B,TRUE)))","v":""},{"$f":"IF($B48=\"\",\"\",_xlfn.XLOOKUP($B48,Carreras!$G:$G,Carreras!$A:$A,0,0,1))","v":""},{"$f":"IF($B48=\"\",\"\",IF($O48=0,0,_xlfn.XLOOKUP($O48,Puntos!A:A,Puntos!B:B,TRUE)))","v":""},{"$f":"IF($B48=\"\",\"\",_xlfn.XLOOKUP($B48,Carreras!$H:$H,Carreras!$A:$A,0,0,1))","v":""},{"$f":"IF($B48=\"\",\"\",IF($Q48=0,0,_xlfn.XLOOKUP($Q48,Puntos!A:A,Puntos!B:B,TRUE)))","v":""},{"$f":"IF($B48=\"\",\"\",_xlfn.XLOOKUP($B48,Carreras!$I:$I,Carreras!$A:$A,0,0,1))","v":""},{"$f":"IF($B48=\"\",\"\",IF($S48=0,0,_xlfn.XLOOKUP($S48,Puntos!A:A,Puntos!B:B,TRUE)))","v":""},"",{"$f":"IF($B48=\"\",\"\",_xlfn.IFS(U48=0,0,U48=1,0,U48=2,50,U48=3,100,U48=4,150,U48=5,200,U48=6,250,U48=7,300,U48=8,350))","v":""},"",0]
[46,{"$f":"IF(Carreras!$K47=0,\"\",Carreras!$K47)","v":""},{"$f":"IF(B49=\"\",\"\",_xlfn.XLOOKUP(B49,Socios!A:A,Socios!B:B,FALSE,0,1))","v":""},{"$f":"IF(B49=\"\",\"\",_xlfn.XLOOKUP(B49,Socios!A:A,Socios!C:C,FALSE,0,1))","v":""},{"$f":"IF($B49=\"\",\"\",_xlfn.XLOOKUP($B49,Carreras!$B:$B,Carreras!$A:$A,0,0,1))","v":""},{"$f":"IF($B49=\"\",\"\",IF($E49=0,0,_xlfn.XLOOKUP($E49,Puntos!A:A,Puntos!B:B,TRUE)))","v":""},{"$f":"IF($B49=\"\",\"\",_xlfn.XLOOKUP($B49,Carreras!C:C,Carreras!A:A,0,0,1))","v":""},{"$f":"IF($B49=\"\",\"\",IF($G49=0,0,_xlfn.XLOOKUP($G49,Puntos!A:A,Puntos!B:B,TRUE)))","v":""},{"$f":"IF($B49=\"\",\"\",_xlfn.XLOOKUP($B49,Carreras!$D:$D,Carreras!$A:$A,0,0,1))","v":""},{"$f":"IF($B49=\"\",\"\",IF($I49=0,0,_xlfn.XLOOKUP($I49,Puntos!A:A,Puntos!B:B,TRUE)))","v":""},{"$f":"IF($B49=\"\",\"\",_xlfn.XLOOKUP($B49,Carreras!$E:$E,Carreras!$A:$A,0,0,1))","v":""},{"$f":"IF($B49=\"\",\"\",IF($K49=0,0,_xlfn.XLOOKUP($K49,Puntos!$A:$A,Puntos!$B:$B)))","v":""},{"$f":"IF($B49=\"\",\"\",_xlfn.XLOOKUP($B49,Carreras!F:F,Carreras!$A:$A,0,0,1))","v":""},{"$f":"IF($B49=\"\",\"\",IF($M49=0,0,_xlfn.XLOOKUP(M49,Puntos!A:A,Puntos!B:B,TRUE)))","v":""},{"$f":"IF($B49=\"\",\"\",_xlfn.XLOOKUP($B49,Carreras!$G:$G,Carreras!$A:$A,0,0,1))","v":""},{"$f":"IF($B49=\"\",\"\",IF($O49=0,0,_xlfn.XLOOKUP($O49,Puntos!A:A,Puntos!B:B,TRUE)))","v":""},{"$f":"IF($B49=\"\",\"\",_xlfn.XLOOKUP($B49,Carreras!$H:$H,Carreras!$A:$A,0,0,1))","v":""},{"$f":"IF($B49=\"\",\"\",IF($Q49=0,0,_xlfn.XLOOKUP($Q49,Puntos!A:A,Puntos!B:B,TRUE)))","v":""},{"$f":"IF($B49=\"\",\"\",_xlfn.XLOOKUP($B49,Carreras!$I:$I,Carreras!$A:$A,0,0,1))","v":""},{"$f":"IF($B49=\"\",\"\",IF($S49=0,0,_xlfn.XLOOKUP($S49,Puntos!A:A,Puntos!B:B,TRUE)))","v":""},"",{"$f":"IF($B49=\"\",\"\",_xlfn.IFS(U49=0,0,U49=1,0,U49=2,50,U49=3,100,U49=4,150,U49=5,200,U49=6,250,U49=7,300,U49=8,350))","v":""},"",0]
[47,{"$f":"IF(Carreras!$K48=0,\"\",Carreras!$K48)","v":""},{"$f":"IF(B50=\"\",\"\",_xlfn.XLOOKUP(B50,Socios!A:A,Socios!B:B,FALSE,0,1))","v":""},{"$f":"IF(B50=\"\",\"\",_xlfn.XLOOKUP(B50,Socios!A:A,Socios!C:C,FALSE,0,1))","v":""},{"$f":"IF($B50=\"\",\"\",_xlfn.XLOOKUP($B50,Carreras!$B:$B,Carreras!$A:$A,0,0,1))","v":""},{"$f":"IF($B50=\"\",\"\",IF($E50=0,0,_xlfn.XLOOKUP($E50,Puntos!A:A,Puntos!B:B,TRUE)))","v":""},{"$f":"IF($B50=\"\",\"\",_xlfn.XLOOKUP($B50,Carreras!C:C,Carreras!A:A,0,0,1))","v":""},{"$f":"IF($B50=\"\",\"\",IF($G50=0,0,_xlfn.XLOOKUP($G50,Puntos!A:A,Puntos!B:B,TRUE)))","v":""},{"$f":"IF($B50=\"\",\"\",_xlfn.XLOOKUP($B50,Carreras!$D:$D,Carreras!$A:$A,0,0,1))","v":""},{"$f":"IF($B50=\"\",\"\",IF($I50=0,0,_xlfn.XLOOKUP($I50,Puntos!A:A,Puntos!B:B,TRUE)))","v":""},{"$f":"IF($B50=\"\",\"\",_xlfn.XLOOKUP($B50,Carreras!$E:$E,Carreras!$A:$A,0,0,1))","v":""},{"$f":"IF($B50=\"\",\"\",IF($K50=0,0,_xlfn.XLOOKUP($K50,Puntos!$A:$A,Puntos!$B:$B)))","v":""},{"$f":"IF($B50=\"\",\"\",_xlfn.XLOOKUP($B50,Carreras!F:F,Carreras!$A:$A,0,0,1))","v":""},{"$f":"IF($B50=\"\",\"\",IF($M50=0,0,_xlfn.XLOOKUP(M50,Puntos!A:A,Puntos!B:B,TRUE)))","v":""},{"$f":"IF($B50=\"\",\"\",_xlfn.XLOOKUP($B50,Carreras!$G:$G,Carreras!$A:$A,0,0,1))","v":""},{"$f":"IF($B50=\"\",\"\",IF($O50=0,0,_xlfn.XLOOKUP($O50,Puntos!A:A,Puntos!B:B,TRUE)))","v":""},{"$f":"IF($B50=\"\",\"\",_xlfn.XLOOKUP($B50,Carreras!$H:$H,Carreras!$A:$A,0,0,1))","v":""},{"$f":"IF($B50=\"\",\"\",IF($Q50=0,0,_xlfn.XLOOKUP($Q50,Puntos!A:A,Puntos!B:B,TRUE)))","v":""},{"$f":"IF($B50=\"\",\"\",_xlfn.XLOOKUP($B50,Carreras!$I:$I,Carreras!$A:$A,0,0,1))","v":""},{"$f":"IF($B50=\"\",\"\",IF($S50=0,0,_xlfn.XLOOKUP($S50,Puntos!A:A,Puntos!B:B,TRUE)))","v":""},"",{"$f":"IF($B50=\"\",\"\",_xlfn.IFS(U50=0,0,U50=1,0,U50=2,50,U50=3,100,U50=4,150,U50=5,200,U50=6,250,U50=7,300,U50=8,350))","v":""},"",0]
[48,{"$f":"IF(Carreras!$K49=0,\"\",Carreras!$K49)","v":""},{"$f":"IF(B51=\"\",\"\",_xlfn.XLOOKUP(B51,Socios!A:A,Socios!B:B,FALSE,0,1))","v":""},{"$f":"IF(B51=\"\",\"\",_xlfn.XLOOKUP(B51,Socios!A:A,Socios!C:C,FALSE,0,1))","v":""},{"$f":"IF($B51=\"\",\"\",_xlfn.XLOOKUP($B51,Carreras!$B:$B,Carreras!$A:$A,0,0,1))","v":""},{"$f":"IF($B51=\"\",\"\",IF($E51=0,0,_xlfn.XLOOKUP($E51,Puntos!A:A,Puntos!B:B,TRUE)))","v":""},{"$f":"IF($B51=\"\",\"\",_xlfn.XLOOKUP($B51,Carreras!C:C,Carreras!A:A,0,0,1))","v":""},{"$f":"IF($B51=\"\",\"\",IF($G51=0,0,_xlfn.XLOOKUP($G51,Puntos!A:A,Puntos!B:B,TRUE)))","v":""},{"$f":"IF($B51=\"\",\"\",_xlfn.XLOOKUP($B51,Carreras!$D:$D,Carreras!$A:$A,0,0,1))","v":""},{"$f":"IF($B51=\"\",\"\",IF($I51=0,0,_xlfn.XLOOKUP($I51,Puntos!A:A,Puntos!B:B,TRUE)))","v":""},{"$f":"IF($B51=\"\",\"\",_xlfn.XLOOKUP($B51,Carreras!$E:$E,Carreras!$A:$A,0,0,1))","v":""},{"$f":"IF($B51=\"\",\"\",IF($K51=0,0,_xlfn.XLOOKUP($K51,Puntos!$A:$A,Puntos!$B:$B)))","v":""},{"$f":"IF($B51=\"\",\"\",_xlfn.XLOOKUP($B51,Carreras!F:F,Carreras!$A:$A,0,0,1))","v":""},{"$f":"IF($B51=\"\",\"\",IF($M51=0,0,_xlfn.XLOOKUP(M51,Puntos!A:A,Puntos!B:B,TRUE)))","v":""},{"$f":"IF($B51=\"\",\"\",_xlfn.XLOOKUP($B51,Carreras!$G:$G,Carreras!$A:$A,0,0,1))","v":""},{"$f":"IF($B51=\"\",\"\",IF($O51=0,0,_xlfn.XLOOKUP($O51,Puntos!A:A,Puntos!B:B,TRUE)))","v":""},{"$f":"IF($B51=\"\",\"\",_xlfn.XLOOKUP($B51,Carreras!$H:$H,Carreras!$A:$A,0,0,1))","v":""},{"$f":"IF($B51=\"\",\"\",IF($Q51=0,0,_xlfn.XLOOKUP($Q51,Puntos!A:A,Puntos!B:B,TRUE)))","v":""},{"$f":"IF($B51=\"\",\"\",_xlfn.XLOOKUP($B51,Carreras!$I:$I,Carreras!$A:$A,0,0,1))","v":""},{"$f":"IF($B51=\"\",\"\",IF($S51=0,0,_xlfn.XLOOKUP($S51,Puntos!A:A,Puntos!B:B,TRUE)))","v":""},"",{"$f":"IF($B51=\"\",\"\",_xlfn.IFS(U51=0,0,U51=1,0,U51=2,50,U51=3,100,U51=4,150,U51=5,200,U51=6,250,U51=7,300,U51=8,350))","v":""},"",0]
[49,{"$f":"IF(Carreras!$K50=0,\"\",Carreras!$K50)","v":""},{"$f":"IF(B52=\"\",\"\",_xlfn.XLOOKUP(B52,Socios!A:A,Socios!B:B,FALSE,0,1))","v":""},{"$f":"IF(B52=\"\",\"\",_xlfn.XLOOKUP(B52,Socios!A:A,Socios!C:C,FALSE,0,1))","v":""},{"$f":"IF($B52=\"\",\"\",_xlfn.XLOOKUP($B52,Carreras!$B:$B,Carreras!$A:$A,0,0,1))","v":""},{"$f":"IF($B52=\"\",\"\",IF($E52=0,0,_xlfn.XLOOKUP($E52,Puntos!A:A,Puntos!B:B,TRUE)))","v":""},{"$f":"IF($B52=\"\",\"\",_xlfn.XLOOKUP($B52,Carreras!C:C,Carreras!A:A,0,0,1))","v":""},{"$f":"IF($B52=\"\",\"\",IF($G52=0,0,_xlfn.XLOOKUP($G52,Puntos!A:A,Puntos!B:B,TRUE)))","v":""},{"$f":"IF($B52=\"\",\"\",_xlfn.XLOOKUP($B52,Carreras!$D:$D,Carreras!$A:$A,0,0,1))","v":""},{"$f":"IF($B52=\"\",\"\",IF($I52=0,0,_xlfn.XLOOKUP($I52,Puntos!A:A,Puntos!B:B,TRUE)))","v":""},{"$f":"IF($B52=\"\",\"\",_xlfn.XLOOKUP($B52,Carreras!$E:$E,Carreras!$A:$A,0,0,1))","v":""},{"$f":"IF($B52=\"\",\"\",IF($K52=0,0,_xlfn.XLOOKUP($K52,Puntos!$A:$A,Puntos!$B:$B)))","v":""},{"$f":"IF($B52=\"\",\"\",_xlfn.XLOOKUP($B52,Carreras!F:F,Carreras!$A:$A,0,0,1))","v":""},{"$f":"IF($B52=\"\",\"\",IF($M52=0,0,_xlfn.XLOOKUP(M52,Puntos!A:A,Puntos!B:B,TRUE)))","v":""},{"$f":"IF($B52=\"\",\"\",_xlfn.XLOOKUP($B52,Carreras!$G:$G,Carreras!$A:$A,0,0,1))","v":""},{"$f":"IF($B52=\"\",\"\",IF($O52=0,0,_xlfn.XLOOKUP($O52,Puntos!A:A,Puntos!B:B,TRUE)))","v":""},{"$f":"IF($B52=\"\",\"\",_xlfn.XLOOKUP($B52,Carreras!$H:$H,Carreras!$A:$A,0,0,1))","v":""},{"$f":"IF($B52=\"\",\"\",IF($Q52=0,0,_xlfn.XLOOKUP($Q52,Puntos!A:A,Puntos!B:B,TRUE)))","v":""},{"$f":"IF($B52=\"\",\"\",_xlfn.XLOOKUP($B52,Carreras!$I:$I,Carreras!$A:$A,0,0,1))","v":""},{"$f":"IF($B52=\"\",\"\",IF($S52=0,0,_xlfn.XLOOKUP($S52,Puntos!A:A,Puntos!B:B,TRUE)))","v":""},"",{"$f":"IF($B52=\"\",\"\",_xlfn.IFS(U52=0,0,U52=1,0,U52=2,50,U52=3,100,U52=4,150,U52=5,200,U52=6,250,U52=7,300,U52=8,350))","v":""},"",0]
[50,{"$f":"IF(Carreras!$K51=0,\"\",Carreras!$K51)","v":""},{"$f":"IF(B53=\"\",\"\",_xlfn.XLOOKUP(B53,Socios!A:A,Socios!B:B,FALSE,0,1))","v":""},{"$f":"IF(B53=\"\",\"\",_xlfn.XLOOKUP(B53,Socios!A:A,Socios!C:C,FALSE,0,1))","v":""},{"$f":"IF($B53=\"\",\"\",_xlfn.XLOOKUP($B53,Carreras!$B:$B,Carreras!$A:$A,0,0,1))","v":""},{"$f":"IF($B53=\"\",\"\",IF($E53=0,0,_xlfn.XLOOKUP($E53,Puntos!A:A,Puntos!B:B,TRUE)))","v":""},{"$f":"IF($B53=\"\",\"\",_xlfn.XLOOKUP($B53,Carreras!C:C,Carreras!A:A,0,0,1))","v":""},{"$f":"IF($B53=\"\",\"\",IF($G53=0,0,_xlfn.XLOOKUP($G53,Puntos!A:A,Puntos!B:B,TRUE)))","v":""},{"$f":"IF($B53=\"\",\"\",_xlfn.XLOOKUP($B53,Carreras!$D:$D,Carreras!$A:$A,0,0,1))","v":""},{"$f":"IF($B53=\"\",\"\",IF($I53=0,0,_xlfn.XLOOKUP($I53,Puntos!A:A,Puntos!B:B,TRUE)))","v":""},{"$f":"IF($B53=\"\",\"\",_xlfn.XLOOKUP($B53,Carreras!$E:$E,Carreras!$A:$A,0,0,1))","v":""},{"$f":"IF($B53=\"\",\"\",IF($K53=0,0,_xlfn.XLOOKUP($K53,Puntos!$A:$A,Puntos!$B:$B)))","v":""},{"$f":"IF($B53=\"\",\"\",_xlfn.XLOOKUP($B53,Carreras!F:F,Carreras!$A:$A,0,0,1))","v":""},{"$f":"IF($B53=\"\",\"\",IF($M53=0,0,_xlfn.XLOOKUP(M53,Puntos!A:A,Puntos!B:B,TRUE)))","v":""},{"$f":"IF($B53=\"\",\"\",_xlfn.XLOOKUP($B53,Carreras!$G:$G,Carreras!$A:$A,0,0,1))","v":""},{"$f":"IF($B53=\"\",\"\",IF($O53=0,0,_xlfn.XLOOKUP($O53,Puntos!A:A,Puntos!B:B,TRUE)))","v":""},{"$f":"IF($B53=\"\",\"\",_xlfn.XLOOKUP($B53,Carreras!$H:$H,Carreras!$A:$A,0,0,1))","v":""},{"$f":"IF($B53=\"\",\"\",IF($Q53=0,0,_xlfn.XLOOKUP($Q53,Puntos!A:A,Puntos!B:B,TRUE)))","v":""},{"$f":"IF($B53=\"\",\"\",_xlfn.XLOOKUP($B53,Carreras!$I:$I,Carreras!$A:$A,0,0,1))","v":""},{"$f":"IF($B53=\"\",\"\",IF($S53=0,0,_xlfn.XLOOKUP($S53,Puntos!A:A,Puntos!B:B,TRUE)))","v":""},"",{"$f":"IF($B53=\"\",\"\",_xlfn.IFS(U53=0,0,U53=1,0,U53=2,50,U53=3,100,U53=4,150,U53=5,200,U53=6,250,U53=7,300,U53=8,350))","v":""},"",0]
[51,{"$f":"IF(Carreras!$K52=0,\"\",Carreras!$K52)","v":""},{"$f":"IF(B54=\"\",\"\",_xlfn.XLOOKUP(B54,Socios!A:A,Socios!B:B,FALSE,0,1))","v":""},{"$f":"IF(B54=\"\",\"\",_xlfn.XLOOKUP(B54,Socios!A:A,Socios!C:C,FALSE,0,1))","v":""},{"$f":"IF($B54=\"\",\"\",_xlfn.XLOOKUP($B54,Carreras!$B:$B,Carreras!$A:$A,0,0,1))","v":""},{"$f":"IF($B54=\"\",\"\",IF($E54=0,0,_xlfn.XLOOKUP($E54,Puntos!A:A,Puntos!B:B,TRUE)))","v":""},{"$f":"IF($B54=\"\",\"\",_xlfn.XLOOKUP($B54,Carreras!C:C,Carreras!A:A,0,0,1))","v":""},{"$f":"IF($B54=\"\",\"\",IF($G54=0,0,_xlfn.XLOOKUP($G54,Puntos!A:A,Puntos!B:B,TRUE)))","v":""},{"$f":"IF($B54=\"\",\"\",_xlfn.XLOOKUP($B54,Carreras!$D:$D,Carreras!$A:$A,0,0,1))","v":""},{"$f":"IF($B54=\"\",\"\",IF($I54=0,0,_xlfn.XLOOKUP($I54,Puntos!A:A,Puntos!B:B,TRUE)))","v":""},{"$f":"IF($B54=\"\",\"\",_xlfn.XLOOKUP($B54,Carreras!$E:$E,Carreras!$A:$A,0,0,1))","v":""},{"$f":"IF($B54=\"\",\"\",IF($K54=0,0,_xlfn.XLOOKUP($K54,Puntos!$A:$A,Puntos!$B:$B)))","v":""},{"$f":"IF($B54=\"\",\"\",_xlfn.XLOOKUP($B54,Carreras!F:F,Carreras!$A:$A,0,0,1))","v":""},{"$f":"IF($B54=\"\",\"\",IF($M54=0,0,_xlfn.XLOOKUP(M54,Puntos!A:A,Puntos!B:B,TRUE)))","v":""},{"$f":"IF($B54=\"\",\"\",_xlfn.XLOOKUP($B54,Carreras!$G:$G,Carreras!$A:$A,0,0,1))","v":""},{"$f":"IF($B54=\"\",\"\",IF($O54=0,0,_xlfn.XLOOKUP($O54,Puntos!A:A,Puntos!B:B,TRUE)))","v":""},{"$f":"IF($B54=\"\",\"\",_xlfn.XLOOKUP($B54,Carreras!$H:$H,Carreras!$A:$A,0,0,1))","v":""},{"$f":"IF($B54=\"\",\"\",IF($Q54=0,0,_xlfn.XLOOKUP($Q54,Puntos!A:A,Puntos!B:B,TRUE)))","v":""},{"$f":"IF($B54=\"\",\"\",_xlfn.XLOOKUP($B54,Carreras!$I:$I,Carreras!$A:$A,0,0,1))","v":""},{"$f":"IF($B54=\"\",\"\",IF($S54=0,0,_xlfn.XLOOKUP($S54,Puntos!A:A,Puntos!B:B,TRUE)))","v":""},"",{"$f":"IF($B54=\"\",\"\",_xlfn.IFS(U54=0,0,U54=1,0,U54=2,50,U54=3,100,U54=4,150,U54=5,200,U54=6,250,U54=7,300,U54=8,350))","v":""},"",0]
[52,{"$f":"IF(Carreras!$K53=0,\"\",Carreras!$K53)","v":""},{"$f":"IF(B55=\"\",\"\",_xlfn.XLOOKUP(B55,Socios!A:A,Socios!B:B,FALSE,0,1))","v":""},{"$f":"IF(B55=\"\",\"\",_xlfn.XLOOKUP(B55,Socios!A:A,Socios!C:C,FALSE,0,1))","v":""},{"$f":"IF($B55=\"\",\"\",_xlfn.XLOOKUP($B55,Carreras!$B:$B,Carreras!$A:$A,0,0,1))","v":""},{"$f":"IF($B55=\"\",\"\",IF($E55=0,0,_xlfn.XLOOKUP($E55,Puntos!A:A,Puntos!B:B,TRUE)))","v":""},{"$f":"IF($B55=\"\",\"\",_xlfn.XLOOKUP($B55,Carreras!C:C,Carreras!A:A,0,0,1))","v":""},{"$f":"IF($B55=\"\",\"\",IF($G55=0,0,_xlfn.XLOOKUP($G55,Puntos!A:A,Puntos!B:B,TRUE)))","v":""},{"$f":"IF($B55=\"\",\"\",_xlfn.XLOOKUP($B55,Carreras!$D:$D,Carreras!$A:$A,0,0,1))","v":""},{"$f":"IF($B55=\"\",\"\",IF($I55=0,0,_xlfn.XLOOKUP($I55,Puntos!A:A,Puntos!B:B,TRUE)))","v":""},{"$f":"IF($B55=\"\",\"\",_xlfn.XLOOKUP($B55,Carreras!$E:$E,Carreras!$A:$A,0,0,1))","v":""},{"$f":"IF($B55=\"\",\"\",IF($K55=0,0,_xlfn.XLOOKUP($K55,Puntos!$A:$A,Puntos!$B:$B)))","v":""},{"$f":"IF($B55=\"\",\"\",_xlfn.XLOOKUP($B55,Carreras!F:F,Carreras!$A:$A,0,0,1))","v":""},{"$f":"IF($B55=\"\",\"\",IF($M55=0,0,_xlfn.XLOOKUP(M55,Puntos!A:A,Puntos!B:B,TRUE)))","v":""},{"$f":"IF($B55=\"\",\"\",_xlfn.XLOOKUP($B55,Carreras!$G:$G,Carreras!$A:$A,0,0,1))","v":""},{"$f":"IF($B55=\"\",\"\",IF($O55=0,0,_xlfn.XLOOKUP($O55,Puntos!A:A,Puntos!B:B,TRUE)))","v":""},{"$f":"IF($B55=\"\",\"\",_xlfn.XLOOKUP($B55,Carreras!$H:$H,Carreras!$A:$A,0,0,1))","v":""},{"$f":"IF($B55=\"\",\"\",IF($Q55=0,0,_xlfn.XLOOKUP($Q55,Puntos!A:A,Puntos!B:B,TRUE)))","v":""},{"$f":"IF($B55=\"\",\"\",_xlfn.XLOOKUP($B55,Carreras!$I:$I,Carreras!$A:$A,0,0,1))","v":""},{"$f":"IF($B55=\"\",\"\",IF($S55=0,0,_xlfn.XLOOKUP($S55,Puntos!A:A,Puntos!B:B,TRUE)))","v":""},"",{"$f":"IF($B55=\"\",\"\",_xlfn.IFS(U55=0,0,U55=1,0,U55=2,50,U55=3,100,U55=4,150,U55=5,200,U55=6,250,U55=7,300,U55=8,350))","v":""},"",0]
[53,{"$f":"IF(Carreras!$K54=0,\"\",Carreras!$K54)","v":""},{"$f":"IF(B56=\"\",\"\",_xlfn.XLOOKUP(B56,Socios!A:A,Socios!B:B,FALSE,0,1))","v":""},{"$f":"IF(B56=\"\",\"\",_xlfn.XLOOKUP(B56,Socios!A:A,Socios!C:C,FALSE,0,1))","v":""},{"$f":"IF($B56=\"\",\"\",_xlfn.XLOOKUP($B56,Carreras!$B:$B,Carreras!$A:$A,0,0,1))","v":""},{"$f":"IF($B56=\"\",\"\",IF($E56=0,0,_xlfn.XLOOKUP($E56,Puntos!A:A,Puntos!B:B,TRUE)))","v":""},{"$f":"IF($B56=\"\",\"\",_xlfn.XLOOKUP($B56,Carreras!C:C,Carreras!A:A,0,0,1))","v":""},{"$f":"IF($B56=\"\",\"\",IF($G56=0,0,_xlfn.XLOOKUP($G56,Puntos!A:A,Puntos!B:B,TRUE)))","v":""},{"$f":"IF($B56=\"\",\"\",_xlfn.XLOOKUP($B56,Carreras!$D:$D,Carreras!$A:$A,0,0,1))","v":""},{"$f":"IF($B56=\"\",\"\",IF($I56=0,0,_xlfn.XLOOKUP($I56,Puntos!A:A,Puntos!B:B,TRUE)))","v":""},{"$f":"IF($B56=\"\",\"\",_xlfn.XLOOKUP($B56,Carreras!$E:$E,Carreras!$A:$A,0,0,1))","v":""},{"$f":"IF($B56=\"\",\"\",IF($K56=0,0,_xlfn.XLOOKUP($K56,Puntos!$A:$A,Puntos!$B:$B)))","v":""},{"$f":"IF($B56=\"\",\"\",_xlfn.XLOOKUP($B56,Carreras!F:F,Carreras!$A:$A,0,0,1))","v":""},{"$f":"IF($B56=\"\",\"\",IF($M56=0,0,_xlfn.XLOOKUP(M56,Puntos!A:A,Puntos!B:B,TRUE)))","v":""},{"$f":"IF($B56=\"\",\"\",_xlfn.XLOOKUP($B56,Carreras!$G:$G,Carreras!$A:$A,0,0,1))","v":""},{"$f":"IF($B56=\"\",\"\",IF($O56=0,0,_xlfn.XLOOKUP($O56,Puntos!A:A,Puntos!B:B,TRUE)))","v":""},{"$f":"IF($B56=\"\",\"\",_xlfn.XLOOKUP($B56,Carreras!$H:$H,Carreras!$A:$A,0,0,1))","v":""},{"$f":"IF($B56=\"\",\"\",IF($Q56=0,0,_xlfn.XLOOKUP($Q56,Puntos!A:A,Puntos!B:B,TRUE)))","v":""},{"$f":"IF($B56=\"\",\"\",_xlfn.XLOOKUP($B56,Carreras!$I:$I,Carreras!$A:$A,0,0,1))","v":""},{"$f":"IF($B56=\"\",\"\",IF($S56=0,0,_xlfn.XLOOKUP($S56,Puntos!A:A,Puntos!B:B,TRUE)))","v":""},"",{"$f":"IF($B56=\"\",\"\",_xlfn.IFS(U56=0,0,U56=1,0,U56=2,50,U56=3,100,U56=4,150,U56=5,200,U56=6,250,U56=7,300,U56=8,350))","v":""},"",0]
[54,{"$f":"IF(Carreras!$K55=0,\"\",Carreras!$K55)","v":""},{"$f":"IF(B57=\"\",\"\",_xlfn.XLOOKUP(B57,Socios!A:A,Socios!B:B,FALSE,0,1))","v":""},{"$f":"IF(B57=\"\",\"\",_xlfn.XLOOKUP(B57,Socios!A:A,Socios!C:C,FALSE,0,1))","v":""},{"$f":"IF($B57=\"\",\"\",_xlfn.XLOOKUP($B57,Carreras!$B:$B,Carreras!$A:$A,0,0,1))","v":""},{"$f":"IF($B57=\"\",\"\",IF($E57=0,0,_xlfn.XLOOKUP($E57,Puntos!A:A,Puntos!B:B,TRUE)))","v":""},{"$f":"IF($B57=\"\",\"\",_xlfn.XLOOKUP($B57,Carreras!C:C,Carreras!A:A,0,0,1))","v":""},{"$f":"IF($B57=\"\",\"\",IF($G57=0,0,_xlfn.XLOOKUP($G57,Puntos!A:A,Puntos!B:B,TRUE)))","v":""},{"$f":"IF($B57=\"\",\"\",_xlfn.XLOOKUP($B57,Carreras!$D:$D,Carreras!$A:$A,0,0,1))","v":""},{"$f":"IF($B57=\"\",\"\",IF($I57=0,0,_xlfn.XLOOKUP($I57,Puntos!A:A,Puntos!B:B,TRUE)))","v":""},{"$f":"IF($B57=\"\",\"\",_xlfn.XLOOKUP($B57,Carreras!$E:$E,Carreras!$A:$A,0,0,1))","v":""},{"$f":"IF($B57=\"\",\"\",IF($K57=0,0,_xlfn.XLOOKUP($K57,Puntos!$A:$A,Puntos!$B:$B)))","v":""},{"$f":"IF($B57=\"\",\"\",_xlfn.XLOOKUP($B57,Carreras!F:F,Carreras!$A:$A,0,0,1))","v":""},{"$f":"IF($B57=\"\",\"\",IF($M57=0,0,_xlfn.XLOOKUP(M57,Puntos!A:A,Puntos!B:B,TRUE)))","v":""},{"$f":"IF($B57=\"\",\"\",_xlfn.XLOOKUP($B57,Carreras!$G:$G,Carreras!$A:$A,0,0,1))","v":""},{"$f":"IF($B57=\"\",\"\",IF($O57=0,0,_xlfn.XLOOKUP($O57,Puntos!A:A,Puntos!B:B,TRUE)))","v":""},{"$f":"IF($B57=\"\",\"\",_xlfn.XLOOKUP($B57,Carreras!$H:$H,Carreras!$A:$A,0,0,1))","v":""},{"$f":"IF($B57=\"\",\"\",IF($Q57=0,0,_xlfn.XLOOKUP($Q57,Puntos!A:A,Puntos!B:B,TRUE)))","v":""},{"$f":"IF($B57=\"\",\"\",_xlfn.XLOOKUP($B57,Carreras!$I:$I,Carreras!$A:$A,0,0,1))","v":""},{"$f":"IF($B57=\"\",\"\",IF($S57=0,0,_xlfn.XLOOKUP($S57,Puntos!A:A,Puntos!B:B,TRUE)))","v":""},"",{"$f":"IF($B57=\"\",\"\",_xlfn.IFS(U57=0,0,U57=1,0,U57=2,50,U57=3,100,U57=4,150,U57=5,200,U57=6,250,U57=7,300,U57=8,350))","v":""},"",0]
[55,{"$f":"IF(Carreras!$K56=0,\"\",Carreras!$K56)","v":""},{"$f":"IF(B58=\"\",\"\",_xlfn.XLOOKUP(B58,Socios!A:A,Socios!B:B,FALSE,0,1))","v":""},{"$f":"IF(B58=\"\",\"\",_xlfn.XLOOKUP(B58,Socios!A:A,Socios!C:C,FALSE,0,1))","v":""},{"$f":"IF($B58=\"\",\"\",_xlfn.XLOOKUP($B58,Carreras!$B:$B,Carreras!$A:$A,0,0,1))","v":""},{"$f":"IF($B58=\"\",\"\",IF($E58=0,0,_xlfn.XLOOKUP($E58,Puntos!A:A,Puntos!B:B,TRUE)))","v":""},{"$f":"IF($B58=\"\",\"\",_xlfn.XLOOKUP($B58,Carreras!C:C,Carreras!A:A,0,0,1))","v":""},{"$f":"IF($B58=\"\",\"\",IF($G58=0,0,_xlfn.XLOOKUP($G58,Puntos!A:A,Puntos!B:B,TRUE)))","v":""},{"$f":"IF($B58=\"\",\"\",_xlfn.XLOOKUP($B58,Carreras!$D:$D,Carreras!$A:$A,0,0,1))","v":""},{"$f":"IF($B58=\"\",\"\",IF($I58=0,0,_xlfn.XLOOKUP($I58,Puntos!A:A,Puntos!B:B,TRUE)))","v":""},{"$f":"IF($B58=\"\",\"\",_xlfn.XLOOKUP($B58,Carreras!$E:$E,Carreras!$A:$A,0,0,1))","v":""},{"$f":"IF($B58=\"\",\"\",IF($K58=0,0,_xlfn.XLOOKUP($K58,Puntos!$A:$A,Puntos!$B:$B)))","v":""},{"$f":"IF($B58=\"\",\"\",_xlfn.XLOOKUP($B58,Carreras!F:F,Carreras!$A:$A,0,0,1))","v":""},{"$f":"IF($B58=\"\",\"\",IF($M58=0,0,_xlfn.XLOOKUP(M58,Puntos!A:A,Puntos!B:B,TRUE)))","v":""},{"$f":"IF($B58=\"\",\"\",_xlfn.XLOOKUP($B58,Carreras!$G:$G,Carreras!$A:$A,0,0,1))","v":""},{"$f":"IF($B58=\"\",\"\",IF($O58=0,0,_xlfn.XLOOKUP($O58,Puntos!A:A,Puntos!B:B,TRUE)))","v":""},{"$f":"IF($B58=\"\",\"\",_xlfn.XLOOKUP($B58,Carreras!$H:$H,Carreras!$A:$A,0,0,1))","v":""},{"$f":"IF($B58=\"\",\"\",IF($Q58=0,0,_xlfn.XLOOKUP($Q58,Puntos!A:A,Puntos!B:B,TRUE)))","v":""},{"$f":"IF($B58=\"\",\"\",_xlfn.XLOOKUP($B58,Carreras!$I:$I,Carreras!$A:$A,0,0,1))","v":""},{"$f":"IF($B58=\"\",\"\",IF($S58=0,0,_xlfn.XLOOKUP($S58,Puntos!A:A,Puntos!B:B,TRUE)))","v":""},"",{"$f":"IF($B58=\"\",\"\",_xlfn.IFS(U58=0,0,U58=1,0,U58=2,50,U58=3,100,U58=4,150,U58=5,200,U58=6,250,U58=7,300,U58=8,350))","v":""},"",0]
[56,{"$f":"IF(Carreras!$K57=0,\"\",Carreras!$K57)","v":""},{"$f":"IF(B59=\"\",\"\",_xlfn.XLOOKUP(B59,Socios!A:A,Socios!B:B,FALSE,0,1))","v":""},{"$f":"IF(B59=\"\",\"\",_xlfn.XLOOKUP(B59,Socios!A:A,Socios!C:C,FALSE,0,1))","v":""},{"$f":"IF($B59=\"\",\"\",_xlfn.XLOOKUP($B59,Carreras!$B:$B,Carreras!$A:$A,0,0,1))","v":""},{"$f":"IF($B59=\"\",\"\",IF($E59=0,0,_xlfn.XLOOKUP($E59,Puntos!A:A,Puntos!B:B,TRUE)))","v":""},{"$f":"IF($B59=\"\",\"\",_xlfn.XLOOKUP($B59,Carreras!C:C,Carreras!A:A,0,0,1))","v":""},{"$f":"IF($B59=\"\",\"\",IF($G59=0,0,_xlfn.XLOOKUP($G59,Puntos!A:A,Puntos!B:B,TRUE)))","v":""},{"$f":"IF($B59=\"\",\"\",_xlfn.XLOOKUP($B59,Carreras!$D:$D,Carreras!$A:$A,0,0,1))","v":""},{"$f":"IF($B59=\"\",\"\",IF($I59=0,0,_xlfn.XLOOKUP($I59,Puntos!A:A,Puntos!B:B,TRUE)))","v":""},{"$f":"IF($B59=\"\",\"\",_xlfn.XLOOKUP($B59,Carreras!$E:$E,Carreras!$A:$A,0,0,1))","v":""},{"$f":"IF($B59=\"\",\"\",IF($K59=0,0,_xlfn.XLOOKUP($K59,Puntos!$A:$A,Puntos!$B:$B)))","v":""},{"$f":"IF($B59=\"\",\"\",_xlfn.XLOOKUP($B59,Carreras!F:F,Carreras!$A:$A,0,0,1))","v":""},{"$f":"IF($B59=\"\",\"\",IF($M59=0,0,_xlfn.XLOOKUP(M59,Puntos!A:A,Puntos!B:B,TRUE)))","v":""},{"$f":"IF($B59=\"\",\"\",_xlfn.XLOOKUP($B59,Carreras!$G:$G,Carreras!$A:$A,0,0,1))","v":""},{"$f":"IF($B59=\"\",\"\",IF($O59=0,0,_xlfn.XLOOKUP($O59,Puntos!A:A,Puntos!B:B,TRUE)))","v":""},{"$f":"IF($B59=\"\",\"\",_xlfn.XLOOKUP($B59,Carreras!$H:$H,Carreras!$A:$A,0,0,1))","v":""},{"$f":"IF($B59=\"\",\"\",IF($Q59=0,0,_xlfn.XLOOKUP($Q59,Puntos!A:A,Puntos!B:B,TRUE)))","v":""},{"$f":"IF($B59=\"\",\"\",_xlfn.XLOOKUP($B59,Carreras!$I:$I,Carreras!$A:$A,0,0,1))","v":""},{"$f":"IF($B59=\"\",\"\",IF($S59=0,0,_xlfn.XLOOKUP($S59,Puntos!A:A,Puntos!B:B,TRUE)))","v":""},"",{"$f":"IF($B59=\"\",\"\",_xlfn.IFS(U59=0,0,U59=1,0,U59=2,50,U59=3,100,U59=4,150,U59=5,200,U59=6,250,U59=7,300,U59=8,350))","v":""},"",0]
[57,{"$f":"IF(Carreras!$K58=0,\"\",Carreras!$K58)","v":""},{"$f":"IF(B60=\"\",\"\",_xlfn.XLOOKUP(B60,Socios!A:A,Socios!B:B,FALSE,0,1))","v":""},{"$f":"IF(B60=\"\",\"\",_xlfn.XLOOKUP(B60,Socios!A:A,Socios!C:C,FALSE,0,1))","v":""},{"$f":"IF($B60=\"\",\"\",_xlfn.XLOOKUP($B60,Carreras!$B:$B,Carreras!$A:$A,0,0,1))","v":""},{"$f":"IF($B60=\"\",\"\",IF($E60=0,0,_xlfn.XLOOKUP($E60,Puntos!A:A,Puntos!B:B,TRUE)))","v":""},{"$f":"IF($B60=\"\",\"\",_xlfn.XLOOKUP($B60,Carreras!C:C,Carreras!A:A,0,0,1))","v":""},{"$f":"IF($B60=\"\",\"\",IF($G60=0,0,_xlfn.XLOOKUP($G60,Puntos!A:A,Puntos!B:B,TRUE)))","v":""},{"$f":"IF($B60=\"\",\"\",_xlfn.XLOOKUP($B60,Carreras!$D:$D,Carreras!$A:$A,0,0,1))","v":""},{"$f":"IF($B60=\"\",\"\",IF($I60=0,0,_xlfn.XLOOKUP($I60,Puntos!A:A,Puntos!B:B,TRUE)))","v":""},{"$f":"IF($B60=\"\",\"\",_xlfn.XLOOKUP($B60,Carreras!$E:$E,Carreras!$A:$A,0,0,1))","v":""},{"$f":"IF($B60=\"\",\"\",IF($K60=0,0,_xlfn.XLOOKUP($K60,Puntos!$A:$A,Puntos!$B:$B)))","v":""},{"$f":"IF($B60=\"\",\"\",_xlfn.XLOOKUP($B60,Carreras!F:F,Carreras!$A:$A,0,0,1))","v":""},{"$f":"IF($B60=\"\",\"\",IF($M60=0,0,_xlfn.XLOOKUP(M60,Puntos!A:A,Puntos!B:B,TRUE)))","v":""},{"$f":"IF($B60=\"\",\"\",_xlfn.XLOOKUP($B60,Carreras!$G:$G,Carreras!$A:$A,0,0,1))","v":""},{"$f":"IF($B60=\"\",\"\",IF($O60=0,0,_xlfn.XLOOKUP($O60,Puntos!A:A,Puntos!B:B,TRUE)))","v":""},{"$f":"IF($B60=\"\",\"\",_xlfn.XLOOKUP($B60,Carreras!$H:$H,Carreras!$A:$A,0,0,1))","v":""},{"$f":"IF($B60=\"\",\"\",IF($Q60=0,0,_xlfn.XLOOKUP($Q60,Puntos!A:A,Puntos!B:B,TRUE)))","v":""},{"$f":"IF($B60=\"\",\"\",_xlfn.XLOOKUP($B60,Carreras!$I:$I,Carreras!$A:$A,0,0,1))","v":""},{"$f":"IF($B60=\"\",\"\",IF($S60=0,0,_xlfn.XLOOKUP($S60,Puntos!A:A,Puntos!B:B,TRUE)))","v":""},"",{"$f":"IF($B60=\"\",\"\",_xlfn.IFS(U60=0,0,U60=1,0,U60=2,50,U60=3,100,U60=4,150,U60=5,200,U60=6,250,U60=7,300,U60=8,350))","v":""},"",0]
[58,{"$f":"IF(Carreras!$K59=0,\"\",Carreras!$K59)","v":""},{"$f":"IF(B61=\"\",\"\",_xlfn.XLOOKUP(B61,Socios!A:A,Socios!B:B,FALSE,0,1))","v":""},{"$f":"IF(B61=\"\",\"\",_xlfn.XLOOKUP(B61,Socios!A:A,Socios!C:C,FALSE,0,1))","v":""},{"$f":"IF($B61=\"\",\"\",_xlfn.XLOOKUP($B61,Carreras!$B:$B,Carreras!$A:$A,0,0,1))","v":""},{"$f":"IF($B61=\"\",\"\",IF($E61=0,0,_xlfn.XLOOKUP($E61,Puntos!A:A,Puntos!B:B,TRUE)))","v":""},{"$f":"IF($B61=\"\",\"\",_xlfn.XLOOKUP($B61,Carreras!C:C,Carreras!A:A,0,0,1))","v":""},{"$f":"IF($B61=\"\",\"\",IF($G61=0,0,_xlfn.XLOOKUP($G61,Puntos!A:A,Puntos!B:B,TRUE)))","v":""},{"$f":"IF($B61=\"\",\"\",_xlfn.XLOOKUP($B61,Carreras!$D:$D,Carreras!$A:$A,0,0,1))","v":""},{"$f":"IF($B61=\"\",\"\",IF($I61=0,0,_xlfn.XLOOKUP($I61,Puntos!A:A,Puntos!B:B,TRUE)))","v":""},{"$f":"IF($B61=\"\",\"\",_xlfn.XLOOKUP($B61,Carreras!$E:$E,Carreras!$A:$A,0,0,1))","v":""},{"$f":"IF($B61=\"\",\"\",IF($K61=0,0,_xlfn.XLOOKUP($K61,Puntos!$A:$A,Puntos!$B:$B)))","v":""},{"$f":"IF($B61=\"\",\"\",_xlfn.XLOOKUP($B61,Carreras!F:F,Carreras!$A:$A,0,0,1))","v":""},{"$f":"IF($B61=\"\",\"\",IF($M61=0,0,_xlfn.XLOOKUP(M61,Puntos!A:A,Puntos!B:B,TRUE)))","v":""},{"$f":"IF($B61=\"\",\"\",_xlfn.XLOOKUP($B61,Carreras!$G:$G,Carreras!$A:$A,0,0,1))","v":""},{"$f":"IF($B61=\"\",\"\",IF($O61=0,0,_xlfn.XLOOKUP($O61,Puntos!A:A,Puntos!B:B,TRUE)))","v":""},{"$f":"IF($B61=\"\",\"\",_xlfn.XLOOKUP($B61,Carreras!$H:$H,Carreras!$A:$A,0,0,1))","v":""},{"$f":"IF($B61=\"\",\"\",IF($Q61=0,0,_xlfn.XLOOKUP($Q61,Puntos!A:A,Puntos!B:B,TRUE)))","v":""},{"$f":"IF($B61=\"\",\"\",_xlfn.XLOOKUP($B61,Carreras!$I:$I,Carreras!$A:$A,0,0,1))","v":""},{"$f":"IF($B61=\"\",\"\",IF($S61=0,0,_xlfn.XLOOKUP($S61,Puntos!A:A,Puntos!B:B,TRUE)))","v":""},"",{"$f":"IF($B61=\"\",\"\",_xlfn.IFS(U61=0,0,U61=1,0,U61=2,50,U61=3,100,U61=4,150,U61=5,200,U61=6,250,U61=7,300,U61=8,350))","v":""},"",0]
[59,{"$f":"IF(Carreras!$K60=0,\"\",Carreras!$K60)","v":""},{"$f":"IF(B62=\"\",\"\",_xlfn.XLOOKUP(B62,Socios!A:A,Socios!B:B,FALSE,0,1))","v":""},{"$f":"IF(B62=\"\",\"\",_xlfn.XLOOKUP(B62,Socios!A:A,Socios!C:C,FALSE,0,1))","v":""},{"$f":"IF($B62=\"\",\"\",_xlfn.XLOOKUP($B62,Carreras!$B:$B,Carreras!$A:$A,0,0,1))","v":""},{"$f":"IF($B62=\"\",\"\",IF($E62=0,0,_xlfn.XLOOKUP($E62,Puntos!A:A,Puntos!B:B,TRUE)))","v":""},{"$f":"IF($B62=\"\",\"\",_xlfn.XLOOKUP($B62,Carreras!C:C,Carreras!A:A,0,0,1))","v":""},{"$f":"IF($B62=\"\",\"\",IF($G62=0,0,_xlfn.XLOOKUP($G62,Puntos!A:A,Puntos!B:B,TRUE)))","v":""},{"$f":"IF($B62=\"\",\"\",_xlfn.XLOOKUP($B62,Carreras!$D:$D,Carreras!$A:$A,0,0,1))","v":""},{"$f":"IF($B62=\"\",\"\",IF($I62=0,0,_xlfn.XLOOKUP($I62,Puntos!A:A,Puntos!B:B,TRUE)))","v":""},{"$f":"IF($B62=\"\",\"\",_xlfn.XLOOKUP($B62,Carreras!$E:$E,Carreras!$A:$A,0,0,1))","v":""},{"$f":"IF($B62=\"\",\"\",IF($K62=0,0,_xlfn.XLOOKUP($K62,Puntos!$A:$A,Puntos!$B:$B)))","v":""},{"$f":"IF($B62=\"\",\"\",_xlfn.XLOOKUP($B62,Carreras!F:F,Carreras!$A:$A,0,0,1))","v":""},{"$f":"IF($B62=\"\",\"\",IF($M62=0,0,_xlfn.XLOOKUP(M62,Puntos!A:A,Puntos!B:B,TRUE)))","v":""},{"$f":"IF($B62=\"\",\"\",_xlfn.XLOOKUP($B62,Carreras!$G:$G,Carreras!$A:$A,0,0,1))","v":""},{"$f":"IF($B62=\"\",\"\",IF($O62=0,0,_xlfn.XLOOKUP($O62,Puntos!A:A,Puntos!B:B,TRUE)))","v":""},{"$f":"IF($B62=\"\",\"\",_xlfn.XLOOKUP($B62,Carreras!$H:$H,Carreras!$A:$A,0,0,1))","v":""},{"$f":"IF($B62=\"\",\"\",IF($Q62=0,0,_xlfn.XLOOKUP($Q62,Puntos!A:A,Puntos!B:B,TRUE)))","v":""},{"$f":"IF($B62=\"\",\"\",_xlfn.XLOOKUP($B62,Carreras!$I:$I,Carreras!$A:$A,0,0,1))","v":""},{"$f":"IF($B62=\"\",\"\",IF($S62=0,0,_xlfn.XLOOKUP($S62,Puntos!A:A,Puntos!B:B,TRUE)))","v":""},"",{"$f":"IF($B62=\"\",\"\",_xlfn.IFS(U62=0,0,U62=1,0,U62=2,50,U62=3,100,U62=4,150,U62=5,200,U62=6,250,U62=7,300,U62=8,350))","v":""},"",0]
[60,{"$f":"IF(Carreras!$K61=0,\"\",Carreras!$K61)","v":""},{"$f":"IF(B63=\"\",\"\",_xlfn.XLOOKUP(B63,Socios!A:A,Socios!B:B,FALSE,0,1))","v":""},{"$f":"IF(B63=\"\",\"\",_xlfn.XLOOKUP(B63,Socios!A:A,Socios!C:C,FALSE,0,1))","v":""},{"$f":"IF($B63=\"\",\"\",_xlfn.XLOOKUP($B63,Carreras!$B:$B,Carreras!$A:$A,0,0,1))","v":""},{"$f":"IF($B63=\"\",\"\",IF($E63=0,0,_xlfn.XLOOKUP($E63,Puntos!A:A,Puntos!B:B,TRUE)))","v":""},{"$f":"IF($B63=\"\",\"\",_xlfn.XLOOKUP($B63,Carreras!C:C,Carreras!A:A,0,0,1))","v":""},{"$f":"IF($B63=\"\",\"\",IF($G63=0,0,_xlfn.XLOOKUP($G63,Puntos!A:A,Puntos!B:B,TRUE)))","v":""},{"$f":"IF($B63=\"\",\"\",_xlfn.XLOOKUP($B63,Carreras!$D:$D,Carreras!$A:$A,0,0,1))","v":""},{"$f":"IF($B63=\"\",\"\",IF($I63=0,0,_xlfn.XLOOKUP($I63,Puntos!A:A,Puntos!B:B,TRUE)))","v":""},{"$f":"IF($B63=\"\",\"\",_xlfn.XLOOKUP($B63,Carreras!$E:$E,Carreras!$A:$A,0,0,1))","v":""},{"$f":"IF($B63=\"\",\"\",IF($K63=0,0,_xlfn.XLOOKUP($K63,Puntos!$A:$A,Puntos!$B:$B)))","v":""},{"$f":"IF($B63=\"\",\"\",_xlfn.XLOOKUP($B63,Carreras!F:F,Carreras!$A:$A,0,0,1))","v":""},{"$f":"IF($B63=\"\",\"\",IF($M63=0,0,_xlfn.XLOOKUP(M63,Puntos!A:A,Puntos!B:B,TRUE)))","v":""},{"$f":"IF($B63=\"\",\"\",_xlfn.XLOOKUP($B63,Carreras!$G:$G,Carreras!$A:$A,0,0,1))","v":""},{"$f":"IF($B63=\"\",\"\",IF($O63=0,0,_xlfn.XLOOKUP($O63,Puntos!A:A,Puntos!B:B,TRUE)))","v":""},{"$f":"IF($B63=\"\",\"\",_xlfn.XLOOKUP($B63,Carreras!$H:$H,Carreras!$A:$A,0,0,1))","v":""},{"$f":"IF($B63=\"\",\"\",IF($Q63=0,0,_xlfn.XLOOKUP($Q63,Puntos!A:A,Puntos!B:B,TRUE)))","v":""},{"$f":"IF($B63=\"\",\"\",_xlfn.XLOOKUP($B63,Carreras!$I:$I,Carreras!$A:$A,0,0,1))","v":""},{"$f":"IF($B63=\"\",\"\",IF($S63=0,0,_xlfn.XLOOKUP($S63,Puntos!A:A,Puntos!B:B,TRUE)))","v":""},"",{"$f":"IF($B63=\"\",\"\",_xlfn.IFS(U63=0,0,U63=1,0,U63=2,50,U63=3,100,U63=4,150,U63=5,200,U63=6,250,U63=7,300,U63=8,350))","v":""},"",0]
[61,{"$f":"IF(Carreras!$K62=0,\"\",Carreras!$K62)","v":""},{"$f":"IF(B64=\"\",\"\",_xlfn.XLOOKUP(B64,Socios!A:A,Socios!B:B,FALSE,0,1))","v":""},{"$f":"IF(B64=\"\",\"\",_xlfn.XLOOKUP(B64,Socios!A:A,Socios!C:C,FALSE,0,1))","v":""},{"$f":"IF($B64=\"\",\"\",_xlfn.XLOOKUP($B64,Carreras!$B:$B,Carreras!$A:$A,0,0,1))","v":""},{"$f":"IF($B64=\"\",\"\",IF($E64=0,0,_xlfn.XLOOKUP($E64,Puntos!A:A,Puntos!B:B,TRUE)))","v":""},{"$f":"IF($B64=\"\",\"\",_xlfn.XLOOKUP($B64,Carreras!C:C,Carreras!A:A,0,0,1))","v":""},{"$f":"IF($B64=\"\",\"\",IF($G64=0,0,_xlfn.XLOOKUP($G64,Puntos!A:A,Puntos!B:B,TRUE)))","v":""},{"$f":"IF($B64=\"\",\"\",_xlfn.XLOOKUP($B64,Carreras!$D:$D,Carreras!$A:$A,0,0,1))","v":""},{"$f":"IF($B64=\"\",\"\",IF($I64=0,0,_xlfn.XLOOKUP($I64,Puntos!A:A,Puntos!B:B,TRUE)))","v":""},{"$f":"IF($B64=\"\",\"\",_xlfn.XLOOKUP($B64,Carreras!$E:$E,Carreras!$A:$A,0,0,1))","v":""},{"$f":"IF($B64=\"\",\"\",IF($K64=0,0,_xlfn.XLOOKUP($K64,Puntos!$A:$A,Puntos!$B:$B)))","v":""},{"$f":"IF($B64=\"\",\"\",_xlfn.XLOOKUP($B64,Carreras!F:F,Carreras!$A:$A,0,0,1))","v":""},{"$f":"IF($B64=\"\",\"\",IF($M64=0,0,_xlfn.XLOOKUP(M64,Puntos!A:A,Puntos!B:B,TRUE)))","v":""},{"$f":"IF($B64=\"\",\"\",_xlfn.XLOOKUP($B64,Carreras!$G:$G,Carreras!$A:$A,0,0,1))","v":""},{"$f":"IF($B64=\"\",\"\",IF($O64=0,0,_xlfn.XLOOKUP($O64,Puntos!A:A,Puntos!B:B,TRUE)))","v":""},{"$f":"IF($B64=\"\",\"\",_xlfn.XLOOKUP($B64,Carreras!$H:$H,Carreras!$A:$A,0,0,1))","v":""},{"$f":"IF($B64=\"\",\"\",IF($Q64=0,0,_xlfn.XLOOKUP($Q64,Puntos!A:A,Puntos!B:B,TRUE)))","v":""},{"$f":"IF($B64=\"\",\"\",_xlfn.XLOOKUP($B64,Carreras!$I:$I,Carreras!$A:$A,0,0,1))","v":""},{"$f":"IF($B64=\"\",\"\",IF($S64=0,0,_xlfn.XLOOKUP($S64,Puntos!A:A,Puntos!B:B,TRUE)))","v":""},"",{"$f":"IF($B64=\"\",\"\",_xlfn.IFS(U64=0,0,U64=1,0,U64=2,50,U64=3,100,U64=4,150,U64=5,200,U64=6,250,U64=7,300,U64=8,350))","v":""},"",0]
[62,{"$f":"IF(Carreras!$K63=0,\"\",Carreras!$K63)","v":""},{"$f":"IF(B65=\"\",\"\",_xlfn.XLOOKUP(B65,Socios!A:A,Socios!B:B,FALSE,0,1))","v":""},{"$f":"IF(B65=\"\",\"\",_xlfn.XLOOKUP(B65,Socios!A:A,Socios!C:C,FALSE,0,1))","v":""},{"$f":"IF($B65=\"\",\"\",_xlfn.XLOOKUP($B65,Carreras!$B:$B,Carreras!$A:$A,0,0,1))","v":""},{"$f":"IF($B65=\"\",\"\",IF($E65=0,0,_xlfn.XLOOKUP($E65,Puntos!A:A,Puntos!B:B,TRUE)))","v":""},{"$f":"IF($B65=\"\",\"\",_xlfn.XLOOKUP($B65,Carreras!C:C,Carreras!A:A,0,0,1))","v":""},{"$f":"IF($B65=\"\",\"\",IF($G65=0,0,_xlfn.XLOOKUP($G65,Puntos!A:A,Puntos!B:B,TRUE)))","v":""},{"$f":"IF($B65=\"\",\"\",_xlfn.XLOOKUP($B65,Carreras!$D:$D,Carreras!$A:$A,0,0,1))","v":""},{"$f":"IF($B65=\"\",\"\",IF($I65=0,0,_xlfn.XLOOKUP($I65,Puntos!A:A,Puntos!B:B,TRUE)))","v":""},{"$f":"IF($B65=\"\",\"\",_xlfn.XLOOKUP($B65,Carreras!$E:$E,Carreras!$A:$A,0,0,1))","v":""},{"$f":"IF($B65=\"\",\"\",IF($K65=0,0,_xlfn.XLOOKUP($K65,Puntos!$A:$A,Puntos!$B:$B)))","v":""},{"$f":"IF($B65=\"\",\"\",_xlfn.XLOOKUP($B65,Carreras!F:F,Carreras!$A:$A,0,0,1))","v":""},{"$f":"IF($B65=\"\",\"\",IF($M65=0,0,_xlfn.XLOOKUP(M65,Puntos!A:A,Puntos!B:B,TRUE)))","v":""},{"$f":"IF($B65=\"\",\"\",_xlfn.XLOOKUP($B65,Carreras!$G:$G,Carreras!$A:$A,0,0,1))","v":""},{"$f":"IF($B65=\"\",\"\",IF($O65=0,0,_xlfn.XLOOKUP($O65,Puntos!A:A,Puntos!B:B,TRUE)))","v":""},{"$f":"IF($B65=\"\",\"\",_xlfn.XLOOKUP($B65,Carreras!$H:$H,Carreras!$A:$A,0,0,1))","v":""},{"$f":"IF($B65=\"\",\"\",IF($Q65=0,0,_xlfn.XLOOKUP($Q65,Puntos!A:A,Puntos!B:B,TRUE)))","v":""},{"$f":"IF($B65=\"\",\"\",_xlfn.XLOOKUP($B65,Carreras!$I:$I,Carreras!$A:$A,0,0,1))","v":""},{"$f":"IF($B65=\"\",\"\",IF($S65=0,0,_xlfn.XLOOKUP($S65,Puntos!A:A,Puntos!B:B,TRUE)))","v":""},"",{"$f":"IF($B65=\"\",\"\",_xlfn.IFS(U65=0,0,U65=1,0,U65=2,50,U65=3,100,U65=4,150,U65=5,200,U65=6,250,U65=7,300,U65=8,350))","v":""},"",0]
[63,{"$f":"IF(Carreras!$K64=0,\"\",Carreras!$K64)","v":""},{"$f":"IF(B66=\"\",\"\",_xlfn.XLOOKUP(B66,Socios!A:A,Socios!B:B,FALSE,0,1))","v":""},{"$f":"IF(B66=\"\",\"\",_xlfn.XLOOKUP(B66,Socios!A:A,Socios!C:C,FALSE,0,1))","v":""},{"$f":"IF($B66=\"\",\"\",_xlfn.XLOOKUP($B66,Carreras!$B:$B,Carreras!$A:$A,0,0,1))","v":""},{"$f":"IF($B66=\"\",\"\",IF($E66=0,0,_xlfn.XLOOKUP($E66,Puntos!A:A,Puntos!B:B,TRUE)))","v":""},{"$f":"IF($B66=\"\",\"\",_xlfn.XLOOKUP($B66,Carreras!C:C,Carreras!A:A,0,0,1))","v":""},{"$f":"IF($B66=\"\",\"\",IF($G66=0,0,_xlfn.XLOOKUP($G66,Puntos!A:A,Puntos!B:B,TRUE)))","v":""},{"$f":"IF($B66=\"\",\"\",_xlfn.XLOOKUP($B66,Carreras!$D:$D,Carreras!$A:$A,0,0,1))","v":""},{"$f":"IF($B66=\"\",\"\",IF($I66=0,0,_xlfn.XLOOKUP($I66,Puntos!A:A,Puntos!B:B,TRUE)))","v":""},{"$f":"IF($B66=\"\",\"\",_xlfn.XLOOKUP($B66,Carreras!$E:$E,Carreras!$A:$A,0,0,1))","v":""},{"$f":"IF($B66=\"\",\"\",IF($K66=0,0,_xlfn.XLOOKUP($K66,Puntos!$A:$A,Puntos!$B:$B)))","v":""},{"$f":"IF($B66=\"\",\"\",_xlfn.XLOOKUP($B66,Carreras!F:F,Carreras!$A:$A,0,0,1))","v":""},{"$f":"IF($B66=\"\",\"\",IF($M66=0,0,_xlfn.XLOOKUP(M66,Puntos!A:A,Puntos!B:B,TRUE)))","v":""},{"$f":"IF($B66=\"\",\"\",_xlfn.XLOOKUP($B66,Carreras!$G:$G,Carreras!$A:$A,0,0,1))","v":""},{"$f":"IF($B66=\"\",\"\",IF($O66=0,0,_xlfn.XLOOKUP($O66,Puntos!A:A,Puntos!B:B,TRUE)))","v":""},{"$f":"IF($B66=\"\",\"\",_xlfn.XLOOKUP($B66,Carreras!$H:$H,Carreras!$A:$A,0,0,1))","v":""},{"$f":"IF($B66=\"\",\"\",IF($Q66=0,0,_xlfn.XLOOKUP($Q66,Puntos!A:A,Puntos!B:B,TRUE)))","v":""},{"$f":"IF($B66=\"\",\"\",_xlfn.XLOOKUP($B66,Carreras!$I:$I,Carreras!$A:$A,0,0,1))","v":""},{"$f":"IF($B66=\"\",\"\",IF($S66=0,0,_xlfn.XLOOKUP($S66,Puntos!A:A,Puntos!B:B,TRUE)))","v":""},"",{"$f":"IF($B66=\"\",\"\",_xlfn.IFS(U66=0,0,U66=1,0,U66=2,50,U66=3,100,U66=4,150,U66=5,200,U66=6,250,U66=7,300,U66=8,350))","v":""},"",0]
[64,{"$f":"IF(Carreras!$K65=0,\"\",Carreras!$K65)","v":""},{"$f":"IF(B67=\"\",\"\",_xlfn.XLOOKUP(B67,Socios!A:A,Socios!B:B,FALSE,0,1))","v":""},{"$f":"IF(B67=\"\",\"\",_xlfn.XLOOKUP(B67,Socios!A:A,Socios!C:C,FALSE,0,1))","v":""},{"$f":"IF($B67=\"\",\"\",_xlfn.XLOOKUP($B67,Carreras!$B:$B,Carreras!$A:$A,0,0,1))","v":""},{"$f":"IF($B67=\"\",\"\",IF($E67=0,0,_xlfn.XLOOKUP($E67,Puntos!A:A,Puntos!B:B,TRUE)))","v":""},{"$f":"IF($B67=\"\",\"\",_xlfn.XLOOKUP($B67,Carreras!C:C,Carreras!A:A,0,0,1))","v":""},{"$f":"IF($B67=\"\",\"\",IF($G67=0,0,_xlfn.XLOOKUP($G67,Puntos!A:A,Puntos!B:B,TRUE)))","v":""},{"$f":"IF($B67=\"\",\"\",_xlfn.XLOOKUP($B67,Carreras!$D:$D,Carreras!$A:$A,0,0,1))","v":""},{"$f":"IF($B67=\"\",\"\",IF($I67=0,0,_xlfn.XLOOKUP($I67,Puntos!A:A,Puntos!B:B,TRUE)))","v":""},{"$f":"IF($B67=\"\",\"\",_xlfn.XLOOKUP($B67,Carreras!$E:$E,Carreras!$A:$A,0,0,1))","v":""},{"$f":"IF($B67=\"\",\"\",IF($K67=0,0,_xlfn.XLOOKUP($K67,Puntos!$A:$A,Puntos!$B:$B)))","v":""},{"$f":"IF($B67=\"\",\"\",_xlfn.XLOOKUP($B67,Carreras!F:F,Carreras!$A:$A,0,0,1))","v":""},{"$f":"IF($B67=\"\",\"\",IF($M67=0,0,_xlfn.XLOOKUP(M67,Puntos!A:A,Puntos!B:B,TRUE)))","v":""},{"$f":"IF($B67=\"\",\"\",_xlfn.XLOOKUP($B67,Carreras!$G:$G,Carreras!$A:$A,0,0,1))","v":""},{"$f":"IF($B67=\"\",\"\",IF($O67=0,0,_xlfn.XLOOKUP($O67,Puntos!A:A,Puntos!B:B,TRUE)))","v":""},{"$f":"IF($B67=\"\",\"\",_xlfn.XLOOKUP($B67,Carreras!$H:$H,Carreras!$A:$A,0,0,1))","v":""},{"$f":"IF($B67=\"\",\"\",IF($Q67=0,0,_xlfn.XLOOKUP($Q67,Puntos!A:A,Puntos!B:B,TRUE)))","v":""},{"$f":"IF($B67=\"\",\"\",_xlfn.XLOOKUP($B67,Carreras!$I:$I,Carreras!$A:$A,0,0,1))","v":""},{"$f":"IF($B67=\"\",\"\",IF($S67=0,0,_xlfn.XLOOKUP($S67,Puntos!A:A,Puntos!B:B,TRUE)))","v":""},"",{"$f":"IF($B67=\"\",\"\",_xlfn.IFS(U67=0,0,U67=1,0,U67=2,50,U67=3,100,U67=4,150,U67=5,200,U67=6,250,U67=7,300,U67=8,350))","v":""},"",0]
[65,{"$f":"IF(Carreras!$K66=0,\"\",Carreras!$K66)","v":""},{"$f":"IF(B68=\"\",\"\",_xlfn.XLOOKUP(B68,Socios!A:A,Socios!B:B,FALSE,0,1))","v":""},{"$f":"IF(B68=\"\",\"\",_xlfn.XLOOKUP(B68,Socios!A:A,Socios!C:C,FALSE,0,1))","v":""},{"$f":"IF($B68=\"\",\"\",_xlfn.XLOOKUP($B68,Carreras!$B:$B,Carreras!$A:$A,0,0,1))","v":""},{"$f":"IF($B68=\"\",\"\",IF($E68=0,0,_xlfn.XLOOKUP($E68,Puntos!A:A,Puntos!B:B,TRUE)))","v":""},{"$f":"IF($B68=\"\",\"\",_xlfn.XLOOKUP($B68,Carreras!C:C,Carreras!A:A,0,0,1))","v":""},{"$f":"IF($B68=\"\",\"\",IF($G68=0,0,_xlfn.XLOOKUP($G68,Puntos!A:A,Puntos!B:B,TRUE)))","v":""},{"$f":"IF($B68=\"\",\"\",_xlfn.XLOOKUP($B68,Carreras!$D:$D,Carreras!$A:$A,0,0,1))","v":""},{"$f":"IF($B68=\"\",\"\",IF($I68=0,0,_xlfn.XLOOKUP($I68,Puntos!A:A,Puntos!B:B,TRUE)))","v":""},{"$f":"IF($B68=\"\",\"\",_xlfn.XLOOKUP($B68,Carreras!$E:$E,Carreras!$A:$A,0,0,1))","v":""},{"$f":"IF($B68=\"\",\"\",IF($K68=0,0,_xlfn.XLOOKUP($K68,Puntos!$A:$A,Puntos!$B:$B)))","v":""},{"$f":"IF($B68=\"\",\"\",_xlfn.XLOOKUP($B68,Carreras!F:F,Carreras!$A:$A,0,0,1))","v":""},{"$f":"IF($B68=\"\",\"\",IF($M68=0,0,_xlfn.XLOOKUP(M68,Puntos!A:A,Puntos!B:B,TRUE)))","v":""},{"$f":"IF($B68=\"\",\"\",_xlfn.XLOOKUP($B68,Carreras!$G:$G,Carreras!$A:$A,0,0,1))","v":""},{"$f":"IF($B68=\"\",\"\",IF($O68=0,0,_xlfn.XLOOKUP($O68,Puntos!A:A,Puntos!B:B,TRUE)))","v":""},{"$f":"IF($B68=\"\",\"\",_xlfn.XLOOKUP($B68,Carreras!$H:$H,Carreras!$A:$A,0,0,1))","v":""},{"$f":"IF($B68=\"\",\"\",IF($Q68=0,0,_xlfn.XLOOKUP($Q68,Puntos!A:A,Puntos!B:B,TRUE)))","v":""},{"$f":"IF($B68=\"\",\"\",_xlfn.XLOOKUP($B68,Carreras!$I:$I,Carreras!$A:$A,0,0,1))","v":""},{"$f":"IF($B68=\"\",\"\",IF($S68=0,0,_xlfn.XLOOKUP($S68,Puntos!A:A,Puntos!B:B,TRUE)))","v":""},{"$f":"IF($B68=\"\",\"\",COUNTIF(F68,\">0\")+COUNTIF(H68,\">0\")+COUNTIF(J68,\">0\")+COUNTIF(L68,\">0\")+COUNTIF(N68,\">0\")*COUNTIF(P68,\">0\")+COUNTIF(R68,\">0\")+COUNTIF(T68,\"\">0))","v":""},{"$f":"IF($B68=\"\",\"\",_xlfn.IFS(U68=0,0,U68=1,0,U68=2,50,U68=3,100,U68=4,150,U68=5,200,U68=6,250,U68=7,300,U68=8,350))","v":""},{"$f":"IF(B68=\"\",\"\",F68+H68+J68+L68+P68+N68+R68+T68+V68)","v":""},{"$f":"IF(B68=\"\",0,W68-MIN(F68,H68,J68,L68,N68,P68,R68,T68))","v":0}]
[66,{"$f":"IF(Carreras!$K67=0,\"\",Carreras!$K67)","v":""},{"$f":"IF(B69=\"\",\"\",_xlfn.XLOOKUP(B69,Socios!A:A,Socios!B:B,FALSE,0,1))","v":""},{"$f":"IF(B69=\"\",\"\",_xlfn.XLOOKUP(B69,Socios!A:A,Socios!C:C,FALSE,0,1))","v":""},{"$f":"IF($B69=\"\",\"\",_xlfn.XLOOKUP($B69,Carreras!$B:$B,Carreras!$A:$A,0,0,1))","v":""},{"$f":"IF($B69=\"\",\"\",IF($E69=0,0,_xlfn.XLOOKUP($E69,Puntos!A:A,Puntos!B:B,TRUE)))","v":""},{"$f":"IF($B69=\"\",\"\",_xlfn.XLOOKUP($B69,Carreras!C:C,Carreras!A:A,0,0,1))","v":""},{"$f":"IF($B69=\"\",\"\",IF($G69=0,0,_xlfn.XLOOKUP($G69,Puntos!A:A,Puntos!B:B,TRUE)))","v":""},{"$f":"IF($B69=\"\",\"\",_xlfn.XLOOKUP($B69,Carreras!$D:$D,Carreras!$A:$A,0,0,1))","v":""},{"$f":"IF($B69=\"\",\"\",IF($I69=0,0,_xlfn.XLOOKUP($I69,Puntos!A:A,Puntos!B:B,TRUE)))","v":""},{"$f":"IF($B69=\"\",\"\",_xlfn.XLOOKUP($B69,Carreras!$E:$E,Carreras!$A:$A,0,0,1))","v":""},{"$f":"IF($B69=\"\",\"\",IF($K69=0,0,_xlfn.XLOOKUP($K69,Puntos!$A:$A,Puntos!$B:$B)))","v":""},{"$f":"IF($B69=\"\",\"\",_xlfn.XLOOKUP($B69,Carreras!F:F,Carreras!$A:$A,0,0,1))","v":""},{"$f":"IF($B69=\"\",\"\",IF($M69=0,0,_xlfn.XLOOKUP(M69,Puntos!A:A,Puntos!B:B,TRUE)))","v":""},{"$f":"IF($B69=\"\",\"\",_xlfn.XLOOKUP($B69,Carreras!$G:$G,Carreras!$A:$A,0,0,1))","v":""},{"$f":"IF($B69=\"\",\"\",IF($O69=0,0,_xlfn.XLOOKUP($O69,Puntos!A:A,Puntos!B:B,TRUE)))","v":""},{"$f":"IF($B69=\"\",\"\",_xlfn.XLOOKUP($B69,Carreras!$H:$H,Carreras!$A:$A,0,0,1))","v":""},{"$f":"IF($B69=\"\",\"\",IF($Q69=0,0,_xlfn.XLOOKUP($Q69,Puntos!A:A,Puntos!B:B,TRUE)))","v":""},{"$f":"IF($B69=\"\",\"\",_xlfn.XLOOKUP($B69,Carreras!$I:$I,Carreras!$A:$A,0,0,1))","v":""},{"$f":"IF($B69=\"\",\"\",IF($S69=0,0,_xlfn.XLOOKUP($S69,Puntos!A:A,Puntos!B:B,TRUE)))","v":""},"",{"$f":"IF($B69=\"\",\"\",_xlfn.IFS(U69=0,0,U69=1,0,U69=2,50,U69=3,100,U69=4,150,U69=5,200,U69=6,250,U69=7,300,U69=8,350))","v":""},"",0]
[{"$f":"A69+1","v":67},{"$f":"IF(Carreras!$K68=0,\"\",Carreras!$K68)","v":""},{"$f":"IF(B70=\"\",\"\",_xlfn.XLOOKUP(B70,Socios!A:A,Socios!B:B,FALSE,0,1))","v":""},{"$f":"IF(B70=\"\",\"\",_xlfn.XLOOKUP(B70,Socios!A:A,Socios!C:C,FALSE,0,1))","v":""},{"$f":"IF($B70=\"\",\"\",_xlfn.XLOOKUP($B70,Carreras!$B:$B,Carreras!$A:$A,0,0,1))","v":""},{"$f":"IF($B70=\"\",\"\",IF($E70=0,0,_xlfn.XLOOKUP($E70,Puntos!A:A,Puntos!B:B,TRUE)))","v":""},{"$f":"IF($B70=\"\",\"\",_xlfn.XLOOKUP($B70,Carreras!C:C,Carreras!A:A,0,0,1))","v":""},{"$f":"IF($B70=\"\",\"\",IF($G70=0,0,_xlfn.XLOOKUP($G70,Puntos!A:A,Puntos!B:B,TRUE)))","v":""},{"$f":"IF($B70=\"\",\"\",_xlfn.XLOOKUP($B70,Carreras!$D:$D,Carreras!$A:$A,0,0,1))","v":""},{"$f":"IF($B70=\"\",\"\",IF($I70=0,0,_xlfn.XLOOKUP($I70,Puntos!A:A,Puntos!B:B,TRUE)))","v":""},{"$f":"IF($B70=\"\",\"\",_xlfn.XLOOKUP($B70,Carreras!$E:$E,Carreras!$A:$A,0,0,1))","v":""},{"$f":"IF($B70=\"\",\"\",IF($K70=0,0,_xlfn.XLOOKUP($K70,Puntos!$A:$A,Puntos!$B:$B)))","v":""},{"$f":"IF($B70=\"\",\"\",_xlfn.XLOOKUP($B70,Carreras!F:F,Carreras!$A:$A,0,0,1))","v":""},{"$f":"IF($B70=\"\",\"\",IF($M70=0,0,_xlfn.XLOOKUP(M70,Puntos!A:A,Puntos!B:B,TRUE)))","v":""},{"$f":"IF($B70=\"\",\"\",_xlfn.XLOOKUP($B70,Carreras!$G:$G,Carreras!$A:$A,0,0,1))","v":""},{"$f":"IF($B70=\"\",\"\",IF($O70=0,0,_xlfn.XLOOKUP($O70,Puntos!A:A,Puntos!B:B,TRUE)))","v":""},{"$f":"IF($B70=\"\",\"\",_xlfn.XLOOKUP($B70,Carreras!$H:$H,Carreras!$A:$A,0,0,1))","v":""},{"$f":"IF($B70=\"\",\"\",IF($Q70=0,0,_xlfn.XLOOKUP($Q70,Puntos!A:A,Puntos!B:B,TRUE)))","v":""},{"$f":"IF($B70=\"\",\"\",_xlfn.XLOOKUP($B70,Carreras!$I:$I,Carreras!$A:$A,0,0,1))","v":""},{"$f":"IF($B70=\"\",\"\",IF($S70=0,0,_xlfn.XLOOKUP($S70,Puntos!A:A,Puntos!B:B,TRUE)))","v":""},"",{"$f":"IF($B70=\"\",\"\",_xlfn.IFS(U70=0,0,U70=1,0,U70=2,50,U70=3,100,U70=4,150,U70=5,200,U70=6,250,U70=7,300,U70=8,350))","v":""},"",0]
[68,{"$f":"IF(Carreras!$K69=0,\"\",Carreras!$K69)","v":""},{"$f":"IF(B71=\"\",\"\",_xlfn.XLOOKUP(B71,Socios!A:A,Socios!B:B,FALSE,0,1))","v":""},{"$f":"IF(B71=\"\",\"\",_xlfn.XLOOKUP(B71,Socios!A:A,Socios!C:C,FALSE,0,1))","v":""},{"$f":"IF($B71=\"\",\"\",_xlfn.XLOOKUP($B71,Carreras!$B:$B,Carreras!$A:$A,0,0,1))","v":""},{"$f":"IF($B71=\"\",\"\",IF($E71=0,0,_xlfn.XLOOKUP($E71,Puntos!A:A,Puntos!B:B,TRUE)))","v":""},{"$f":"IF($B71=\"\",\"\",_xlfn.XLOOKUP($B71,Carreras!C:C,Carreras!A:A,0,0,1))","v":""},{"$f":"IF($B71=\"\",\"\",IF($G71=0,0,_xlfn.XLOOKUP($G71,Puntos!A:A,Puntos!B:B,TRUE)))","v":""},{"$f":"IF($B71=\"\",\"\",_xlfn.XLOOKUP($B71,Carreras!$D:$D,Carreras!$A:$A,0,0,1))","v":""},{"$f":"IF($B71=\"\",\"\",IF($I71=0,0,_xlfn.XLOOKUP($I71,Puntos!A:A,Puntos!B:B,TRUE)))","v":""},{"$f":"IF($B71=\"\",\"\",_xlfn.XLOOKUP($B71,Carreras!$E:$E,Carreras!$A:$A,0,0,1))","v":""},{"$f":"IF($B71=\"\",\"\",IF($K71=0,0,_xlfn.XLOOKUP($K71,Puntos!$A:$A,Puntos!$B:$B)))","v":""},{"$f":"IF($B71=\"\",\"\",_xlfn.XLOOKUP($B71,Carreras!F:F,Carreras!$A:$A,0,0,1))","v":""},{"$f":"IF($B71=\"\",\"\",IF($M71=0,0,_xlfn.XLOOKUP(M71,Puntos!A:A,Puntos!B:B,TRUE)))","v":""},{"$f":"IF($B71=\"\",\"\",_xlfn.XLOOKUP($B71,Carreras!$G:$G,Carreras!$A:$A,0,0,1))","v":""},{"$f":"IF($B71=\"\",\"\",IF($O71=0,0,_xlfn.XLOOKUP($O71,Puntos!A:A,Puntos!B:B,TRUE)))","v":""},{"$f":"IF($B71=\"\",\"\",_xlfn.XLOOKUP($B71,Carreras!$H:$H,Carreras!$A:$A,0,0,1))","v":""},{"$f":"IF($B71=\"\",\"\",IF($Q71=0,0,_xlfn.XLOOKUP($Q71,Puntos!A:A,Puntos!B:B,TRUE)))","v":""},{"$f":"IF($B71=\"\",\"\",_xlfn.XLOOKUP($B71,Carreras!$I:$I,Carreras!$A:$A,0,0,1))","v":""},{"$f":"IF($B71=\"\",\"\",IF($S71=0,0,_xlfn.XLOOKUP($S71,Puntos!A:A,Puntos!B:B,TRUE)))","v":""},"",{"$f":"IF($B71=\"\",\"\",_xlfn.IFS(U71=0,0,U71=1,0,U71=2,50,U71=3,100,U71=4,150,U71=5,200,U71=6,250,U71=7,300,U71=8,350))","v":""},"",0]
[69,{"$f":"IF(Carreras!$K70=0,\"\",Carreras!$K70)","v":""},{"$f":"IF(B72=\"\",\"\",_xlfn.XLOOKUP(B72,Socios!A:A,Socios!B:B,FALSE,0,1))","v":""},{"$f":"IF(B72=\"\",\"\",_xlfn.XLOOKUP(B72,Socios!A:A,Socios!C:C,FALSE,0,1))","v":""},{"$f":"IF($B72=\"\",\"\",_xlfn.XLOOKUP($B72,Carreras!$B:$B,Carreras!$A:$A,0,0,1))","v":""},{"$f":"IF($B72=\"\",\"\",IF($E72=0,0,_xlfn.XLOOKUP($E72,Puntos!A:A,Puntos!B:B,TRUE)))","v":""},{"$f":"IF($B72=\"\",\"\",_xlfn.XLOOKUP($B72,Carreras!C:C,Carreras!A:A,0,0,1))","v":""},{"$f":"IF($B72=\"\",\"\",IF($G72=0,0,_xlfn.XLOOKUP($G72,Puntos!A:A,Puntos!B:B,TRUE)))","v":""},{"$f":"IF($B72=\"\",\"\",_xlfn.XLOOKUP($B72,Carreras!$D:$D,Carreras!$A:$A,0,0,1))","v":""},{"$f":"IF($B72=\"\",\"\",IF($I72=0,0,_xlfn.XLOOKUP($I72,Puntos!A:A,Puntos!B:B,TRUE)))","v":""},{"$f":"IF($B72=\"\",\"\",_xlfn.XLOOKUP($B72,Carreras!$E:$E,Carreras!$A:$A,0,0,1))","v":""},{"$f":"IF($B72=\"\",\"\",IF($K72=0,0,_xlfn.XLOOKUP($K72,Puntos!$A:$A,Puntos!$B:$B)))","v":""},{"$f":"IF($B72=\"\",\"\",_xlfn.XLOOKUP($B72,Carreras!F:F,Carreras!$A:$A,0,0,1))","v":""},{"$f":"IF($B72=\"\",\"\",IF($M72=0,0,_xlfn.XLOOKUP(M72,Puntos!A:A,Puntos!B:B,TRUE)))","v":""},{"$f":"IF($B72=\"\",\"\",_xlfn.XLOOKUP($B72,Carreras!$G:$G,Carreras!$A:$A,0,0,1))","v":""},{"$f":"IF($B72=\"\",\"\",IF($O72=0,0,_xlfn.XLOOKUP($O72,Puntos!A:A,Puntos!B:B,TRUE)))","v":""},{"$f":"IF($B72=\"\",\"\",_xlfn.XLOOKUP($B72,Carreras!$H:$H,Carreras!$A:$A,0,0,1))","v":""},{"$f":"IF($B72=\"\",\"\",IF($Q72=0,0,_xlfn.XLOOKUP($Q72,Puntos!A:A,Puntos!B:B,TRUE)))","v":""},{"$f":"IF($B72=\"\",\"\",_xlfn.XLOOKUP($B72,Carreras!$I:$I,Carreras!$A:$A,0,0,1))","v":""},{"$f":"IF($B72=\"\",\"\",IF($S72=0,0,_xlfn.XLOOKUP($S72,Puntos!A:A,Puntos!B:B,TRUE)))","v":""},"",{"$f":"IF($B72=\"\",\"\",_xlfn.IFS(U72=0,0,U72=1,0,U72=2,50,U72=3,100,U72=4,150,U72=5,200,U72=6,250,U72=7,300,U72=8,350))","v":""},"",0]
[70,{"$f":"IF(Carreras!$K71=0,\"\",Carreras!$K71)","v":""},{"$f":"IF(B73=\"\",\"\",_xlfn.XLOOKUP(B73,Socios!A:A,Socios!B:B,FALSE,0,1))","v":""},{"$f":"IF(B73=\"\",\"\",_xlfn.XLOOKUP(B73,Socios!A:A,Socios!C:C,FALSE,0,1))","v":""},{"$f":"IF($B73=\"\",\"\",_xlfn.XLOOKUP($B73,Carreras!$B:$B,Carreras!$A:$A,0,0,1))","v":""},{"$f":"IF($B73=\"\",\"\",IF($E73=0,0,_xlfn.XLOOKUP($E73,Puntos!A:A,Puntos!B:B,TRUE)))","v":""},{"$f":"IF($B73=\"\",\"\",_xlfn.XLOOKUP($B73,Carreras!C:C,Carreras!A:A,0,0,1))","v":""},{"$f":"IF($B73=\"\",\"\",IF($G73=0,0,_xlfn.XLOOKUP($G73,Puntos!A:A,Puntos!B:B,TRUE)))","v":""},{"$f":"IF($B73=\"\",\"\",_xlfn.XLOOKUP($B73,Carreras!$D:$D,Carreras!$A:$A,0,0,1))","v":""},{"$f":"IF($B73=\"\",\"\",IF($I73=0,0,_xlfn.XLOOKUP($I73,Puntos!A:A,Puntos!B:B,TRUE)))","v":""},{"$f":"IF($B73=\"\",\"\",_xlfn.XLOOKUP($B73,Carreras!$E:$E,Carreras!$A:$A,0,0,1))","v":""},{"$f":"IF($B73=\"\",\"\",IF($K73=0,0,_xlfn.XLOOKUP($K73,Puntos!$A:$A,Puntos!$B:$B)))","v":""},{"$f":"IF($B73=\"\",\"\",_xlfn.XLOOKUP($B73,Carreras!F:F,Carreras!$A:$A,0,0,1))","v":""},{"$f":"IF($B73=\"\",\"\",IF($M73=0,0,_xlfn.XLOOKUP(M73,Puntos!A:A,Puntos!B:B,TRUE)))","v":""},{"$f":"IF($B73=\"\",\"\",_xlfn.XLOOKUP($B73,Carreras!$G:$G,Carreras!$A:$A,0,0,1))","v":""},{"$f":"IF($B73=\"\",\"\",IF($O73=0,0,_xlfn.XLOOKUP($O73,Puntos!A:A,Puntos!B:B,TRUE)))","v":""},{"$f":"IF($B73=\"\",\"\",_xlfn.XLOOKUP($B73,Carreras!$H:$H,Carreras!$A:$A,0,0,1))","v":""},{"$f":"IF($B73=\"\",\"\",IF($Q73=0,0,_xlfn.XLOOKUP($Q73,Puntos!A:A,Puntos!B:B,TRUE)))","v":""},{"$f":"IF($B73=\"\",\"\",_xlfn.XLOOKUP($B73,Carreras!$I:$I,Carreras!$A:$A,0,0,1))","v":""},{"$f":"IF($B73=\"\",\"\",IF($S73=0,0,_xlfn.XLOOKUP($S73,Puntos!A:A,Puntos!B:B,TRUE)))","v":""},"",{"$f":"IF($B73=\"\",\"\",_xlfn.IFS(U73=0,0,U73=1,0,U73=2,50,U73=3,100,U73=4,150,U73=5,200,U73=6,250,U73=7,300,U73=8,350))","v":""},"",0]
[71,{"$f":"IF(Carreras!$K72=0,\"\",Carreras!$K72)","v":""},{"$f":"IF(B74=\"\",\"\",_xlfn.XLOOKUP(B74,Socios!A:A,Socios!B:B,FALSE,0,1))","v":""},{"$f":"IF(B74=\"\",\"\",_xlfn.XLOOKUP(B74,Socios!A:A,Socios!C:C,FALSE,0,1))","v":""},{"$f":"IF($B74=\"\",\"\",_xlfn.XLOOKUP($B74,Carreras!$B:$B,Carreras!$A:$A,0,0,1))","v":""},{"$f":"IF($B74=\"\",\"\",IF($E74=0,0,_xlfn.XLOOKUP($E74,Puntos!A:A,Puntos!B:B,TRUE)))","v":""},{"$f":"IF($B74=\"\",\"\",_xlfn.XLOOKUP($B74,Carreras!C:C,Carreras!A:A,0,0,1))","v":""},{"$f":"IF($B74=\"\",\"\",IF($G74=0,0,_xlfn.XLOOKUP($G74,Puntos!A:A,Puntos!B:B,TRUE)))","v":""},{"$f":"IF($B74=\"\",\"\",_xlfn.XLOOKUP($B74,Carreras!$D:$D,Carreras!$A:$A,0,0,1))","v":""},{"$f":"IF($B74=\"\",\"\",IF($I74=0,0,_xlfn.XLOOKUP($I74,Puntos!A:A,Puntos!B:B,TRUE)))","v":""},{"$f":"IF($B74=\"\",\"\",_xlfn.XLOOKUP($B74,Carreras!$E:$E,Carreras!$A:$A,0,0,1))","v":""},{"$f":"IF($B74=\"\",\"\",IF($K74=0,0,_xlfn.XLOOKUP($K74,Puntos!$A:$A,Puntos!$B:$B)))","v":""},{"$f":"IF($B74=\"\",\"\",_xlfn.XLOOKUP($B74,Carreras!F:F,Carreras!$A:$A,0,0,1))","v":""},{"$f":"IF($B74=\"\",\"\",IF($M74=0,0,_xlfn.XLOOKUP(M74,Puntos!A:A,Puntos!B:B,TRUE)))","v":""},{"$f":"IF($B74=\"\",\"\",_xlfn.XLOOKUP($B74,Carreras!$G:$G,Carreras!$A:$A,0,0,1))","v":""},{"$f":"IF($B74=\"\",\"\",IF($O74=0,0,_xlfn.XLOOKUP($O74,Puntos!A:A,Puntos!B:B,TRUE)))","v":""},{"$f":"IF($B74=\"\",\"\",_xlfn.XLOOKUP($B74,Carreras!$H:$H,Carreras!$A:$A,0,0,1))","v":""},{"$f":"IF($B74=\"\",\"\",IF($Q74=0,0,_xlfn.XLOOKUP($Q74,Puntos!A:A,Puntos!B:B,TRUE)))","v":""},{"$f":"IF($B74=\"\",\"\",_xlfn.XLOOKUP($B74,Carreras!$I:$I,Carreras!$A:$A,0,0,1))","v":""},{"$f":"IF($B74=\"\",\"\",IF($S74=0,0,_xlfn.XLOOKUP($S74,Puntos!A:A,Puntos!B:B,TRUE)))","v":""},"",{"$f":"IF($B74=\"\",\"\",_xlfn.IFS(U74=0,0,U74=1,0,U74=2,50,U74=3,100,U74=4,150,U74=5,200,U74=6,250,U74=7,300,U74=8,350))","v":""},"",0]
[72,{"$f":"IF(Carreras!$K73=0,\"\",Carreras!$K73)","v":""},{"$f":"IF(B75=\"\",\"\",_xlfn.XLOOKUP(B75,Socios!A:A,Socios!B:B,FALSE,0,1))","v":""},{"$f":"IF(B75=\"\",\"\",_xlfn.XLOOKUP(B75,Socios!A:A,Socios!C:C,FALSE,0,1))","v":""},{"$f":"IF($B75=\"\",\"\",_xlfn.XLOOKUP($B75,Carreras!$B:$B,Carreras!$A:$A,0,0,1))","v":""},{"$f":"IF($B75=\"\",\"\",IF($E75=0,0,_xlfn.XLOOKUP($E75,Puntos!A:A,Puntos!B:B,TRUE)))","v":""},{"$f":"IF($B75=\"\",\"\",_xlfn.XLOOKUP($B75,Carreras!C:C,Carreras!A:A,0,0,1))","v":""},{"$f":"IF($B75=\"\",\"\",IF($G75=0,0,_xlfn.XLOOKUP($G75,Puntos!A:A,Puntos!B:B,TRUE)))","v":""},{"$f":"IF($B75=\"\",\"\",_xlfn.XLOOKUP($B75,Carreras!$D:$D,Carreras!$A:$A,0,0,1))","v":""},{"$f":"IF($B75=\"\",\"\",IF($I75=0,0,_xlfn.XLOOKUP($I75,Puntos!A:A,Puntos!B:B,TRUE)))","v":""},{"$f":"IF($B75=\"\",\"\",_xlfn.XLOOKUP($B75,Carreras!$E:$E,Carreras!$A:$A,0,0,1))","v":""},{"$f":"IF($B75=\"\",\"\",IF($K75=0,0,_xlfn.XLOOKUP($K75,Puntos!$A:$A,Puntos!$B:$B)))","v":""},{"$f":"IF($B75=\"\",\"\",_xlfn.XLOOKUP($B75,Carreras!F:F,Carreras!$A:$A,0,0,1))","v":""},{"$f":"IF($B75=\"\",\"\",IF($M75=0,0,_xlfn.XLOOKUP(M75,Puntos!A:A,Puntos!B:B,TRUE)))","v":""},{"$f":"IF($B75=\"\",\"\",_xlfn.XLOOKUP($B75,Carreras!$G:$G,Carreras!$A:$A,0,0,1))","v":""},{"$f":"IF($B75=\"\",\"\",IF($O75=0,0,_xlfn.XLOOKUP($O75,Puntos!A:A,Puntos!B:B,TRUE)))","v":""},{"$f":"IF($B75=\"\",\"\",_xlfn.XLOOKUP($B75,Carreras!$H:$H,Carreras!$A:$A,0,0,1))","v":""},{"$f":"IF($B75=\"\",\"\",IF($Q75=0,0,_xlfn.XLOOKUP($Q75,Puntos!A:A,Puntos!B:B,TRUE)))","v":""},{"$f":"IF($B75=\"\",\"\",_xlfn.XLOOKUP($B75,Carreras!$I:$I,Carreras!$A:$A,0,0,1))","v":""},{"$f":"IF($B75=\"\",\"\",IF($S75=0,0,_xlfn.XLOOKUP($S75,Puntos!A:A,Puntos!B:B,TRUE)))","v":""},"",{"$f":"IF($B75=\"\",\"\",_xlfn.IFS(U75=0,0,U75=1,0,U75=2,50,U75=3,100,U75=4,150,U75=5,200,U75=6,250,U75=7,300,U75=8,350))","v":""},"",0]
[73,{"$f":"IF(Carreras!$K74=0,\"\",Carreras!$K74)","v":""},{"$f":"IF(B76=\"\",\"\",_xlfn.XLOOKUP(B76,Socios!A:A,Socios!B:B,FALSE,0,1))","v":""},{"$f":"IF(B76=\"\",\"\",_xlfn.XLOOKUP(B76,Socios!A:A,Socios!C:C,FALSE,0,1))","v":""},{"$f":"IF($B76=\"\",\"\",_xlfn.XLOOKUP($B76,Carreras!$B:$B,Carreras!$A:$A,0,0,1))","v":""},{"$f":"IF($B76=\"\",\"\",IF($E76=0,0,_xlfn.XLOOKUP($E76,Puntos!A:A,Puntos!B:B,TRUE)))","v":""},{"$f":"IF($B76=\"\",\"\",_xlfn.XLOOKUP($B76,Carreras!C:C,Carreras!A:A,0,0,1))","v":""},{"$f":"IF($B76=\"\",\"\",IF($G76=0,0,_xlfn.XLOOKUP($G76,Puntos!A:A,Puntos!B:B,TRUE)))","v":""},{"$f":"IF($B76=\"\",\"\",_xlfn.XLOOKUP($B76,Carreras!$D:$D,Carreras!$A:$A,0,0,1))","v":""},{"$f":"IF($B76=\"\",\"\",IF($I76=0,0,_xlfn.XLOOKUP($I76,Puntos!A:A,Puntos!B:B,TRUE)))","v":""},{"$f":"IF($B76=\"\",\"\",_xlfn.XLOOKUP($B76,Carreras!$E:$E,Carreras!$A:$A,0,0,1))","v":""},{"$f":"IF($B76=\"\",\"\",IF($K76=0,0,_xlfn.XLOOKUP($K76,Puntos!$A:$A,Puntos!$B:$B)))","v":""},{"$f":"IF($B76=\"\",\"\",_xlfn.XLOOKUP($B76,Carreras!F:F,Carreras!$A:$A,0,0,1))","v":""},{"$f":"IF($B76=\"\",\"\",IF($M76=0,0,_xlfn.XLOOKUP(M76,Puntos!A:A,Puntos!B:B,TRUE)))","v":""},{"$f":"IF($B76=\"\",\"\",_xlfn.XLOOKUP($B76,Carreras!$G:$G,Carreras!$A:$A,0,0,1))","v":""},{"$f":"IF($B76=\"\",\"\",IF($O76=0,0,_xlfn.XLOOKUP($O76,Puntos!A:A,Puntos!B:B,TRUE)))","v":""},{"$f":"IF($B76=\"\",\"\",_xlfn.XLOOKUP($B76,Carreras!$H:$H,Carreras!$A:$A,0,0,1))","v":""},{"$f":"IF($B76=\"\",\"\",IF($Q76=0,0,_xlfn.XLOOKUP($Q76,Puntos!A:A,Puntos!B:B,TRUE)))","v":""},{"$f":"IF($B76=\"\",\"\",_xlfn.XLOOKUP($B76,Carreras!$I:$I,Carreras!$A:$A,0,0,1))","v":""},{"$f":"IF($B76=\"\",\"\",IF($S76=0,0,_xlfn.XLOOKUP($S76,Puntos!A:A,Puntos!B:B,TRUE)))","v":""},"",{"$f":"IF($B76=\"\",\"\",_xlfn.IFS(U76=0,0,U76=1,0,U76=2,50,U76=3,100,U76=4,150,U76=5,200,U76=6,250,U76=7,300,U76=8,350))","v":""},"",0]
[74,{"$f":"IF(Carreras!$K75=0,\"\",Carreras!$K75)","v":""},{"$f":"IF(B77=\"\",\"\",_xlfn.XLOOKUP(B77,Socios!A:A,Socios!B:B,FALSE,0,1))","v":""},{"$f":"IF(B77=\"\",\"\",_xlfn.XLOOKUP(B77,Socios!A:A,Socios!C:C,FALSE,0,1))","v":""},{"$f":"IF($B77=\"\",\"\",_xlfn.XLOOKUP($B77,Carreras!$B:$B,Carreras!$A:$A,0,0,1))","v":""},{"$f":"IF($B77=\"\",\"\",IF($E77=0,0,_xlfn.XLOOKUP($E77,Puntos!A:A,Puntos!B:B,TRUE)))","v":""},{"$f":"IF($B77=\"\",\"\",_xlfn.XLOOKUP($B77,Carreras!C:C,Carreras!A:A,0,0,1))","v":""},{"$f":"IF($B77=\"\",\"\",IF($G77=0,0,_xlfn.XLOOKUP($G77,Puntos!A:A,Puntos!B:B,TRUE)))","v":""},{"$f":"IF($B77=\"\",\"\",_xlfn.XLOOKUP($B77,Carreras!$D:$D,Carreras!$A:$A,0,0,1))","v":""},{"$f":"IF($B77=\"\",\"\",IF($I77=0,0,_xlfn.XLOOKUP($I77,Puntos!A:A,Puntos!B:B,TRUE)))","v":""},{"$f":"IF($B77=\"\",\"\",_xlfn.XLOOKUP($B77,Carreras!$E:$E,Carreras!$A:$A,0,0,1))","v":""},{"$f":"IF($B77=\"\",\"\",IF($K77=0,0,_xlfn.XLOOKUP($K77,Puntos!$A:$A,Puntos!$B:$B)))","v":""},{"$f":"IF($B77=\"\",\"\",_xlfn.XLOOKUP($B77,Carreras!F:F,Carreras!$A:$A,0,0,1))","v":""},{"$f":"IF($B77=\"\",\"\",IF($M77=0,0,_xlfn.XLOOKUP(M77,Puntos!A:A,Puntos!B:B,TRUE)))","v":""},{"$f":"IF($B77=\"\",\"\",_xlfn.XLOOKUP($B77,Carreras!$G:$G,Carreras!$A:$A,0,0,1))","v":""},{"$f":"IF($B77=\"\",\"\",IF($O77=0,0,_xlfn.XLOOKUP($O77,Puntos!A:A,Puntos!B:B,TRUE)))","v":""},{"$f":"IF($B77=\"\",\"\",_xlfn.XLOOKUP($B77,Carreras!$H:$H,Carreras!$A:$A,0,0,1))","v":""},{"$f":"IF($B77=\"\",\"\",IF($Q77=0,0,_xlfn.XLOOKUP($Q77,Puntos!A:A,Puntos!B:B,TRUE)))","v":""},{"$f":"IF($B77=\"\",\"\",_xlfn.XLOOKUP($B77,Carreras!$I:$I,Carreras!$A:$A,0,0,1))","v":""},{"$f":"IF($B77=\"\",\"\",IF($S77=0,0,_xlfn.XLOOKUP($S77,Puntos!A:A,Puntos!B:B,TRUE)))","v":""},"",{"$f":"IF($B77=\"\",\"\",_xlfn.IFS(U77=0,0,U77=1,0,U77=2,50,U77=3,100,U77=4,150,U77=5,200,U77=6,250,U77=7,300,U77=8,350))","v":""},"",0]
[75,{"$f":"IF(Carreras!$K76=0,\"\",Carreras!$K76)","v":""},{"$f":"IF(B78=\"\",\"\",_xlfn.XLOOKUP(B78,Socios!A:A,Socios!B:B,FALSE,0,1))","v":""},{"$f":"IF(B78=\"\",\"\",_xlfn.XLOOKUP(B78,Socios!A:A,Socios!C:C,FALSE,0,1))","v":""},{"$f":"IF($B78=\"\",\"\",_xlfn.XLOOKUP($B78,Carreras!$B:$B,Carreras!$A:$A,0,0,1))","v":""},{"$f":"IF($B78=\"\",\"\",IF($E78=0,0,_xlfn.XLOOKUP($E78,Puntos!A:A,Puntos!B:B,TRUE)))","v":""},{"$f":"IF($B78=\"\",\"\",_xlfn.XLOOKUP($B78,Carreras!C:C,Carreras!A:A,0,0,1))","v":""},{"$f":"IF($B78=\"\",\"\",IF($G78=0,0,_xlfn.XLOOKUP($G78,Puntos!A:A,Puntos!B:B,TRUE)))","v":""},{"$f":"IF($B78=\"\",\"\",_xlfn.XLOOKUP($B78,Carreras!$D:$D,Carreras!$A:$A,0,0,1))","v":""},{"$f":"IF($B78=\"\",\"\",IF($I78=0,0,_xlfn.XLOOKUP($I78,Puntos!A:A,Puntos!B:B,TRUE)))","v":""},{"$f":"IF($B78=\"\",\"\",_xlfn.XLOOKUP($B78,Carreras!$E:$E,Carreras!$A:$A,0,0,1))","v":""},{"$f":"IF($B78=\"\",\"\",IF($K78=0,0,_xlfn.XLOOKUP($K78,Puntos!$A:$A,Puntos!$B:$B)))","v":""},{"$f":"IF($B78=\"\",\"\",_xlfn.XLOOKUP($B78,Carreras!F:F,Carreras!$A:$A,0,0,1))","v":""},{"$f":"IF($B78=\"\",\"\",IF($M78=0,0,_xlfn.XLOOKUP(M78,Puntos!A:A,Puntos!B:B,TRUE)))","v":""},{"$f":"IF($B78=\"\",\"\",_xlfn.XLOOKUP($B78,Carreras!$G:$G,Carreras!$A:$A,0,0,1))","v":""},{"$f":"IF($B78=\"\",\"\",IF($O78=0,0,_xlfn.XLOOKUP($O78,Puntos!A:A,Puntos!B:B,TRUE)))","v":""},{"$f":"IF($B78=\"\",\"\",_xlfn.XLOOKUP($B78,Carreras!$H:$H,Carreras!$A:$A,0,0,1))","v":""},{"$f":"IF($B78=\"\",\"\",IF($Q78=0,0,_xlfn.XLOOKUP($Q78,Puntos!A:A,Puntos!B:B,TRUE)))","v":""},{"$f":"IF($B78=\"\",\"\",_xlfn.XLOOKUP($B78,Carreras!$I:$I,Carreras!$A:$A,0,0,1))","v":""},{"$f":"IF($B78=\"\",\"\",IF($S78=0,0,_xlfn.XLOOKUP($S78,Puntos!A:A,Puntos!B:B,TRUE)))","v":""},"",{"$f":"IF($B78=\"\",\"\",_xlfn.IFS(U78=0,0,U78=1,0,U78=2,50,U78=3,100,U78=4,150,U78=5,200,U78=6,250,U78=7,300,U78=8,350))","v":""},"",0]
[76,{"$f":"IF(Carreras!$K77=0,\"\",Carreras!$K77)","v":""},{"$f":"IF(B79=\"\",\"\",_xlfn.XLOOKUP(B79,Socios!A:A,Socios!B:B,FALSE,0,1))","v":""},{"$f":"IF(B79=\"\",\"\",_xlfn.XLOOKUP(B79,Socios!A:A,Socios!C:C,FALSE,0,1))","v":""},{"$f":"IF($B79=\"\",\"\",_xlfn.XLOOKUP($B79,Carreras!$B:$B,Carreras!$A:$A,0,0,1))","v":""},{"$f":"IF($B79=\"\",\"\",IF($E79=0,0,_xlfn.XLOOKUP($E79,Puntos!A:A,Puntos!B:B,TRUE)))","v":""},{"$f":"IF($B79=\"\",\"\",_xlfn.XLOOKUP($B79,Carreras!C:C,Carreras!A:A,0,0,1))","v":""},{"$f":"IF($B79=\"\",\"\",IF($G79=0,0,_xlfn.XLOOKUP($G79,Puntos!A:A,Puntos!B:B,TRUE)))","v":""},{"$f":"IF($B79=\"\",\"\",_xlfn.XLOOKUP($B79,Carreras!$D:$D,Carreras!$A:$A,0,0,1))","v":""},{"$f":"IF($B79=\"\",\"\",IF($I79=0,0,_xlfn.XLOOKUP($I79,Puntos!A:A,Puntos!B:B,TRUE)))","v":""},{"$f":"IF($B79=\"\",\"\",_xlfn.XLOOKUP($B79,Carreras!$E:$E,Carreras!$A:$A,0,0,1))","v":""},{"$f":"IF($B79=\"\",\"\",IF($K79=0,0,_xlfn.XLOOKUP($K79,Puntos!$A:$A,Puntos!$B:$B)))","v":""},{"$f":"IF($B79=\"\",\"\",_xlfn.XLOOKUP($B79,Carreras!F:F,Carreras!$A:$A,0,0,1))","v":""},{"$f":"IF($B79=\"\",\"\",IF($M79=0,0,_xlfn.XLOOKUP(M79,Puntos!A:A,Puntos!B:B,TRUE)))","v":""},{"$f":"IF($B79=\"\",\"\",_xlfn.XLOOKUP($B79,Carreras!$G:$G,Carreras!$A:$A,0,0,1))","v":""},{"$f":"IF($B79=\"\",\"\",IF($O79=0,0,_xlfn.XLOOKUP($O79,Puntos!A:A,Puntos!B:B,TRUE)))","v":""},{"$f":"IF($B79=\"\",\"\",_xlfn.XLOOKUP($B79,Carreras!$H:$H,Carreras!$A:$A,0,0,1))","v":""},{"$f":"IF($B79=\"\",\"\",IF($Q79=0,0,_xlfn.XLOOKUP($Q79,Puntos!A:A,Puntos!B:B,TRUE)))","v":""},{"$f":"IF($B79=\"\",\"\",_xlfn.XLOOKUP($B79,Carreras!$I:$I,Carreras!$A:$A,0,0,1))","v":""},{"$f":"IF($B79=\"\",\"\",IF($S79=0,0,_xlfn.XLOOKUP($S79,Puntos!A:A,Puntos!B:B,TRUE)))","v":""},"",{"$f":"IF($B79=\"\",\"\",_xlfn.IFS(U79=0,0,U79=1,0,U79=2,50,U79=3,100,U79=4,150,U79=5,200,U79=6,250,U79=7,300,U79=8,350))","v":""},"",0]
[77,{"$f":"IF(Carreras!$K78=0,\"\",Carreras!$K78)","v":""},{"$f":"IF(B80=\"\",\"\",_xlfn.XLOOKUP(B80,Socios!A:A,Socios!B:B,FALSE,0,1))","v":""},{"$f":"IF(B80=\"\",\"\",_xlfn.XLOOKUP(B80,Socios!A:A,Socios!C:C,FALSE,0,1))","v":""},{"$f":"IF($B80=\"\",\"\",_xlfn.XLOOKUP($B80,Carreras!$B:$B,Carreras!$A:$A,0,0,1))","v":""},{"$f":"IF($B80=\"\",\"\",IF($E80=0,0,_xlfn.XLOOKUP($E80,Puntos!A:A,Puntos!B:B,TRUE)))","v":""},{"$f":"IF($B80=\"\",\"\",_xlfn.XLOOKUP($B80,Carreras!C:C,Carreras!A:A,0,0,1))","v":""},{"$f":"IF($B80=\"\",\"\",IF($G80=0,0,_xlfn.XLOOKUP($G80,Puntos!A:A,Puntos!B:B,TRUE)))","v":""},{"$f":"IF($B80=\"\",\"\",_xlfn.XLOOKUP($B80,Carreras!$D:$D,Carreras!$A:$A,0,0,1))","v":""},{"$f":"IF($B80=\"\",\"\",IF($I80=0,0,_xlfn.XLOOKUP($I80,Puntos!A:A,Puntos!B:B,TRUE)))","v":""},{"$f":"IF($B80=\"\",\"\",_xlfn.XLOOKUP($B80,Carreras!$E:$E,Carreras!$A:$A,0,0,1))","v":""},{"$f":"IF($B80=\"\",\"\",IF($K80=0,0,_xlfn.XLOOKUP($K80,Puntos!$A:$A,Puntos!$B:$B)))","v":""},{"$f":"IF($B80=\"\",\"\",_xlfn.XLOOKUP($B80,Carreras!F:F,Carreras!$A:$A,0,0,1))","v":""},{"$f":"IF($B80=\"\",\"\",IF($M80=0,0,_xlfn.XLOOKUP(M80,Puntos!A:A,Puntos!B:B,TRUE)))","v":""},{"$f":"IF($B80=\"\",\"\",_xlfn.XLOOKUP($B80,Carreras!$G:$G,Carreras!$A:$A,0,0,1))","v":""},{"$f":"IF($B80=\"\",\"\",IF($O80=0,0,_xlfn.XLOOKUP($O80,Puntos!A:A,Puntos!B:B,TRUE)))","v":""},{"$f":"IF($B80=\"\",\"\",_xlfn.XLOOKUP($B80,Carreras!$H:$H,Carreras!$A:$A,0,0,1))","v":""},{"$f":"IF($B80=\"\",\"\",IF($Q80=0,0,_xlfn.XLOOKUP($Q80,Puntos!A:A,Puntos!B:B,TRUE)))","v":""},{"$f":"IF($B80=\"\",\"\",_xlfn.XLOOKUP($B80,Carreras!$I:$I,Carreras!$A:$A,0,0,1))","v":""},{"$f":"IF($B80=\"\",\"\",IF($S80=0,0,_xlfn.XLOOKUP($S80,Puntos!A:A,Puntos!B:B,TRUE)))","v":""},"",{"$f":"IF($B80=\"\",\"\",_xlfn.IFS(U80=0,0,U80=1,0,U80=2,50,U80=3,100,U80=4,150,U80=5,200,U80=6,250,U80=7,300,U80=8,350))","v":""},"",0]
[78,{"$f":"IF(Carreras!$K79=0,\"\",Carreras!$K79)","v":""},{"$f":"IF(B81=\"\",\"\",_xlfn.XLOOKUP(B81,Socios!A:A,Socios!B:B,FALSE,0,1))","v":""},{"$f":"IF(B81=\"\",\"\",_xlfn.XLOOKUP(B81,Socios!A:A,Socios!C:C,FALSE,0,1))","v":""},{"$f":"IF($B81=\"\",\"\",_xlfn.XLOOKUP($B81,Carreras!$B:$B,Carreras!$A:$A,0,0,1))","v":""},{"$f":"IF($B81=\"\",\"\",IF($E81=0,0,_xlfn.XLOOKUP($E81,Puntos!A:A,Puntos!B:B,TRUE)))","v":""},{"$f":"IF($B81=\"\",\"\",_xlfn.XLOOKUP($B81,Carreras!C:C,Carreras!A:A,0,0,1))","v":""},{"$f":"IF($B81=\"\",\"\",IF($G81=0,0,_xlfn.XLOOKUP($G81,Puntos!A:A,Puntos!B:B,TRUE)))","v":""},{"$f":"IF($B81=\"\",\"\",_xlfn.XLOOKUP($B81,Carreras!$D:$D,Carreras!$A:$A,0,0,1))","v":""},{"$f":"IF($B81=\"\",\"\",IF($I81=0,0,_xlfn.XLOOKUP($I81,Puntos!A:A,Puntos!B:B,TRUE)))","v":""},{"$f":"IF($B81=\"\",\"\",_xlfn.XLOOKUP($B81,Carreras!$E:$E,Carreras!$A:$A,0,0,1))","v":""},{"$f":"IF($B81=\"\",\"\",IF($K81=0,0,_xlfn.XLOOKUP($K81,Puntos!$A:$A,Puntos!$B:$B)))","v":""},{"$f":"IF($B81=\"\",\"\",_xlfn.XLOOKUP($B81,Carreras!F:F,Carreras!$A:$A,0,0,1))","v":""},{"$f":"IF($B81=\"\",\"\",IF($M81=0,0,_xlfn.XLOOKUP(M81,Puntos!A:A,Puntos!B:B,TRUE)))","v":""},{"$f":"IF($B81=\"\",\"\",_xlfn.XLOOKUP($B81,Carreras!$G:$G,Carreras!$A:$A,0,0,1))","v":""},{"$f":"IF($B81=\"\",\"\",IF($O81=0,0,_xlfn.XLOOKUP($O81,Puntos!A:A,Puntos!B:B,TRUE)))","v":""},{"$f":"IF($B81=\"\",\"\",_xlfn.XLOOKUP($B81,Carreras!$H:$H,Carreras!$A:$A,0,0,1))","v":""},{"$f":"IF($B81=\"\",\"\",IF($Q81=0,0,_xlfn.XLOOKUP($Q81,Puntos!A:A,Puntos!B:B,TRUE)))","v":""},{"$f":"IF($B81=\"\",\"\",_xlfn.XLOOKUP($B81,Carreras!$I:$I,Carreras!$A:$A,0,0,1))","v":""},{"$f":"IF($B81=\"\",\"\",IF($S81=0,0,_xlfn.XLOOKUP($S81,Puntos!A:A,Puntos!B:B,TRUE)))","v":""},"",{"$f":"IF($B81=\"\",\"\",_xlfn.IFS(U81=0,0,U81=1,0,U81=2,50,U81=3,100,U81=4,150,U81=5,200,U81=6,250,U81=7,300,U81=8,350))","v":""},"",0]
[79,{"$f":"IF(Carreras!$K80=0,\"\",Carreras!$K80)","v":""},{"$f":"IF(B82=\"\",\"\",_xlfn.XLOOKUP(B82,Socios!A:A,Socios!B:B,FALSE,0,1))","v":""},{"$f":"IF(B82=\"\",\"\",_xlfn.XLOOKUP(B82,Socios!A:A,Socios!C:C,FALSE,0,1))","v":""},{"$f":"IF($B82=\"\",\"\",_xlfn.XLOOKUP($B82,Carreras!$B:$B,Carreras!$A:$A,0,0,1))","v":""},{"$f":"IF($B82=\"\",\"\",IF($E82=0,0,_xlfn.XLOOKUP($E82,Puntos!A:A,Puntos!B:B,TRUE)))","v":""},{"$f":"IF($B82=\"\",\"\",_xlfn.XLOOKUP($B82,Carreras!C:C,Carreras!A:A,0,0,1))","v":""},{"$f":"IF($B82=\"\",\"\",IF($G82=0,0,_xlfn.XLOOKUP($G82,Puntos!A:A,Puntos!B:B,TRUE)))","v":""},{"$f":"IF($B82=\"\",\"\",_xlfn.XLOOKUP($B82,Carreras!$D:$D,Carreras!$A:$A,0,0,1))","v":""},{"$f":"IF($B82=\"\",\"\",IF($I82=0,0,_xlfn.XLOOKUP($I82,Puntos!A:A,Puntos!B:B,TRUE)))","v":""},{"$f":"IF($B82=\"\",\"\",_xlfn.XLOOKUP($B82,Carreras!$E:$E,Carreras!$A:$A,0,0,1))","v":""},{"$f":"IF($B82=\"\",\"\",IF($K82=0,0,_xlfn.XLOOKUP($K82,Puntos!$A:$A,Puntos!$B:$B)))","v":""},{"$f":"IF($B82=\"\",\"\",_xlfn.XLOOKUP($B82,Carreras!F:F,Carreras!$A:$A,0,0,1))","v":""},{"$f":"IF($B82=\"\",\"\",IF($M82=0,0,_xlfn.XLOOKUP(M82,Puntos!A:A,Puntos!B:B,TRUE)))","v":""},{"$f":"IF($B82=\"\",\"\",_xlfn.XLOOKUP($B82,Carreras!$G:$G,Carreras!$A:$A,0,0,1))","v":""},{"$f":"IF($B82=\"\",\"\",IF($O82=0,0,_xlfn.XLOOKUP($O82,Puntos!A:A,Puntos!B:B,TRUE)))","v":""},{"$f":"IF($B82=\"\",\"\",_xlfn.XLOOKUP($B82,Carreras!$H:$H,Carreras!$A:$A,0,0,1))","v":""},{"$f":"IF($B82=\"\",\"\",IF($Q82=0,0,_xlfn.XLOOKUP($Q82,Puntos!A:A,Puntos!B:B,TRUE)))","v":""},{"$f":"IF($B82=\"\",\"\",_xlfn.XLOOKUP($B82,Carreras!$I:$I,Carreras!$A:$A,0,0,1))","v":""},{"$f":"IF($B82=\"\",\"\",IF($S82=0,0,_xlfn.XLOOKUP($S82,Puntos!A:A,Puntos!B:B,TRUE)))","v":""},"",{"$f":"IF($B82=\"\",\"\",_xlfn.IFS(U82=0,0,U82=1,0,U82=2,50,U82=3,100,U82=4,150,U82=5,200,U82=6,250,U82=7,300,U82=8,350))","v":""},"",0]
[80,{"$f":"IF(Carreras!$K81=0,\"\",Carreras!$K81)","v":""},{"$f":"IF(B83=\"\",\"\",_xlfn.XLOOKUP(B83,Socios!A:A,Socios!B:B,FALSE,0,1))","v":""},{"$f":"IF(B83=\"\",\"\",_xlfn.XLOOKUP(B83,Socios!A:A,Socios!C:C,FALSE,0,1))","v":""},{"$f":"IF($B83=\"\",\"\",_xlfn.XLOOKUP($B83,Carreras!$B:$B,Carreras!$A:$A,0,0,1))","v":""},{"$f":"IF($B83=\"\",\"\",IF($E83=0,0,_xlfn.XLOOKUP($E83,Puntos!A:A,Puntos!B:B,TRUE)))","v":""},{"$f":"IF($B83=\"\",\"\",_xlfn.XLOOKUP($B83,Carreras!C:C,Carreras!A:A,0,0,1))","v":""},{"$f":"IF($B83=\"\",\"\",IF($G83=0,0,_xlfn.XLOOKUP($G83,Puntos!A:A,Puntos!B:B,TRUE)))","v":""},{"$f":"IF($B83=\"\",\"\",_xlfn.XLOOKUP($B83,Carreras!$D:$D,Carreras!$A:$A,0,0,1))","v":""},{"$f":"IF($B83=\"\",\"\",IF($I83=0,0,_xlfn.XLOOKUP($I83,Puntos!A:A,Puntos!B:B,TRUE)))","v":""},{"$f":"IF($B83=\"\",\"\",_xlfn.XLOOKUP($B83,Carreras!$E:$E,Carreras!$A:$A,0,0,1))","v":""},{"$f":"IF($B83=\"\",\"\",IF($K83=0,0,_xlfn.XLOOKUP($K83,Puntos!$A:$A,Puntos!$B:$B)))","v":""},{"$f":"IF($B83=\"\",\"\",_xlfn.XLOOKUP($B83,Carreras!F:F,Carreras!$A:$A,0,0,1))","v":""},{"$f":"IF($B83=\"\",\"\",IF($M83=0,0,_xlfn.XLOOKUP(M83,Puntos!A:A,Puntos!B:B,TRUE)))","v":""},{"$f":"IF($B83=\"\",\"\",_xlfn.XLOOKUP($B83,Carreras!$G:$G,Carreras!$A:$A,0,0,1))","v":""},{"$f":"IF($B83=\"\",\"\",IF($O83=0,0,_xlfn.XLOOKUP($O83,Puntos!A:A,Puntos!B:B,TRUE)))","v":""},{"$f":"IF($B83=\"\",\"\",_xlfn.XLOOKUP($B83,Carreras!$H:$H,Carreras!$A:$A,0,0,1))","v":""},{"$f":"IF($B83=\"\",\"\",IF($Q83=0,0,_xlfn.XLOOKUP($Q83,Puntos!A:A,Puntos!B:B,TRUE)))","v":""},{"$f":"IF($B83=\"\",\"\",_xlfn.XLOOKUP($B83,Carreras!$I:$I,Carreras!$A:$A,0,0,1))","v":""},{"$f":"IF($B83=\"\",\"\",IF($S83=0,0,_xlfn.XLOOKUP($S83,Puntos!A:A,Puntos!B:B,TRUE)))","v":""},"",{"$f":"IF($B83=\"\",\"\",_xlfn.IFS(U83=0,0,U83=1,0,U83=2,50,U83=3,100,U83=4,150,U83=5,200,U83=6,250,U83=7,300,U83=8,350))","v":""},"",0]
[81,{"$f":"IF(Carreras!$K82=0,\"\",Carreras!$K82)","v":""},{"$f":"IF(B84=\"\",\"\",_xlfn.XLOOKUP(B84,Socios!A:A,Socios!B:B,FALSE,0,1))","v":""},{"$f":"IF(B84=\"\",\"\",_xlfn.XLOOKUP(B84,Socios!A:A,Socios!C:C,FALSE,0,1))","v":""},{"$f":"IF($B84=\"\",\"\",_xlfn.XLOOKUP($B84,Carreras!$B:$B,Carreras!$A:$A,0,0,1))","v":""},{"$f":"IF($B84=\"\",\"\",IF($E84=0,0,_xlfn.XLOOKUP($E84,Puntos!A:A,Puntos!B:B,TRUE)))","v":""},{"$f":"IF($B84=\"\",\"\",_xlfn.XLOOKUP($B84,Carreras!C:C,Carreras!A:A,0,0,1))","v":""},{"$f":"IF($B84=\"\",\"\",IF($G84=0,0,_xlfn.XLOOKUP($G84,Puntos!A:A,Puntos!B:B,TRUE)))","v":""},{"$f":"IF($B84=\"\",\"\",_xlfn.XLOOKUP($B84,Carreras!$D:$D,Carreras!$A:$A,0,0,1))","v":""},{"$f":"IF($B84=\"\",\"\",IF($I84=0,0,_xlfn.XLOOKUP($I84,Puntos!A:A,Puntos!B:B,TRUE)))","v":""},{"$f":"IF($B84=\"\",\"\",_xlfn.XLOOKUP($B84,Carreras!$E:$E,Carreras!$A:$A,0,0,1))","v":""},{"$f":"IF($B84=\"\",\"\",IF($K84=0,0,_xlfn.XLOOKUP($K84,Puntos!$A:$A,Puntos!$B:$B)))","v":""},{"$f":"IF($B84=\"\",\"\",_xlfn.XLOOKUP($B84,Carreras!F:F,Carreras!$A:$A,0,0,1))","v":""},{"$f":"IF($B84=\"\",\"\",IF($M84=0,0,_xlfn.XLOOKUP(M84,Puntos!A:A,Puntos!B:B,TRUE)))","v":""},{"$f":"IF($B84=\"\",\"\",_xlfn.XLOOKUP($B84,Carreras!$G:$G,Carreras!$A:$A,0,0,1))","v":""},{"$f":"IF($B84=\"\",\"\",IF($O84=0,0,_xlfn.XLOOKUP($O84,Puntos!A:A,Puntos!B:B,TRUE)))","v":""},{"$f":"IF($B84=\"\",\"\",_xlfn.XLOOKUP($B84,Carreras!$H:$H,Carreras!$A:$A,0,0,1))","v":""},{"$f":"IF($B84=\"\",\"\",IF($Q84=0,0,_xlfn.XLOOKUP($Q84,Puntos!A:A,Puntos!B:B,TRUE)))","v":""},{"$f":"IF($B84=\"\",\"\",_xlfn.XLOOKUP($B84,Carreras!$I:$I,Carreras!$A:$A,0,0,1))","v":""},{"$f":"IF($B84=\"\",\"\",IF($S84=0,0,_xlfn.XLOOKUP($S84,Puntos!A:A,Puntos!B:B,TRUE)))","v":""},"",{"$f":"IF($B84=\"\",\"\",_xlfn.IFS(U84=0,0,U84=1,0,U84=2,50,U84=3,100,U84=4,150,U84=5,200,U84=6,250,U84=7,300,U84=8,350))","v":""},"",0]
[82,{"$f":"IF(Carreras!$K83=0,\"\",Carreras!$K83)","v":""},{"$f":"IF(B85=\"\",\"\",_xlfn.XLOOKUP(B85,Socios!A:A,Socios!B:B,FALSE,0,1))","v":""},{"$f":"IF(B85=\"\",\"\",_xlfn.XLOOKUP(B85,Socios!A:A,Socios!C:C,FALSE,0,1))","v":""},{"$f":"IF($B85=\"\",\"\",_xlfn.XLOOKUP($B85,Carreras!$B:$B,Carreras!$A:$A,0,0,1))","v":""},{"$f":"IF($B85=\"\",\"\",IF($E85=0,0,_xlfn.XLOOKUP($E85,Puntos!A:A,Puntos!B:B,TRUE)))","v":""},{"$f":"IF($B85=\"\",\"\",_xlfn.XLOOKUP($B85,Carreras!C:C,Carreras!A:A,0,0,1))","v":""},{"$f":"IF($B85=\"\",\"\",IF($G85=0,0,_xlfn.XLOOKUP($G85,Puntos!A:A,Puntos!B:B,TRUE)))","v":""},{"$f":"IF($B85=\"\",\"\",_xlfn.XLOOKUP($B85,Carreras!$D:$D,Carreras!$A:$A,0,0,1))","v":""},{"$f":"IF($B85=\"\",\"\",IF($I85=0,0,_xlfn.XLOOKUP($I85,Puntos!A:A,Puntos!B:B,TRUE)))","v":""},{"$f":"IF($B85=\"\",\"\",_xlfn.XLOOKUP($B85,Carreras!$E:$E,Carreras!$A:$A,0,0,1))","v":""},{"$f":"IF($B85=\"\",\"\",IF($K85=0,0,_xlfn.XLOOKUP($K85,Puntos!$A:$A,Puntos!$B:$B)))","v":""},{"$f":"IF($B85=\"\",\"\",_xlfn.XLOOKUP($B85,Carreras!F:F,Carreras!$A:$A,0,0,1))","v":""},{"$f":"IF($B85=\"\",\"\",IF($M85=0,0,_xlfn.XLOOKUP(M85,Puntos!A:A,Puntos!B:B,TRUE)))","v":""},{"$f":"IF($B85=\"\",\"\",_xlfn.XLOOKUP($B85,Carreras!$G:$G,Carreras!$A:$A,0,0,1))","v":""},{"$f":"IF($B85=\"\",\"\",IF($O85=0,0,_xlfn.XLOOKUP($O85,Puntos!A:A,Puntos!B:B,TRUE)))","v":""},{"$f":"IF($B85=\"\",\"\",_xlfn.XLOOKUP($B85,Carreras!$H:$H,Carreras!$A:$A,0,0,1))","v":""},{"$f":"IF($B85=\"\",\"\",IF($Q85=0,0,_xlfn.XLOOKUP($Q85,Puntos!A:A,Puntos!B:B,TRUE)))","v":""},{"$f":"IF($B85=\"\",\"\",_xlfn.XLOOKUP($B85,Carreras!$I:$I,Carreras!$A:$A,0,0,1))","v":""},{"$f":"IF($B85=\"\",\"\",IF($S85=0,0,_xlfn.XLOOKUP($S85,Puntos!A:A,Puntos!B:B,TRUE)))","v":""},"",{"$f":"IF($B85=\"\",\"\",_xlfn.IFS(U85=0,0,U85=1,0,U85=2,50,U85=3,100,U85=4,150,U85=5,200,U85=6,250,U85=7,300,U85=8,350))","v":""},"",0]
[83,{"$f":"IF(Carreras!$K84=0,\"\",Carreras!$K84)","v":""},{"$f":"IF(B86=\"\",\"\",_xlfn.XLOOKUP(B86,Socios!A:A,Socios!B:B,FALSE,0,1))","v":""},{"$f":"IF(B86=\"\",\"\",_xlfn.XLOOKUP(B86,Socios!A:A,Socios!C:C,FALSE,0,1))","v":""},{"$f":"IF($B86=\"\",\"\",_xlfn.XLOOKUP($B86,Carreras!$B:$B,Carreras!$A:$A,0,0,1))","v":""},{"$f":"IF($B86=\"\",\"\",IF($E86=0,0,_xlfn.XLOOKUP($E86,Puntos!A:A,Puntos!B:B,TRUE)))","v":""},{"$f":"IF($B86=\"\",\"\",_xlfn.XLOOKUP($B86,Carreras!C:C,Carreras!A:A,0,0,1))","v":""},{"$f":"IF($B86=\"\",\"\",IF($G86=0,0,_xlfn.XLOOKUP($G86,Puntos!A:A,Puntos!B:B,TRUE)))","v":""},{"$f":"IF($B86=\"\",\"\",_xlfn.XLOOKUP($B86,Carreras!$D:$D,Carreras!$A:$A,0,0,1))","v":""},{"$f":"IF($B86=\"\",\"\",IF($I86=0,0,_xlfn.XLOOKUP($I86,Puntos!A:A,Puntos!B:B,TRUE)))","v":""},{"$f":"IF($B86=\"\",\"\",_xlfn.XLOOKUP($B86,Carreras!$E:$E,Carreras!$A:$A,0,0,1))","v":""},{"$f":"IF($B86=\"\",\"\",IF($K86=0,0,_xlfn.XLOOKUP($K86,Puntos!$A:$A,Puntos!$B:$B)))","v":""},{"$f":"IF($B86=\"\",\"\",_xlfn.XLOOKUP($B86,Carreras!F:F,Carreras!$A:$A,0,0,1))","v":""},{"$f":"IF($B86=\"\",\"\",IF($M86=0,0,_xlfn.XLOOKUP(M86,Puntos!A:A,Puntos!B:B,TRUE)))","v":""},{"$f":"IF($B86=\"\",\"\",_xlfn.XLOOKUP($B86,Carreras!$G:$G,Carreras!$A:$A,0,0,1))","v":""},{"$f":"IF($B86=\"\",\"\",IF($O86=0,0,_xlfn.XLOOKUP($O86,Puntos!A:A,Puntos!B:B,TRUE)))","v":""},{"$f":"IF($B86=\"\",\"\",_xlfn.XLOOKUP($B86,Carreras!$H:$H,Carreras!$A:$A,0,0,1))","v":""},{"$f":"IF($B86=\"\",\"\",IF($Q86=0,0,_xlfn.XLOOKUP($Q86,Puntos!A:A,Puntos!B:B,TRUE)))","v":""},{"$f":"IF($B86=\"\",\"\",_xlfn.XLOOKUP($B86,Carreras!$I:$I,Carreras!$A:$A,0,0,1))","v":""},{"$f":"IF($B86=\"\",\"\",IF($S86=0,0,_xlfn.XLOOKUP($S86,Puntos!A:A,Puntos!B:B,TRUE)))","v":""},"",{"$f":"IF($B86=\"\",\"\",_xlfn.IFS(U86=0,0,U86=1,0,U86=2,50,U86=3,100,U86=4,150,U86=5,200,U86=6,250,U86=7,300,U86=8,350))","v":""},"",0]
[84,{"$f":"IF(Carreras!$K85=0,\"\",Carreras!$K85)","v":""},{"$f":"IF(B87=\"\",\"\",_xlfn.XLOOKUP(B87,Socios!A:A,Socios!B:B,FALSE,0,1))","v":""},{"$f":"IF(B87=\"\",\"\",_xlfn.XLOOKUP(B87,Socios!A:A,Socios!C:C,FALSE,0,1))","v":""},{"$f":"IF($B87=\"\",\"\",_xlfn.XLOOKUP($B87,Carreras!$B:$B,Carreras!$A:$A,0,0,1))","v":""},{"$f":"IF($B87=\"\",\"\",IF($E87=0,0,_xlfn.XLOOKUP($E87,Puntos!A:A,Puntos!B:B,TRUE)))","v":""},{"$f":"IF($B87=\"\",\"\",_xlfn.XLOOKUP($B87,Carreras!C:C,Carreras!A:A,0,0,1))","v":""},{"$f":"IF($B87=\"\",\"\",IF($G87=0,0,_xlfn.XLOOKUP($G87,Puntos!A:A,Puntos!B:B,TRUE)))","v":""},{"$f":"IF($B87=\"\",\"\",_xlfn.XLOOKUP($B87,Carreras!$D:$D,Carreras!$A:$A,0,0,1))","v":""},{"$f":"IF($B87=\"\",\"\",IF($I87=0,0,_xlfn.XLOOKUP($I87,Puntos!A:A,Puntos!B:B,TRUE)))","v":""},{"$f":"IF($B87=\"\",\"\",_xlfn.XLOOKUP($B87,Carreras!$E:$E,Carreras!$A:$A,0,0,1))","v":""},{"$f":"IF($B87=\"\",\"\",IF($K87=0,0,_xlfn.XLOOKUP($K87,Puntos!$A:$A,Puntos!$B:$B)))","v":""},{"$f":"IF($B87=\"\",\"\",_xlfn.XLOOKUP($B87,Carreras!F:F,Carreras!$A:$A,0,0,1))","v":""},{"$f":"IF($B87=\"\",\"\",IF($M87=0,0,_xlfn.XLOOKUP(M87,Puntos!A:A,Puntos!B:B,TRUE)))","v":""},{"$f":"IF($B87=\"\",\"\",_xlfn.XLOOKUP($B87,Carreras!$G:$G,Carreras!$A:$A,0,0,1))","v":""},{"$f":"IF($B87=\"\",\"\",IF($O87=0,0,_xlfn.XLOOKUP($O87,Puntos!A:A,Puntos!B:B,TRUE)))","v":""},{"$f":"IF($B87=\"\",\"\",_xlfn.XLOOKUP($B87,Carreras!$H:$H,Carreras!$A:$A,0,0,1))","v":""},{"$f":"IF($B87=\"\",\"\",IF($Q87=0,0,_xlfn.XLOOKUP($Q87,Puntos!A:A,Puntos!B:B,TRUE)))","v":""},{"$f":"IF($B87=\"\",\"\",_xlfn.XLOOKUP($B87,Carreras!$I:$I,Carreras!$A:$A,0,0,1))","v":""},{"$f":"IF($B87=\"\",\"\",IF($S87=0,0,_xlfn.XLOOKUP($S87,Puntos!A:A,Puntos!B:B,TRUE)))","v":""},"",{"$f":"IF($B87=\"\",\"\",_xlfn.IFS(U87=0,0,U87=1,0,U87=2,50,U87=3,100,U87=4,150,U87=5,200,U87=6,250,U87=7,300,U87=8,350))","v":""},"",0]
[85,{"$f":"IF(Carreras!$K86=0,\"\",Carreras!$K86)","v":""},{"$f":"IF(B88=\"\",\"\",_xlfn.XLOOKUP(B88,Socios!A:A,Socios!B:B,FALSE,0,1))","v":""},{"$f":"IF(B88=\"\",\"\",_xlfn.XLOOKUP(B88,Socios!A:A,Socios!C:C,FALSE,0,1))","v":""},{"$f":"IF($B88=\"\",\"\",_xlfn.XLOOKUP($B88,Carreras!$B:$B,Carreras!$A:$A,0,0,1))","v":""},{"$f":"IF($B88=\"\",\"\",IF($E88=0,0,_xlfn.XLOOKUP($E88,Puntos!A:A,Puntos!B:B,TRUE)))","v":""},{"$f":"IF($B88=\"\",\"\",_xlfn.XLOOKUP($B88,Carreras!C:C,Carreras!A:A,0,0,1))","v":""},{"$f":"IF($B88=\"\",\"\",IF($G88=0,0,_xlfn.XLOOKUP($G88,Puntos!A:A,Puntos!B:B,TRUE)))","v":""},{"$f":"IF($B88=\"\",\"\",_xlfn.XLOOKUP($B88,Carreras!$D:$D,Carreras!$A:$A,0,0,1))","v":""},{"$f":"IF($B88=\"\",\"\",IF($I88=0,0,_xlfn.XLOOKUP($I88,Puntos!A:A,Puntos!B:B,TRUE)))","v":""},{"$f":"IF($B88=\"\",\"\",_xlfn.XLOOKUP($B88,Carreras!$E:$E,Carreras!$A:$A,0,0,1))","v":""},{"$f":"IF($B88=\"\",\"\",IF($K88=0,0,_xlfn.XLOOKUP($K88,Puntos!$A:$A,Puntos!$B:$B)))","v":""},{"$f":"IF($B88=\"\",\"\",_xlfn.XLOOKUP($B88,Carreras!F:F,Carreras!$A:$A,0,0,1))","v":""},{"$f":"IF($B88=\"\",\"\",IF($M88=0,0,_xlfn.XLOOKUP(M88,Puntos!A:A,Puntos!B:B,TRUE)))","v":""},{"$f":"IF($B88=\"\",\"\",_xlfn.XLOOKUP($B88,Carreras!$G:$G,Carreras!$A:$A,0,0,1))","v":""},{"$f":"IF($B88=\"\",\"\",IF($O88=0,0,_xlfn.XLOOKUP($O88,Puntos!A:A,Puntos!B:B,TRUE)))","v":""},{"$f":"IF($B88=\"\",\"\",_xlfn.XLOOKUP($B88,Carreras!$H:$H,Carreras!$A:$A,0,0,1))","v":""},{"$f":"IF($B88=\"\",\"\",IF($Q88=0,0,_xlfn.XLOOKUP($Q88,Puntos!A:A,Puntos!B:B,TRUE)))","v":""},{"$f":"IF($B88=\"\",\"\",_xlfn.XLOOKUP($B88,Carreras!$I:$I,Carreras!$A:$A,0,0,1))","v":""},{"$f":"IF($B88=\"\",\"\",IF($S88=0,0,_xlfn.XLOOKUP($S88,Puntos!A:A,Puntos!B:B,TRUE)))","v":""},"",{"$f":"IF($B88=\"\",\"\",_xlfn.IFS(U88=0,0,U88=1,0,U88=2,50,U88=3,100,U88=4,150,U88=5,200,U88=6,250,U88=7,300,U88=8,350))","v":""},"",0]
[86,{"$f":"IF(Carreras!$K87=0,\"\",Carreras!$K87)","v":""},{"$f":"IF(B89=\"\",\"\",_xlfn.XLOOKUP(B89,Socios!A:A,Socios!B:B,FALSE,0,1))","v":""},{"$f":"IF(B89=\"\",\"\",_xlfn.XLOOKUP(B89,Socios!A:A,Socios!C:C,FALSE,0,1))","v":""},{"$f":"IF($B89=\"\",\"\",_xlfn.XLOOKUP($B89,Carreras!$B:$B,Carreras!$A:$A,0,0,1))","v":""},{"$f":"IF($B89=\"\",\"\",IF($E89=0,0,_xlfn.XLOOKUP($E89,Puntos!A:A,Puntos!B:B,TRUE)))","v":""},{"$f":"IF($B89=\"\",\"\",_xlfn.XLOOKUP($B89,Carreras!C:C,Carreras!A:A,0,0,1))","v":""},{"$f":"IF($B89=\"\",\"\",IF($G89=0,0,_xlfn.XLOOKUP($G89,Puntos!A:A,Puntos!B:B,TRUE)))","v":""},{"$f":"IF($B89=\"\",\"\",_xlfn.XLOOKUP($B89,Carreras!$D:$D,Carreras!$A:$A,0,0,1))","v":""},{"$f":"IF($B89=\"\",\"\",IF($I89=0,0,_xlfn.XLOOKUP($I89,Puntos!A:A,Puntos!B:B,TRUE)))","v":""},{"$f":"IF($B89=\"\",\"\",_xlfn.XLOOKUP($B89,Carreras!$E:$E,Carreras!$A:$A,0,0,1))","v":""},{"$f":"IF($B89=\"\",\"\",IF($K89=0,0,_xlfn.XLOOKUP($K89,Puntos!$A:$A,Puntos!$B:$B)))","v":""},{"$f":"IF($B89=\"\",\"\",_xlfn.XLOOKUP($B89,Carreras!F:F,Carreras!$A:$A,0,0,1))","v":""},{"$f":"IF($B89=\"\",\"\",IF($M89=0,0,_xlfn.XLOOKUP(M89,Puntos!A:A,Puntos!B:B,TRUE)))","v":""},{"$f":"IF($B89=\"\",\"\",_xlfn.XLOOKUP($B89,Carreras!$G:$G,Carreras!$A:$A,0,0,1))","v":""},{"$f":"IF($B89=\"\",\"\",IF($O89=0,0,_xlfn.XLOOKUP($O89,Puntos!A:A,Puntos!B:B,TRUE)))","v":""},{"$f":"IF($B89=\"\",\"\",_xlfn.XLOOKUP($B89,Carreras!$H:$H,Carreras!$A:$A,0,0,1))","v":""},{"$f":"IF($B89=\"\",\"\",IF($Q89=0,0,_xlfn.XLOOKUP($Q89,Puntos!A:A,Puntos!B:B,TRUE)))","v":""},{"$f":"IF($B89=\"\",\"\",_xlfn.XLOOKUP($B89,Carreras!$I:$I,Carreras!$A:$A,0,0,1))","v":""},{"$f":"IF($B89=\"\",\"\",IF($S89=0,0,_xlfn.XLOOKUP($S89,Puntos!A:A,Puntos!B:B,TRUE)))","v":""},"",{"$f":"IF($B89=\"\",\"\",_xlfn.IFS(U89=0,0,U89=1,0,U89=2,50,U89=3,100,U89=4,150,U89=5,200,U89=6,250,U89=7,300,U89=8,350))","v":""},"",0]
[87,{"$f":"IF(Carreras!$K88=0,\"\",Carreras!$K88)","v":""},{"$f":"IF(B90=\"\",\"\",_xlfn.XLOOKUP(B90,Socios!A:A,Socios!B:B,FALSE,0,1))","v":""},{"$f":"IF(B90=\"\",\"\",_xlfn.XLOOKUP(B90,Socios!A:A,Socios!C:C,FALSE,0,1))","v":""},{"$f":"IF($B90=\"\",\"\",_xlfn.XLOOKUP($B90,Carreras!$B:$B,Carreras!$A:$A,0,0,1))","v":""},{"$f":"IF($B90=\"\",\"\",IF($E90=0,0,_xlfn.XLOOKUP($E90,Puntos!A:A,Puntos!B:B,TRUE)))","v":""},{"$f":"IF($B90=\"\",\"\",_xlfn.XLOOKUP($B90,Carreras!C:C,Carreras!A:A,0,0,1))","v":""},{"$f":"IF($B90=\"\",\"\",IF($G90=0,0,_xlfn.XLOOKUP($G90,Puntos!A:A,Puntos!B:B,TRUE)))","v":""},{"$f":"IF($B90=\"\",\"\",_xlfn.XLOOKUP($B90,Carreras!$D:$D,Carreras!$A:$A,0,0,1))","v":""},{"$f":"IF($B90=\"\",\"\",IF($I90=0,0,_xlfn.XLOOKUP($I90,Puntos!A:A,Puntos!B:B,TRUE)))","v":""},{"$f":"IF($B90=\"\",\"\",_xlfn.XLOOKUP($B90,Carreras!$E:$E,Carreras!$A:$A,0,0,1))","v":""},{"$f":"IF($B90=\"\",\"\",IF($K90=0,0,_xlfn.XLOOKUP($K90,Puntos!$A:$A,Puntos!$B:$B)))","v":""},{"$f":"IF($B90=\"\",\"\",_xlfn.XLOOKUP($B90,Carreras!F:F,Carreras!$A:$A,0,0,1))","v":""},{"$f":"IF($B90=\"\",\"\",IF($M90=0,0,_xlfn.XLOOKUP(M90,Puntos!A:A,Puntos!B:B,TRUE)))","v":""},{"$f":"IF($B90=\"\",\"\",_xlfn.XLOOKUP($B90,Carreras!$G:$G,Carreras!$A:$A,0,0,1))","v":""},{"$f":"IF($B90=\"\",\"\",IF($O90=0,0,_xlfn.XLOOKUP($O90,Puntos!A:A,Puntos!B:B,TRUE)))","v":""},{"$f":"IF($B90=\"\",\"\",_xlfn.XLOOKUP($B90,Carreras!$H:$H,Carreras!$A:$A,0,0,1))","v":""},{"$f":"IF($B90=\"\",\"\",IF($Q90=0,0,_xlfn.XLOOKUP($Q90,Puntos!A:A,Puntos!B:B,TRUE)))","v":""},{"$f":"IF($B90=\"\",\"\",_xlfn.XLOOKUP($B90,Carreras!$I:$I,Carreras!$A:$A,0,0,1))","v":""},{"$f":"IF($B90=\"\",\"\",IF($S90=0,0,_xlfn.XLOOKUP($S90,Puntos!A:A,Puntos!B:B,TRUE)))","v":""},"",{"$f":"IF($B90=\"\",\"\",_xlfn.IFS(U90=0,0,U90=1,0,U90=2,50,U90=3,100,U90=4,150,U90=5,200,U90=6,250,U90=7,300,U90=8,350))","v":""},"",0]
[88,{"$f":"IF(Carreras!$K89=0,\"\",Carreras!$K89)","v":""},{"$f":"IF(B91=\"\",\"\",_xlfn.XLOOKUP(B91,Socios!A:A,Socios!B:B,FALSE,0,1))","v":""},{"$f":"IF(B91=\"\",\"\",_xlfn.XLOOKUP(B91,Socios!A:A,Socios!C:C,FALSE,0,1))","v":""},{"$f":"IF($B91=\"\",\"\",_xlfn.XLOOKUP($B91,Carreras!$B:$B,Carreras!$A:$A,0,0,1))","v":""},{"$f":"IF($B91=\"\",\"\",IF($E91=0,0,_xlfn.XLOOKUP($E91,Puntos!A:A,Puntos!B:B,TRUE)))","v":""},{"$f":"IF($B91=\"\",\"\",_xlfn.XLOOKUP($B91,Carreras!C:C,Carreras!A:A,0,0,1))","v":""},{"$f":"IF($B91=\"\",\"\",IF($G91=0,0,_xlfn.XLOOKUP($G91,Puntos!A:A,Puntos!B:B,TRUE)))","v":""},{"$f":"IF($B91=\"\",\"\",_xlfn.XLOOKUP($B91,Carreras!$D:$D,Carreras!$A:$A,0,0,1))","v":""},{"$f":"IF($B91=\"\",\"\",IF($I91=0,0,_xlfn.XLOOKUP($I91,Puntos!A:A,Puntos!B:B,TRUE)))","v":""},{"$f":"IF($B91=\"\",\"\",_xlfn.XLOOKUP($B91,Carreras!$E:$E,Carreras!$A:$A,0,0,1))","v":""},{"$f":"IF($B91=\"\",\"\",IF($K91=0,0,_xlfn.XLOOKUP($K91,Puntos!$A:$A,Puntos!$B:$B)))","v":""},{"$f":"IF($B91=\"\",\"\",_xlfn.XLOOKUP($B91,Carreras!F:F,Carreras!$A:$A,0,0,1))","v":""},{"$f":"IF($B91=\"\",\"\",IF($M91=0,0,_xlfn.XLOOKUP(M91,Puntos!A:A,Puntos!B:B,TRUE)))","v":""},{"$f":"IF($B91=\"\",\"\",_xlfn.XLOOKUP($B91,Carreras!$G:$G,Carreras!$A:$A,0,0,1))","v":""},{"$f":"IF($B91=\"\",\"\",IF($O91=0,0,_xlfn.XLOOKUP($O91,Puntos!A:A,Puntos!B:B,TRUE)))","v":""},{"$f":"IF($B91=\"\",\"\",_xlfn.XLOOKUP($B91,Carreras!$H:$H,Carreras!$A:$A,0,0,1))","v":""},{"$f":"IF($B91=\"\",\"\",IF($Q91=0,0,_xlfn.XLOOKUP($Q91,Puntos!A:A,Puntos!B:B,TRUE)))","v":""},{"$f":"IF($B91=\"\",\"\",_xlfn.XLOOKUP($B91,Carreras!$I:$I,Carreras!$A:$A,0,0,1))","v":""},{"$f":"IF($B91=\"\",\"\",IF($S91=0,0,_xlfn.XLOOKUP($S91,Puntos!A:A,Puntos!B:B,TRUE)))","v":""},"",{"$f":"IF($B91=\"\",\"\",_xlfn.IFS(U91=0,0,U91=1,0,U91=2,50,U91=3,100,U91=4,150,U91=5,200,U91=6,250,U91=7,300,U91=8,350))","v":""},"",0]
[89,{"$f":"IF(Carreras!$K90=0,\"\",Carreras!$K90)","v":""},{"$f":"IF(B92=\"\",\"\",_xlfn.XLOOKUP(B92,Socios!A:A,Socios!B:B,FALSE,0,1))","v":""},{"$f":"IF(B92=\"\",\"\",_xlfn.XLOOKUP(B92,Socios!A:A,Socios!C:C,FALSE,0,1))","v":""},{"$f":"IF($B92=\"\",\"\",_xlfn.XLOOKUP($B92,Carreras!$B:$B,Carreras!$A:$A,0,0,1))","v":""},{"$f":"IF($B92=\"\",\"\",IF($E92=0,0,_xlfn.XLOOKUP($E92,Puntos!A:A,Puntos!B:B,TRUE)))","v":""},{"$f":"IF($B92=\"\",\"\",_xlfn.XLOOKUP($B92,Carreras!C:C,Carreras!A:A,0,0,1))","v":""},{"$f":"IF($B92=\"\",\"\",IF($G92=0,0,_xlfn.XLOOKUP($G92,Puntos!A:A,Puntos!B:B,TRUE)))","v":""},{"$f":"IF($B92=\"\",\"\",_xlfn.XLOOKUP($B92,Carreras!$D:$D,Carreras!$A:$A,0,0,1))","v":""},{"$f":"IF($B92=\"\",\"\",IF($I92=0,0,_xlfn.XLOOKUP($I92,Puntos!A:A,Puntos!B:B,TRUE)))","v":""},{"$f":"IF($B92=\"\",\"\",_xlfn.XLOOKUP($B92,Carreras!$E:$E,Carreras!$A:$A,0,0,1))","v":""},{"$f":"IF($B92=\"\",\"\",IF($K92=0,0,_xlfn.XLOOKUP($K92,Puntos!$A:$A,Puntos!$B:$B)))","v":""},{"$f":"IF($B92=\"\",\"\",_xlfn.XLOOKUP($B92,Carreras!F:F,Carreras!$A:$A,0,0,1))","v":""},{"$f":"IF($B92=\"\",\"\",IF($M92=0,0,_xlfn.XLOOKUP(M92,Puntos!A:A,Puntos!B:B,TRUE)))","v":""},{"$f":"IF($B92=\"\",\"\",_xlfn.XLOOKUP($B92,Carreras!$G:$G,Carreras!$A:$A,0,0,1))","v":""},{"$f":"IF($B92=\"\",\"\",IF($O92=0,0,_xlfn.XLOOKUP($O92,Puntos!A:A,Puntos!B:B,TRUE)))","v":""},{"$f":"IF($B92=\"\",\"\",_xlfn.XLOOKUP($B92,Carreras!$H:$H,Carreras!$A:$A,0,0,1))","v":""},{"$f":"IF($B92=\"\",\"\",IF($Q92=0,0,_xlfn.XLOOKUP($Q92,Puntos!A:A,Puntos!B:B,TRUE)))","v":""},{"$f":"IF($B92=\"\",\"\",_xlfn.XLOOKUP($B92,Carreras!$I:$I,Carreras!$A:$A,0,0,1))","v":""},{"$f":"IF($B92=\"\",\"\",IF($S92=0,0,_xlfn.XLOOKUP($S92,Puntos!A:A,Puntos!B:B,TRUE)))","v":""},"",{"$f":"IF($B92=\"\",\"\",_xlfn.IFS(U92=0,0,U92=1,0,U92=2,50,U92=3,100,U92=4,150,U92=5,200,U92=6,250,U92=7,300,U92=8,350))","v":""},"",0]
[90,{"$f":"IF(Carreras!$K91=0,\"\",Carreras!$K91)","v":""},{"$f":"IF(B93=\"\",\"\",_xlfn.XLOOKUP(B93,Socios!A:A,Socios!B:B,FALSE,0,1))","v":""},{"$f":"IF(B93=\"\",\"\",_xlfn.XLOOKUP(B93,Socios!A:A,Socios!C:C,FALSE,0,1))","v":""},{"$f":"IF($B93=\"\",\"\",_xlfn.XLOOKUP($B93,Carreras!$B:$B,Carreras!$A:$A,0,0,1))","v":""},{"$f":"IF($B93=\"\",\"\",IF($E93=0,0,_xlfn.XLOOKUP($E93,Puntos!A:A,Puntos!B:B,TRUE)))","v":""},{"$f":"IF($B93=\"\",\"\",_xlfn.XLOOKUP($B93,Carreras!C:C,Carreras!A:A,0,0,1))","v":""},{"$f":"IF($B93=\"\",\"\",IF($G93=0,0,_xlfn.XLOOKUP($G93,Puntos!A:A,Puntos!B:B,TRUE)))","v":""},{"$f":"IF($B93=\"\",\"\",_xlfn.XLOOKUP($B93,Carreras!$D:$D,Carreras!$A:$A,0,0,1))","v":""},{"$f":"IF($B93=\"\",\"\",IF($I93=0,0,_xlfn.XLOOKUP($I93,Puntos!A:A,Puntos!B:B,TRUE)))","v":""},{"$f":"IF($B93=\"\",\"\",_xlfn.XLOOKUP($B93,Carreras!$E:$E,Carreras!$A:$A,0,0,1))","v":""},{"$f":"IF($B93=\"\",\"\",IF($K93=0,0,_xlfn.XLOOKUP($K93,Puntos!$A:$A,Puntos!$B:$B)))","v":""},{"$f":"IF($B93=\"\",\"\",_xlfn.XLOOKUP($B93,Carreras!F:F,Carreras!$A:$A,0,0,1))","v":""},{"$f":"IF($B93=\"\",\"\",IF($M93=0,0,_xlfn.XLOOKUP(M93,Puntos!A:A,Puntos!B:B,TRUE)))","v":""},{"$f":"IF($B93=\"\",\"\",_xlfn.XLOOKUP($B93,Carreras!$G:$G,Carreras!$A:$A,0,0,1))","v":""},{"$f":"IF($B93=\"\",\"\",IF($O93=0,0,_xlfn.XLOOKUP($O93,Puntos!A:A,Puntos!B:B,TRUE)))","v":""},{"$f":"IF($B93=\"\",\"\",_xlfn.XLOOKUP($B93,Carreras!$H:$H,Carreras!$A:$A,0,0,1))","v":""},{"$f":"IF($B93=\"\",\"\",IF($Q93=0,0,_xlfn.XLOOKUP($Q93,Puntos!A:A,Puntos!B:B,TRUE)))","v":""},{"$f":"IF($B93=\"\",\"\",_xlfn.XLOOKUP($B93,Carreras!$I:$I,Carreras!$A:$A,0,0,1))","v":""},{"$f":"IF($B93=\"\",\"\",IF($S93=0,0,_xlfn.XLOOKUP($S93,Puntos!A:A,Puntos!B:B,TRUE)))","v":""},"",{"$f":"IF($B93=\"\",\"\",_xlfn.IFS(U93=0,0,U93=1,0,U93=2,50,U93=3,100,U93=4,150,U93=5,200,U93=6,250,U93=7,300,U93=8,350))","v":""},"",0]
[91,{"$f":"IF(Carreras!$K92=0,\"\",Carreras!$K92)","v":""},{"$f":"IF(B94=\"\",\"\",_xlfn.XLOOKUP(B94,Socios!A:A,Socios!B:B,FALSE,0,1))","v":""},{"$f":"IF(B94=\"\",\"\",_xlfn.XLOOKUP(B94,Socios!A:A,Socios!C:C,FALSE,0,1))","v":""},{"$f":"IF($B94=\"\",\"\",_xlfn.XLOOKUP($B94,Carreras!$B:$B,Carreras!$A:$A,0,0,1))","v":""},{"$f":"IF($B94=\"\",\"\",IF($E94=0,0,_xlfn.XLOOKUP($E94,Puntos!A:A,Puntos!B:B,TRUE)))","v":""},{"$f":"IF($B94=\"\",\"\",_xlfn.XLOOKUP($B94,Carreras!C:C,Carreras!A:A,0,0,1))","v":""},{"$f":"IF($B94=\"\",\"\",IF($G94=0,0,_xlfn.XLOOKUP($G94,Puntos!A:A,Puntos!B:B,TRUE)))","v":""},{"$f":"IF($B94=\"\",\"\",_xlfn.XLOOKUP($B94,Carreras!$D:$D,Carreras!$A:$A,0,0,1))","v":""},{"$f":"IF($B94=\"\",\"\",IF($I94=0,0,_xlfn.XLOOKUP($I94,Puntos!A:A,Puntos!B:B,TRUE)))","v":""},{"$f":"IF($B94=\"\",\"\",_xlfn.XLOOKUP($B94,Carreras!$E:$E,Carreras!$A:$A,0,0,1))","v":""},{"$f":"IF($B94=\"\",\"\",IF($K94=0,0,_xlfn.XLOOKUP($K94,Puntos!$A:$A,Puntos!$B:$B)))","v":""},{"$f":"IF($B94=\"\",\"\",_xlfn.XLOOKUP($B94,Carreras!F:F,Carreras!$A:$A,0,0,1))","v":""},{"$f":"IF($B94=\"\",\"\",IF($M94=0,0,_xlfn.XLOOKUP(M94,Puntos!A:A,Puntos!B:B,TRUE)))","v":""},{"$f":"IF($B94=\"\",\"\",_xlfn.XLOOKUP($B94,Carreras!$G:$G,Carreras!$A:$A,0,0,1))","v":""},{"$f":"IF($B94=\"\",\"\",IF($O94=0,0,_xlfn.XLOOKUP($O94,Puntos!A:A,Puntos!B:B,TRUE)))","v":""},{"$f":"IF($B94=\"\",\"\",_xlfn.XLOOKUP($B94,Carreras!$H:$H,Carreras!$A:$A,0,0,1))","v":""},{"$f":"IF($B94=\"\",\"\",IF($Q94=0,0,_xlfn.XLOOKUP($Q94,Puntos!A:A,Puntos!B:B,TRUE)))","v":""},{"$f":"IF($B94=\"\",\"\",_xlfn.XLOOKUP($B94,Carreras!$I:$I,Carreras!$A:$A,0,0,1))","v":""},{"$f":"IF($B94=\"\",\"\",IF($S94=0,0,_xlfn.XLOOKUP($S94,Puntos!A:A,Puntos!B:B,TRUE)))","v":""},"",{"$f":"IF($B94=\"\",\"\",_xlfn.IFS(U94=0,0,U94=1,0,U94=2,50,U94=3,100,U94=4,150,U94=5,200,U94=6,250,U94=7,300,U94=8,350))","v":""},"",0]
[92,{"$f":"IF(Carreras!$K93=0,\"\",Carreras!$K93)","v":""},{"$f":"IF(B95=\"\",\"\",_xlfn.XLOOKUP(B95,Socios!A:A,Socios!B:B,FALSE,0,1))","v":""},{"$f":"IF(B95=\"\",\"\",_xlfn.XLOOKUP(B95,Socios!A:A,Socios!C:C,FALSE,0,1))","v":""},{"$f":"IF($B95=\"\",\"\",_xlfn.XLOOKUP($B95,Carreras!$B:$B,Carreras!$A:$A,0,0,1))","v":""},{"$f":"IF($B95=\"\",\"\",IF($E95=0,0,_xlfn.XLOOKUP($E95,Puntos!A:A,Puntos!B:B,TRUE)))","v":""},{"$f":"IF($B95=\"\",\"\",_xlfn.XLOOKUP($B95,Carreras!C:C,Carreras!A:A,0,0,1))","v":""},{"$f":"IF($B95=\"\",\"\",IF($G95=0,0,_xlfn.XLOOKUP($G95,Puntos!A:A,Puntos!B:B,TRUE)))","v":""},{"$f":"IF($B95=\"\",\"\",_xlfn.XLOOKUP($B95,Carreras!$D:$D,Carreras!$A:$A,0,0,1))","v":""},{"$f":"IF($B95=\"\",\"\",IF($I95=0,0,_xlfn.XLOOKUP($I95,Puntos!A:A,Puntos!B:B,TRUE)))","v":""},{"$f":"IF($B95=\"\",\"\",_xlfn.XLOOKUP($B95,Carreras!$E:$E,Carreras!$A:$A,0,0,1))","v":""},{"$f":"IF($B95=\"\",\"\",IF($K95=0,0,_xlfn.XLOOKUP($K95,Puntos!$A:$A,Puntos!$B:$B)))","v":""},{"$f":"IF($B95=\"\",\"\",_xlfn.XLOOKUP($B95,Carreras!F:F,Carreras!$A:$A,0,0,1))","v":""},{"$f":"IF($B95=\"\",\"\",IF($M95=0,0,_xlfn.XLOOKUP(M95,Puntos!A:A,Puntos!B:B,TRUE)))","v":""},{"$f":"IF($B95=\"\",\"\",_xlfn.XLOOKUP($B95,Carreras!$G:$G,Carreras!$A:$A,0,0,1))","v":""},{"$f":"IF($B95=\"\",\"\",IF($O95=0,0,_xlfn.XLOOKUP($O95,Puntos!A:A,Puntos!B:B,TRUE)))","v":""},{"$f":"IF($B95=\"\",\"\",_xlfn.XLOOKUP($B95,Carreras!$H:$H,Carreras!$A:$A,0,0,1))","v":""},{"$f":"IF($B95=\"\",\"\",IF($Q95=0,0,_xlfn.XLOOKUP($Q95,Puntos!A:A,Puntos!B:B,TRUE)))","v":""},{"$f":"IF($B95=\"\",\"\",_xlfn.XLOOKUP($B95,Carreras!$I:$I,Carreras!$A:$A,0,0,1))","v":""},{"$f":"IF($B95=\"\",\"\",IF($S95=0,0,_xlfn.XLOOKUP($S95,Puntos!A:A,Puntos!B:B,TRUE)))","v":""},"",{"$f":"IF($B95=\"\",\"\",_xlfn.IFS(U95=0,0,U95=1,0,U95=2,50,U95=3,100,U95=4,150,U95=5,200,U95=6,250,U95=7,300,U95=8,350))","v":""},"",0]
[93,{"$f":"IF(Carreras!$K94=0,\"\",Carreras!$K94)","v":""},{"$f":"IF(B96=\"\",\"\",_xlfn.XLOOKUP(B96,Socios!A:A,Socios!B:B,FALSE,0,1))","v":""},{"$f":"IF(B96=\"\",\"\",_xlfn.XLOOKUP(B96,Socios!A:A,Socios!C:C,FALSE,0,1))","v":""},{"$f":"IF($B96=\"\",\"\",_xlfn.XLOOKUP($B96,Carreras!$B:$B,Carreras!$A:$A,0,0,1))","v":""},{"$f":"IF($B96=\"\",\"\",IF($E96=0,0,_xlfn.XLOOKUP($E96,Puntos!A:A,Puntos!B:B,TRUE)))","v":""},{"$f":"IF($B96=\"\",\"\",_xlfn.XLOOKUP($B96,Carreras!C:C,Carreras!A:A,0,0,1))","v":""},{"$f":"IF($B96=\"\",\"\",IF($G96=0,0,_xlfn.XLOOKUP($G96,Puntos!A:A,Puntos!B:B,TRUE)))","v":""},{"$f":"IF($B96=\"\",\"\",_xlfn.XLOOKUP($B96,Carreras!$D:$D,Carreras!$A:$A,0,0,1))","v":""},{"$f":"IF($B96=\"\",\"\",IF($I96=0,0,_xlfn.XLOOKUP($I96,Puntos!A:A,Puntos!B:B,TRUE)))","v":""},{"$f":"IF($B96=\"\",\"\",_xlfn.XLOOKUP($B96,Carreras!$E:$E,Carreras!$A:$A,0,0,1))","v":""},{"$f":"IF($B96=\"\",\"\",IF($K96=0,0,_xlfn.XLOOKUP($K96,Puntos!$A:$A,Puntos!$B:$B)))","v":""},{"$f":"IF($B96=\"\",\"\",_xlfn.XLOOKUP($B96,Carreras!F:F,Carreras!$A:$A,0,0,1))","v":""},{"$f":"IF($B96=\"\",\"\",IF($M96=0,0,_xlfn.XLOOKUP(M96,Puntos!A:A,Puntos!B:B,TRUE)))","v":""},{"$f":"IF($B96=\"\",\"\",_xlfn.XLOOKUP($B96,Carreras!$G:$G,Carreras!$A:$A,0,0,1))","v":""},{"$f":"IF($B96=\"\",\"\",IF($O96=0,0,_xlfn.XLOOKUP($O96,Puntos!A:A,Puntos!B:B,TRUE)))","v":""},{"$f":"IF($B96=\"\",\"\",_xlfn.XLOOKUP($B96,Carreras!$H:$H,Carreras!$A:$A,0,0,1))","v":""},{"$f":"IF($B96=\"\",\"\",IF($Q96=0,0,_xlfn.XLOOKUP($Q96,Puntos!A:A,Puntos!B:B,TRUE)))","v":""},{"$f":"IF($B96=\"\",\"\",_xlfn.XLOOKUP($B96,Carreras!$I:$I,Carreras!$A:$A,0,0,1))","v":""},{"$f":"IF($B96=\"\",\"\",IF($S96=0,0,_xlfn.XLOOKUP($S96,Puntos!A:A,Puntos!B:B,TRUE)))","v":""},"",{"$f":"IF($B96=\"\",\"\",_xlfn.IFS(U96=0,0,U96=1,0,U96=2,50,U96=3,100,U96=4,150,U96=5,200,U96=6,250,U96=7,300,U96=8,350))","v":""},"",0]
[94,{"$f":"IF(Carreras!$K95=0,\"\",Carreras!$K95)","v":""},{"$f":"IF(B97=\"\",\"\",_xlfn.XLOOKUP(B97,Socios!A:A,Socios!B:B,FALSE,0,1))","v":""},{"$f":"IF(B97=\"\",\"\",_xlfn.XLOOKUP(B97,Socios!A:A,Socios!C:C,FALSE,0,1))","v":""},{"$f":"IF($B97=\"\",\"\",_xlfn.XLOOKUP($B97,Carreras!$B:$B,Carreras!$A:$A,0,0,1))","v":""},{"$f":"IF($B97=\"\",\"\",IF($E97=0,0,_xlfn.XLOOKUP($E97,Puntos!A:A,Puntos!B:B,TRUE)))","v":""},{"$f":"IF($B97=\"\",\"\",_xlfn.XLOOKUP($B97,Carreras!C:C,Carreras!A:A,0,0,1))","v":""},{"$f":"IF($B97=\"\",\"\",IF($G97=0,0,_xlfn.XLOOKUP($G97,Puntos!A:A,Puntos!B:B,TRUE)))","v":""},{"$f":"IF($B97=\"\",\"\",_xlfn.XLOOKUP($B97,Carreras!$D:$D,Carreras!$A:$A,0,0,1))","v":""},{"$f":"IF($B97=\"\",\"\",IF($I97=0,0,_xlfn.XLOOKUP($I97,Puntos!A:A,Puntos!B:B,TRUE)))","v":""},{"$f":"IF($B97=\"\",\"\",_xlfn.XLOOKUP($B97,Carreras!$E:$E,Carreras!$A:$A,0,0,1))","v":""},{"$f":"IF($B97=\"\",\"\",IF($K97=0,0,_xlfn.XLOOKUP($K97,Puntos!$A:$A,Puntos!$B:$B)))","v":""},{"$f":"IF($B97=\"\",\"\",_xlfn.XLOOKUP($B97,Carreras!F:F,Carreras!$A:$A,0,0,1))","v":""},{"$f":"IF($B97=\"\",\"\",IF($M97=0,0,_xlfn.XLOOKUP(M97,Puntos!A:A,Puntos!B:B,TRUE)))","v":""},{"$f":"IF($B97=\"\",\"\",_xlfn.XLOOKUP($B97,Carreras!$G:$G,Carreras!$A:$A,0,0,1))","v":""},{"$f":"IF($B97=\"\",\"\",IF($O97=0,0,_xlfn.XLOOKUP($O97,Puntos!A:A,Puntos!B:B,TRUE)))","v":""},{"$f":"IF($B97=\"\",\"\",_xlfn.XLOOKUP($B97,Carreras!$H:$H,Carreras!$A:$A,0,0,1))","v":""},{"$f":"IF($B97=\"\",\"\",IF($Q97=0,0,_xlfn.XLOOKUP($Q97,Puntos!A:A,Puntos!B:B,TRUE)))","v":""},{"$f":"IF($B97=\"\",\"\",_xlfn.XLOOKUP($B97,Carreras!$I:$I,Carreras!$A:$A,0,0,1))","v":""},{"$f":"IF($B97=\"\",\"\",IF($S97=0,0,_xlfn.XLOOKUP($S97,Puntos!A:A,Puntos!B:B,TRUE)))","v":""},"",{"$f":"IF($B97=\"\",\"\",_xlfn.IFS(U97=0,0,U97=1,0,U97=2,50,U97=3,100,U97=4,150,U97=5,200,U97=6,250,U97=7,300,U97=8,350))","v":""},"",0]
[95,{"$f":"IF(Carreras!$K96=0,\"\",Carreras!$K96)","v":""},{"$f":"IF(B98=\"\",\"\",_xlfn.XLOOKUP(B98,Socios!A:A,Socios!B:B,FALSE,0,1))","v":""},{"$f":"IF(B98=\"\",\"\",_xlfn.XLOOKUP(B98,Socios!A:A,Socios!C:C,FALSE,0,1))","v":""},{"$f":"IF($B98=\"\",\"\",_xlfn.XLOOKUP($B98,Carreras!$B:$B,Carreras!$A:$A,0,0,1))","v":""},{"$f":"IF($B98=\"\",\"\",IF($E98=0,0,_xlfn.XLOOKUP($E98,Puntos!A:A,Puntos!B:B,TRUE)))","v":""},{"$f":"IF($B98=\"\",\"\",_xlfn.XLOOKUP($B98,Carreras!C:C,Carreras!A:A,0,0,1))","v":""},{"$f":"IF($B98=\"\",\"\",IF($G98=0,0,_xlfn.XLOOKUP($G98,Puntos!A:A,Puntos!B:B,TRUE)))","v":""},{"$f":"IF($B98=\"\",\"\",_xlfn.XLOOKUP($B98,Carreras!$D:$D,Carreras!$A:$A,0,0,1))","v":""},{"$f":"IF($B98=\"\",\"\",IF($I98=0,0,_xlfn.XLOOKUP($I98,Puntos!A:A,Puntos!B:B,TRUE)))","v":""},{"$f":"IF($B98=\"\",\"\",_xlfn.XLOOKUP($B98,Carreras!$E:$E,Carreras!$A:$A,0,0,1))","v":""},{"$f":"IF($B98=\"\",\"\",IF($K98=0,0,_xlfn.XLOOKUP($K98,Puntos!$A:$A,Puntos!$B:$B)))","v":""},{"$f":"IF($B98=\"\",\"\",_xlfn.XLOOKUP($B98,Carreras!F:F,Carreras!$A:$A,0,0,1))","v":""},{"$f":"IF($B98=\"\",\"\",IF($M98=0,0,_xlfn.XLOOKUP(M98,Puntos!A:A,Puntos!B:B,TRUE)))","v":""},{"$f":"IF($B98=\"\",\"\",_xlfn.XLOOKUP($B98,Carreras!$G:$G,Carreras!$A:$A,0,0,1))","v":""},{"$f":"IF($B98=\"\",\"\",IF($O98=0,0,_xlfn.XLOOKUP($O98,Puntos!A:A,Puntos!B:B,TRUE)))","v":""},{"$f":"IF($B98=\"\",\"\",_xlfn.XLOOKUP($B98,Carreras!$H:$H,Carreras!$A:$A,0,0,1))","v":""},{"$f":"IF($B98=\"\",\"\",IF($Q98=0,0,_xlfn.XLOOKUP($Q98,Puntos!A:A,Puntos!B:B,TRUE)))","v":""},{"$f":"IF($B98=\"\",\"\",_xlfn.XLOOKUP($B98,Carreras!$I:$I,Carreras!$A:$A,0,0,1))","v":""},{"$f":"IF($B98=\"\",\"\",IF($S98=0,0,_xlfn.XLOOKUP($S98,Puntos!A:A,Puntos!B:B,TRUE)))","v":""},"",{"$f":"IF($B98=\"\",\"\",_xlfn.IFS(U98=0,0,U98=1,0,U98=2,50,U98=3,100,U98=4,150,U98=5,200,U98=6,250,U98=7,300,U98=8,350))","v":""},"",0]
[96,{"$f":"IF(Carreras!$K97=0,\"\",Carreras!$K97)","v":""},{"$f":"IF(B99=\"\",\"\",_xlfn.XLOOKUP(B99,Socios!A:A,Socios!B:B,FALSE,0,1))","v":""},{"$f":"IF(B99=\"\",\"\",_xlfn.XLOOKUP(B99,Socios!A:A,Socios!C:C,FALSE,0,1))","v":""},{"$f":"IF($B99=\"\",\"\",_xlfn.XLOOKUP($B99,Carreras!$B:$B,Carreras!$A:$A,0,0,1))","v":""},{"$f":"IF($B99=\"\",\"\",IF($E99=0,0,_xlfn.XLOOKUP($E99,Puntos!A:A,Puntos!B:B,TRUE)))","v":""},{"$f":"IF($B99=\"\",\"\",_xlfn.XLOOKUP($B99,Carreras!C:C,Carreras!A:A,0,0,1))","v":""},{"$f":"IF($B99=\"\",\"\",IF($G99=0,0,_xlfn.XLOOKUP($G99,Puntos!A:A,Puntos!B:B,TRUE)))","v":""},{"$f":"IF($B99=\"\",\"\",_xlfn.XLOOKUP($B99,Carreras!$D:$D,Carreras!$A:$A,0,0,1))","v":""},{"$f":"IF($B99=\"\",\"\",IF($I99=0,0,_xlfn.XLOOKUP($I99,Puntos!A:A,Puntos!B:B,TRUE)))","v":""},{"$f":"IF($B99=\"\",\"\",_xlfn.XLOOKUP($B99,Carreras!$E:$E,Carreras!$A:$A,0,0,1))","v":""},{"$f":"IF($B99=\"\",\"\",IF($K99=0,0,_xlfn.XLOOKUP($K99,Puntos!$A:$A,Puntos!$B:$B)))","v":""},{"$f":"IF($B99=\"\",\"\",_xlfn.XLOOKUP($B99,Carreras!F:F,Carreras!$A:$A,0,0,1))","v":""},{"$f":"IF($B99=\"\",\"\",IF($M99=0,0,_xlfn.XLOOKUP(M99,Puntos!A:A,Puntos!B:B,TRUE)))","v":""},{"$f":"IF($B99=\"\",\"\",_xlfn.XLOOKUP($B99,Carreras!$G:$G,Carreras!$A:$A,0,0,1))","v":""},{"$f":"IF($B99=\"\",\"\",IF($O99=0,0,_xlfn.XLOOKUP($O99,Puntos!A:A,Puntos!B:B,TRUE)))","v":""},{"$f":"IF($B99=\"\",\"\",_xlfn.XLOOKUP($B99,Carreras!$H:$H,Carreras!$A:$A,0,0,1))","v":""},{"$f":"IF($B99=\"\",\"\",IF($Q99=0,0,_xlfn.XLOOKUP($Q99,Puntos!A:A,Puntos!B:B,TRUE)))","v":""},{"$f":"IF($B99=\"\",\"\",_xlfn.XLOOKUP($B99,Carreras!$I:$I,Carreras!$A:$A,0,0,1))","v":""},{"$f":"IF($B99=\"\",\"\",IF($S99=0,0,_xlfn.XLOOKUP($S99,Puntos!A:A,Puntos!B:B,TRUE)))","v":""},"",{"$f":"IF($B99=\"\",\"\",_xlfn.IFS(U99=0,0,U99=1,0,U99=2,50,U99=3,100,U99=4,150,U99=5,200,U99=6,250,U99=7,300,U99=8,350))","v":""},"",0]
[97,{"$f":"IF(Carreras!$K98=0,\"\",Carreras!$K98)","v":""},{"$f":"IF(B100=\"\",\"\",_xlfn.XLOOKUP(B100,Socios!A:A,Socios!B:B,FALSE,0,1))","v":""},{"$f":"IF(B100=\"\",\"\",_xlfn.XLOOKUP(B100,Socios!A:A,Socios!C:C,FALSE,0,1))","v":""},{"$f":"IF($B100=\"\",\"\",_xlfn.XLOOKUP($B100,Carreras!$B:$B,Carreras!$A:$A,0,0,1))","v":""},{"$f":"IF($B100=\"\",\"\",IF($E100=0,0,_xlfn.XLOOKUP($E100,Puntos!A:A,Puntos!B:B,TRUE)))","v":""},{"$f":"IF($B100=\"\",\"\",_xlfn.XLOOKUP($B100,Carreras!C:C,Carreras!A:A,0,0,1))","v":""},{"$f":"IF($B100=\"\",\"\",IF($G100=0,0,_xlfn.XLOOKUP($G100,Puntos!A:A,Puntos!B:B,TRUE)))","v":""},{"$f":"IF($B100=\"\",\"\",_xlfn.XLOOKUP($B100,Carreras!$D:$D,Carreras!$A:$A,0,0,1))","v":""},{"$f":"IF($B100=\"\",\"\",IF($I100=0,0,_xlfn.XLOOKUP($I100,Puntos!A:A,Puntos!B:B,TRUE)))","v":""},{"$f":"IF($B100=\"\",\"\",_xlfn.XLOOKUP($B100,Carreras!$E:$E,Carreras!$A:$A,0,0,1))","v":""},{"$f":"IF($B100=\"\",\"\",IF($K100=0,0,_xlfn.XLOOKUP($K100,Puntos!$A:$A,Puntos!$B:$B)))","v":""},{"$f":"IF($B100=\"\",\"\",_xlfn.XLOOKUP($B100,Carreras!F:F,Carreras!$A:$A,0,0,1))","v":""},{"$f":"IF($B100=\"\",\"\",IF($M100=0,0,_xlfn.XLOOKUP(M100,Puntos!A:A,Puntos!B:B,TRUE)))","v":""},{"$f":"IF($B100=\"\",\"\",_xlfn.XLOOKUP($B100,Carreras!$G:$G,Carreras!$A:$A,0,0,1))","v":""},{"$f":"IF($B100=\"\",\"\",IF($O100=0,0,_xlfn.XLOOKUP($O100,Puntos!A:A,Puntos!B:B,TRUE)))","v":""},{"$f":"IF($B100=\"\",\"\",_xlfn.XLOOKUP($B100,Carreras!$H:$H,Carreras!$A:$A,0,0,1))","v":""},{"$f":"IF($B100=\"\",\"\",IF($Q100=0,0,_xlfn.XLOOKUP($Q100,Puntos!A:A,Puntos!B:B,TRUE)))","v":""},{"$f":"IF($B100=\"\",\"\",_xlfn.XLOOKUP($B100,Carreras!$I:$I,Carreras!$A:$A,0,0,1))","v":""},{"$f":"IF($B100=\"\",\"\",IF($S100=0,0,_xlfn.XLOOKUP($S100,Puntos!A:A,Puntos!B:B,TRUE)))","v":""},{"$f":"IF($B100=\"\",\"\",COUNTIF(F100,\">0\")+COUNTIF(H100,\">0\")+COUNTIF(J100,\">0\")+COUNTIF(L100,\">0\")+COUNTIF(N100,\">0\")*COUNTIF(P100,\">0\")+COUNTIF(R100,\">0\")+COUNTIF(T100,\"\">0))","v":""},{"$f":"IF($B100=\"\",\"\",_xlfn.IFS(U100=0,0,U100=1,0,U100=2,50,U100=3,100,U100=4,150,U100=5,200,U100=6,250,U100=7,300,U100=8,350))","v":""},{"$f":"IF(B100=\"\",\"\",F100+H100+J100+L100+P100+N100+R100+T100+V100)","v":""},{"$f":"IF(B100=\"\",0,W100-MIN(F100,H100,J100,L100,N100,P100,R100,T100))","v":0}]
[98,{"$f":"IF(Carreras!$K99=0,\"\",Carreras!$K99)","v":""},{"$f":"IF(B101=\"\",\"\",_xlfn.XLOOKUP(B101,Socios!A:A,Socios!B:B,FALSE,0,1))","v":""},{"$f":"IF(B101=\"\",\"\",_xlfn.XLOOKUP(B101,Socios!A:A,Socios!C:C,FALSE,0,1))","v":""},{"$f":"IF($B101=\"\",\"\",_xlfn.XLOOKUP($B101,Carreras!$B:$B,Carreras!$A:$A,0,0,1))","v":""},{"$f":"IF($B101=\"\",\"\",IF($E101=0,0,_xlfn.XLOOKUP($E101,Puntos!A:A,Puntos!B:B,TRUE)))","v":""},{"$f":"IF($B101=\"\",\"\",_xlfn.XLOOKUP($B101,Carreras!C:C,Carreras!A:A,0,0,1))","v":""},{"$f":"IF($B101=\"\",\"\",IF($G101=0,0,_xlfn.XLOOKUP($G101,Puntos!A:A,Puntos!B:B,TRUE)))","v":""},{"$f":"IF($B101=\"\",\"\",_xlfn.XLOOKUP($B101,Carreras!$D:$D,Carreras!$A:$A,0,0,1))","v":""},{"$f":"IF($B101=\"\",\"\",IF($I101=0,0,_xlfn.XLOOKUP($I101,Puntos!A:A,Puntos!B:B,TRUE)))","v":""},{"$f":"IF($B101=\"\",\"\",_xlfn.XLOOKUP($B101,Carreras!$E:$E,Carreras!$A:$A,0,0,1))","v":""},{"$f":"IF($B101=\"\",\"\",IF($K101=0,0,_xlfn.XLOOKUP($K101,Puntos!$A:$A,Puntos!$B:$B)))","v":""},{"$f":"IF($B101=\"\",\"\",_xlfn.XLOOKUP($B101,Carreras!F:F,Carreras!$A:$A,0,0,1))","v":""},{"$f":"IF($B101=\"\",\"\",IF($M101=0,0,_xlfn.XLOOKUP(M101,Puntos!A:A,Puntos!B:B,TRUE)))","v":""},{"$f":"IF($B101=\"\",\"\",_xlfn.XLOOKUP($B101,Carreras!$G:$G,Carreras!$A:$A,0,0,1))","v":""},{"$f":"IF($B101=\"\",\"\",IF($O101=0,0,_xlfn.XLOOKUP($O101,Puntos!A:A,Puntos!B:B,TRUE)))","v":""},{"$f":"IF($B101=\"\",\"\",_xlfn.XLOOKUP($B101,Carreras!$H:$H,Carreras!$A:$A,0,0,1))","v":""},{"$f":"IF($B101=\"\",\"\",IF($Q101=0,0,_xlfn.XLOOKUP($Q101,Puntos!A:A,Puntos!B:B,TRUE)))","v":""},{"$f":"IF($B101=\"\",\"\",_xlfn.XLOOKUP($B101,Carreras!$I:$I,Carreras!$A:$A,0,0,1))","v":""},{"$f":"IF($B101=\"\",\"\",IF($S101=0,0,_xlfn.XLOOKUP($S101,Puntos!A:A,Puntos!B:B,TRUE)))","v":""},"",{"$f":"IF($B101=\"\",\"\",_xlfn.IFS(U101=0,0,U101=1,0,U101=2,50,U101=3,100,U101=4,150,U101=5,200,U101=6,250,U101=7,300,U101=8,350))","v":""},"",0]
[99,{"$f":"IF(Carreras!$K100=0,\"\",Carreras!$K100)","v":""},{"$f":"IF(B102=\"\",\"\",_xlfn.XLOOKUP(B102,Socios!A:A,Socios!B:B,FALSE,0,1))","v":""},{"$f":"IF(B102=\"\",\"\",_xlfn.XLOOKUP(B102,Socios!A:A,Socios!C:C,FALSE,0,1))","v":""},{"$f":"IF($B102=\"\",\"\",_xlfn.XLOOKUP($B102,Carreras!$B:$B,Carreras!$A:$A,0,0,1))","v":""},{"$f":"IF($B102=\"\",\"\",IF($E102=0,0,_xlfn.XLOOKUP($E102,Puntos!A:A,Puntos!B:B,TRUE)))","v":""},{"$f":"IF($B102=\"\",\"\",_xlfn.XLOOKUP($B102,Carreras!C:C,Carreras!A:A,0,0,1))","v":""},{"$f":"IF($B102=\"\",\"\",IF($G102=0,0,_xlfn.XLOOKUP($G102,Puntos!A:A,Puntos!B:B,TRUE)))","v":""},{"$f":"IF($B102=\"\",\"\",_xlfn.XLOOKUP($B102,Carreras!$D:$D,Carreras!$A:$A,0,0,1))","v":""},{"$f":"IF($B102=\"\",\"\",IF($I102=0,0,_xlfn.XLOOKUP($I102,Puntos!A:A,Puntos!B:B,TRUE)))","v":""},{"$f":"IF($B102=\"\",\"\",_xlfn.XLOOKUP($B102,Carreras!$E:$E,Carreras!$A:$A,0,0,1))","v":""},{"$f":"IF($B102=\"\",\"\",IF($K102=0,0,_xlfn.XLOOKUP($K102,Puntos!$A:$A,Puntos!$B:$B)))","v":""},{"$f":"IF($B102=\"\",\"\",_xlfn.XLOOKUP($B102,Carreras!F:F,Carreras!$A:$A,0,0,1))","v":""},{"$f":"IF($B102=\"\",\"\",IF($M102=0,0,_xlfn.XLOOKUP(M102,Puntos!A:A,Puntos!B:B,TRUE)))","v":""},{"$f":"IF($B102=\"\",\"\",_xlfn.XLOOKUP($B102,Carreras!$G:$G,Carreras!$A:$A,0,0,1))","v":""},{"$f":"IF($B102=\"\",\"\",IF($O102=0,0,_xlfn.XLOOKUP($O102,Puntos!A:A,Puntos!B:B,TRUE)))","v":""},{"$f":"IF($B102=\"\",\"\",_xlfn.XLOOKUP($B102,Carreras!$H:$H,Carreras!$A:$A,0,0,1))","v":""},{"$f":"IF($B102=\"\",\"\",IF($Q102=0,0,_xlfn.XLOOKUP($Q102,Puntos!A:A,Puntos!B:B,TRUE)))","v":""},{"$f":"IF($B102=\"\",\"\",_xlfn.XLOOKUP($B102,Carreras!$I:$I,Carreras!$A:$A,0,0,1))","v":""},{"$f":"IF($B102=\"\",\"\",IF($S102=0,0,_xlfn.XLOOKUP($S102,Puntos!A:A,Puntos!B:B,TRUE)))","v":""},"",{"$f":"IF($B102=\"\",\"\",_xlfn.IFS(U102=0,0,U102=1,0,U102=2,50,U102=3,100,U102=4,150,U102=5,200,U102=6,250,U102=7,300,U102=8,350))","v":""},"",0]
[100,{"$f":"IF(Carreras!$K101=0,\"\",Carreras!$K101)","v":""},{"$f":"IF(B103=\"\",\"\",_xlfn.XLOOKUP(B103,Socios!A:A,Socios!B:B,FALSE,0,1))","v":""},{"$f":"IF(B103=\"\",\"\",_xlfn.XLOOKUP(B103,Socios!A:A,Socios!C:C,FALSE,0,1))","v":""},{"$f":"IF($B103=\"\",\"\",_xlfn.XLOOKUP($B103,Carreras!$B:$B,Carreras!$A:$A,0,0,1))","v":""},{"$f":"IF($B103=\"\",\"\",IF($E103=0,0,_xlfn.XLOOKUP($E103,Puntos!A:A,Puntos!B:B,TRUE)))","v":""},{"$f":"IF($B103=\"\",\"\",_xlfn.XLOOKUP($B103,Carreras!C:C,Carreras!A:A,0,0,1))","v":""},{"$f":"IF($B103=\"\",\"\",IF($G103=0,0,_xlfn.XLOOKUP($G103,Puntos!A:A,Puntos!B:B,TRUE)))","v":""},{"$f":"IF($B103=\"\",\"\",_xlfn.XLOOKUP($B103,Carreras!$D:$D,Carreras!$A:$A,0,0,1))","v":""},{"$f":"IF($B103=\"\",\"\",IF($I103=0,0,_xlfn.XLOOKUP($I103,Puntos!A:A,Puntos!B:B,TRUE)))","v":""},{"$f":"IF($B103=\"\",\"\",_xlfn.XLOOKUP($B103,Carreras!$E:$E,Carreras!$A:$A,0,0,1))","v":""},{"$f":"IF($B103=\"\",\"\",IF($K103=0,0,_xlfn.XLOOKUP($K103,Puntos!$A:$A,Puntos!$B:$B)))","v":""},{"$f":"IF($B103=\"\",\"\",_xlfn.XLOOKUP($B103,Carreras!F:F,Carreras!$A:$A,0,0,1))","v":""},{"$f":"IF($B103=\"\",\"\",IF($M103=0,0,_xlfn.XLOOKUP(M103,Puntos!A:A,Puntos!B:B,TRUE)))","v":""},{"$f":"IF($B103=\"\",\"\",_xlfn.XLOOKUP($B103,Carreras!$G:$G,Carreras!$A:$A,0,0,1))","v":""},{"$f":"IF($B103=\"\",\"\",IF($O103=0,0,_xlfn.XLOOKUP($O103,Puntos!A:A,Puntos!B:B,TRUE)))","v":""},{"$f":"IF($B103=\"\",\"\",_xlfn.XLOOKUP($B103,Carreras!$H:$H,Carreras!$A:$A,0,0,1))","v":""},{"$f":"IF($B103=\"\",\"\",IF($Q103=0,0,_xlfn.XLOOKUP($Q103,Puntos!A:A,Puntos!B:B,TRUE)))","v":""},{"$f":"IF($B103=\"\",\"\",_xlfn.XLOOKUP($B103,Carreras!$I:$I,Carreras!$A:$A,0,0,1))","v":""},{"$f":"IF($B103=\"\",\"\",IF($S103=0,0,_xlfn.XLOOKUP($S103,Puntos!A:A,Puntos!B:B,TRUE)))","v":""},"",{"$f":"IF($B103=\"\",\"\",_xlfn.IFS(U103=0,0,U103=1,0,U103=2,50,U103=3,100,U103=4,150,U103=5,200,U103=6,250,U103=7,300,U103=8,350))","v":""},"",0]

{"sheet":"Puntos","index":1,"n_rows":92,"n_cols":4,"rows_kept":92,"cut":false,"hidden":false,"merged":[]}
["Puesto","Puntos",null,"participantes"]
[1,640]
[2,613]
[3,587]
[4,562]
[5,538]
[6,515]
[7,493]
[8,472]
[9,452]
[10,433]
[11,414]
[12,396]
[13,379]
[14,363]
[15,347]
[16,332]
[17,318]
[18,304]
[19,291]
[20,278]
[21,266]
[22,254]
[23,243]
[24,232]
[25,222]
[26,212]
[27,203]
[28,194]
[29,185]
[30,177]
[31,169]
[32,161]
[33,154]
[34,147]
[35,140]
[36,134]
[37,128]
[38,122]
[39,116]
[40,111]
[41,106]
[42,101]
[43,96]
[44,91]
[45,87]
[46,83]
[47,79]
[48,75]
[49,71]
[50,68]
[51,65]
[52,62]
[53,59]
[54,56]
[55,53]
[56,50]
[57,47]
[58,45]
[59,43]
[60,41]
[61,39]
[62,37]
[63,35]
[64,33]
[65,31]
[66,29]
[67,27]
[68,25]
[69,23]
[70,22]
[71,21]
[72,20]
[73,19]
[74,18]
[75,17]
[76,16]
[77,15]
[78,14]
[79,13]
[80,12]
[81,11]
[82,10]
[83,9]
[84,8]
[85,7]
[86,6]
[87,5]
[88,4]
[89,3]
[90,2]
[91,1]

{"sheet":"Socios","index":2,"n_rows":0,"n_cols":0,"rows_kept":0,"cut":false,"hidden":false,"merged":[]}

{"sheet":"Carreras","index":3,"n_rows":853,"n_cols":11,"rows_kept":853,"cut":false,"hidden":false,"merged":[]}
["ORDEN","CARRERA1","CARRERA2","CARRERA3","CARRERA4","CARRERA5","CARRERA6","CARRERA7","CARRERA8",null,"Participantes"]
[1,0,null,null,null,null,null,null,null,{"$f":"B2","v":0},0]
[{"$f":"A2+1","v":2},null,null,null,null,null,null,null,null,{"$f":"C2","v":0}]
[3,null,null,null,null,null,null,null,null,{"$f":"D2","v":0}]
[4,null,null,null,null,null,null,null,null,{"$f":"E2","v":0}]
[5,null,null,null,null,null,null,null,null,{"$f":"F2","v":0}]
[6,null,null,null,null,null,null,null,null,{"$f":"G2","v":0}]
[7,null,null,null,null,null,null,null,null,{"$f":"H2","v":0}]
[8,null,null,null,null,null,null,null,null,{"$f":"I2","v":0}]
[9,null,null,null,null,null,null,null,null,{"$f":"B3","v":0}]
[10,null,null,null,null,null,null,null,null,{"$f":"C3","v":0}]
[11,null,null,null,null,null,null,null,null,{"$f":"D3","v":0}]
[12,null,null,null,null,null,null,null,null,{"$f":"E3","v":0}]
[13,null,null,null,null,null,null,null,null,{"$f":"F3","v":0}]
[14,null,null,null,null,null,null,null,null,{"$f":"G3","v":0}]
[15,null,null,null,null,null,null,null,null,{"$f":"H3","v":0}]
[16,null,null,null,null,null,null,null,null,{"$f":"I3","v":0}]
[17,null,null,null,null,null,null,null,null,{"$f":"B4","v":0}]
[18,null,null,null,null,null,null,null,null,{"$f":"C4","v":0}]
[19,null,null,null,null,null,null,null,null,{"$f":"D4","v":0}]
[20,null,null,null,null,null,null,null,null,{"$f":"E4","v":0}]
[21,null,null,null,null,null,null,null,null,{"$f":"F4","v":0}]
[22,null,null,null,null,null,null,null,null,{"$f":"G4","v":0}]
[23,null,null,null,null,null,null,null,null,{"$f":"H4","v":0}]
[24,null,null,null,null,null,null,null,null,{"$f":"I4","v":0}]
[25,null,null,null,null,null,null,null,null,{"$f":"B5","v":0}]
[26,null,null,null,null,null,null,null,null,{"$f":"C5","v":0}]
[27,null,null,null,null,null,null,null,null,{"$f":"D5","v":0}]
[28,null,null,null,null,null,null,null,null,{"$f":"E5","v":0}]
[29,null,null,null,null,null,null,null,null,{"$f":"F5","v":0}]
[30,null,null,null,null,null,null,null,null,{"$f":"G5","v":0}]
[31,null,null,null,null,null,null,null,null,{"$f":"H5","v":0}]
[32,null,null,null,null,null,null,null,null,{"$f":"I5","v":0}]
[33,null,null,null,null,null,null,null,null,{"$f":"B6","v":0}]
[{"$f":"A34+1","v":34},null,null,null,null,null,null,null,null,{"$f":"C6","v":0}]
[35,null,null,null,null,null,null,null,null,{"$f":"D6","v":0}]
[36,null,null,null,null,null,null,null,null,{"$f":"E6","v":0}]
[37,null,null,null,null,null,null,null,null,{"$f":"F6","v":0}]
[38,null,null,null,null,null,null,null,null,{"$f":"G6","v":0}]
[39,null,null,null,null,null,null,null,null,{"$f":"H6","v":0}]
[40,null,null,null,null,null,null,null,null,{"$f":"I6","v":0}]
[41,null,null,null,null,null,null,null,null,{"$f":"B7","v":0}]
[42,null,null,null,null,null,null,null,null,{"$f":"C7","v":0}]
[43,null,null,null,null,null,null,null,null,{"$f":"D7","v":0}]
[44,null,null,null,null,null,null,null,null,{"$f":"E7","v":0}]
[45,null,null,null,null,null,null,null,null,{"$f":"F7","v":0}]
[46,null,null,null,null,null,null,null,null,{"$f":"G7","v":0}]
[47,null,null,null,null,null,null,null,null,{"$f":"H7","v":0}]
[48,null,null,null,null,null,null,null,null,{"$f":"I7","v":0}]
[49,null,null,null,null,null,null,null,null,{"$f":"B8","v":0}]
[50,null,null,null,null,null,null,null,null,{"$f":"C8","v":0}]
[51,null,null,null,null,null,null,null,null,{"$f":"D8","v":0}]
[52,null,null,null,null,null,null,null,null,{"$f":"E8","v":0}]
[53,null,null,null,null,null,null,null,null,{"$f":"F8","v":0}]
[54,null,null,null,null,null,null,null,null,{"$f":"G8","v":0}]
[55,null,null,null,null,null,null,null,null,{"$f":"H8","v":0}]
[56,null,null,null,null,null,null,null,null,{"$f":"I8","v":0}]
[57,null,null,null,null,null,null,null,null,{"$f":"B9","v":0}]
[58,null,null,null,null,null,null,null,null,{"$f":"C9","v":0}]
[59,null,null,null,null,null,null,null,null,{"$f":"D9","v":0}]
[60,null,null,null,null,null,null,null,null,{"$f":"E9","v":0}]
[61,null,null,null,null,null,null,null,null,{"$f":"F9","v":0}]
[62,null,null,null,null,null,null,null,null,{"$f":"G9","v":0}]
[63,null,null,null,null,null,null,null,null,{"$f":"H9","v":0}]
[64,null,null,null,null,null,null,null,null,{"$f":"I9","v":0}]
[65,null,null,null,null,null,null,null,null,{"$f":"B10","v":0}]
[{"$f":"A66+1","v":66},null,null,null,null,null,null,null,null,{"$f":"C10","v":0}]
[67,null,null,null,null,null,null,null,null,{"$f":"D10","v":0}]
[68,null,null,null,null,null,null,null,null,{"$f":"E10","v":0}]
[69,null,null,null,null,null,null,null,null,{"$f":"F10","v":0}]
[70,null,null,null,null,null,null,null,null,{"$f":"G10","v":0}]
[71,null,null,null,null,null,null,null,null,{"$f":"H10","v":0}]
[72,null,null,null,null,null,null,null,null,{"$f":"I10","v":0}]
[73,null,null,null,null,null,null,null,null,{"$f":"B11","v":0}]
[74,null,null,null,null,null,null,null,null,{"$f":"C11","v":0}]
[75,null,null,null,null,null,null,null,null,{"$f":"D11","v":0}]
[76,null,null,null,null,null,null,null,null,{"$f":"E11","v":0}]
[77,null,null,null,null,null,null,null,null,{"$f":"F11","v":0}]
[78,null,null,null,null,null,null,null,null,{"$f":"G11","v":0}]
[79,null,null,null,null,null,null,null,null,{"$f":"H11","v":0}]
[80,null,null,null,null,null,null,null,null,{"$f":"I11","v":0}]
[81,null,null,null,null,null,null,null,null,{"$f":"B12","v":0}]
[82,null,null,null,null,null,null,null,null,{"$f":"C12","v":0}]
[83,null,null,null,null,null,null,null,null,{"$f":"D12","v":0}]
[84,null,null,null,null,null,null,null,null,{"$f":"E12","v":0}]
[85,null,null,null,null,null,null,null,null,{"$f":"F12","v":0}]
[86,null,null,null,null,null,null,null,null,{"$f":"G12","v":0}]
[87,null,null,null,null,null,null,null,null,{"$f":"H12","v":0}]
[88,null,null,null,null,null,null,null,null,{"$f":"I12","v":0}]
[89,null,null,null,null,null,null,null,null,{"$f":"B13","v":0}]
[90,null,null,null,null,null,null,null,null,{"$f":"C13","v":0}]
[91,null,null,null,null,null,null,null,null,{"$f":"D13","v":0}]
[92,null,null,null,null,null,null,null,null,{"$f":"E13","v":0}]
[93,null,null,null,null,null,null,null,null,{"$f":"F13","v":0}]
[94,null,null,null,null,null,null,null,null,{"$f":"G13","v":0}]
[95,null,null,null,null,null,null,null,null,{"$f":"H13","v":0}]
[96,null,null,null,null,null,null,null,null,{"$f":"I13","v":0}]
[97,null,null,null,null,null,null,null,null,{"$f":"B14","v":0}]
[98,null,null,null,null,null,null,null,null,{"$f":"C14","v":0}]
[99,null,null,null,null,null,null,null,null,{"$f":"D14","v":0}]
[null,null,null,null,null,null,null,null,null,{"$f":"E14","v":0}]
[null,null,null,null,null,null,null,null,null,{"$f":"F14","v":0}]
[null,null,null,null,null,null,null,null,null,{"$f":"G14","v":0}]
[null,null,null,null,null,null,null,null,null,{"$f":"H14","v":0}]
[null,null,null,null,null,null,null,null,null,{"$f":"I14","v":0}]
[null,null,null,null,null,null,null,null,null,{"$f":"B15","v":0}]
[null,null,null,null,null,null,null,null,null,{"$f":"C15","v":0}]
[null,null,null,null,null,null,null,null,null,{"$f":"D15","v":0}]
[null,null,null,null,null,null,null,null,null,{"$f":"E15","v":0}]
[null,null,null,null,null,null,null,null,null,{"$f":"F15","v":0}]
[null,null,null,null,null,null,null,null,null,{"$f":"G15","v":0}]
[null,null,null,null,null,null,null,null,null,{"$f":"H15","v":0}]
[null,null,null,null,null,null,null,null,null,{"$f":"I15","v":0}]
[null,null,null,null,null,null,null,null,null,{"$f":"B16","v":0}]
[null,null,null,null,null,null,null,null,null,{"$f":"C16","v":0}]
[null,null,null,null,null,null,null,null,null,{"$f":"D16","v":0}]
[null,null,null,null,null,null,null,null,null,{"$f":"E16","v":0}]
[null,null,null,null,null,null,null,null,null,{"$f":"F16","v":0}]
[null,null,null,null,null,null,null,null,null,{"$f":"G16","v":0}]
[null,null,null,null,null,null,null,null,null,{"$f":"H16","v":0}]
[null,null,null,null,null,null,null,null,null,{"$f":"I16","v":0}]
[null,null,null,null,null,null,null,null,null,{"$f":"B17","v":0}]
[null,null,null,null,null,null,null,null,null,{"$f":"C17","v":0}]
[null,null,null,null,null,null,null,null,null,{"$f":"D17","v":0}]
[null,null,null,null,null,null,null,null,null,{"$f":"E17","v":0}]
[null,null,null,null,null,null,null,null,null,{"$f":"F17","v":0}]
[null,null,null,null,null,null,null,null,null,{"$f":"G17","v":0}]
[null,null,null,null,null,null,null,null,null,{"$f":"H17","v":0}]
[null,null,null,null,null,null,null,null,null,{"$f":"I17","v":0}]
[null,null,null,null,null,null,null,null,null,{"$f":"B18","v":0}]
[null,null,null,null,null,null,null,null,null,{"$f":"C18","v":0}]
[null,null,null,null,null,null,null,null,null,{"$f":"D18","v":0}]
[null,null,null,null,null,null,null,null,null,{"$f":"E18","v":0}]
[null,null,null,null,null,null,null,null,null,{"$f":"F18","v":0}]
[null,null,null,null,null,null,null,null,null,{"$f":"G18","v":0}]
[null,null,null,null,null,null,null,null,null,{"$f":"H18","v":0}]
[null,null,null,null,null,null,null,null,null,{"$f":"I18","v":0}]
[null,null,null,null,null,null,null,null,null,{"$f":"B19","v":0}]
[null,null,null,null,null,null,null,null,null,{"$f":"C19","v":0}]
[null,null,null,null,null,null,null,null,null,{"$f":"D19","v":0}]
[null,null,null,null,null,null,null,null,null,{"$f":"E19","v":0}]
[null,null,null,null,null,null,null,null,null,{"$f":"F19","v":0}]
[null,null,null,null,null,null,null,null,null,{"$f":"G19","v":0}]
[null,null,null,null,null,null,null,null,null,{"$f":"H19","v":0}]
[null,null,null,null,null,null,null,null,null,{"$f":"I19","v":0}]
[null,null,null,null,null,null,null,null,null,{"$f":"B20","v":0}]
[null,null,null,null,null,null,null,null,null,{"$f":"C20","v":0}]
[null,null,null,null,null,null,null,null,null,{"$f":"D20","v":0}]
[null,null,null,null,null,null,null,null,null,{"$f":"E20","v":0}]
[null,null,null,null,null,null,null,null,null,{"$f":"F20","v":0}]
[null,null,null,null,null,null,null,null,null,{"$f":"G20","v":0}]
[null,null,null,null,null,null,null,null,null,{"$f":"H20","v":0}]
[null,null,null,null,null,null,null,null,null,{"$f":"I20","v":0}]
[null,null,null,null,null,null,null,null,null,{"$f":"B21","v":0}]
[null,null,null,null,null,null,null,null,null,{"$f":"C21","v":0}]
[null,null,null,null,null,null,null,null,null,{"$f":"D21","v":0}]
[null,null,null,null,null,null,null,null,null,{"$f":"E21","v":0}]
[null,null,null,null,null,null,null,null,null,{"$f":"F21","v":0}]
[null,null,null,null,null,null,null,null,null,{"$f":"G21","v":0}]
[null,null,null,null,null,null,null,null,null,{"$f":"H21","v":0}]
[null,null,null,null,null,null,null,null,null,{"$f":"I21","v":0}]
[null,null,null,null,null,null,null,null,null,{"$f":"B22","v":0}]
[null,null,null,null,null,null,null,null,null,{"$f":"C22","v":0}]
[null,null,null,null,null,null,null,null,null,{"$f":"D22","v":0}]
[null,null,null,null,null,null,null,null,null,{"$f":"E22","v":0}]
[null,null,null,null,null,null,null,null,null,{"$f":"F22","v":0}]
[null,null,null,null,null,null,null,null,null,{"$f":"G22","v":0}]
[null,null,null,null,null,null,null,null,null,{"$f":"H22","v":0}]
[null,null,null,null,null,null,null,null,null,{"$f":"I22","v":0}]
[null,null,null,null,null,null,null,null,null,{"$f":"B23","v":0}]
[null,null,null,null,null,null,null,null,null,{"$f":"C23","v":0}]
[null,null,null,null,null,null,null,null,null,{"$f":"D23","v":0}]
[null,null,null,null,null,null,null,null,null,{"$f":"E23","v":0}]
[null,null,null,null,null,null,null,null,null,{"$f":"F23","v":0}]
[null,null,null,null,null,null,null,null,null,{"$f":"G23","v":0}]
[null,null,null,null,null,null,null,null,null,{"$f":"H23","v":0}]
[null,null,null,null,null,null,null,null,null,{"$f":"I23","v":0}]
[null,null,null,null,null,null,null,null,null,{"$f":"B24","v":0}]
[null,null,null,null,null,null,null,null,null,{"$f":"C24","v":0}]
[null,null,null,null,null,null,null,null,null,{"$f":"D24","v":0}]
[null,null,null,null,null,null,null,null,null,{"$f":"E24","v":0}]
[null,null,null,null,null,null,null,null,null,{"$f":"F24","v":0}]
[null,null,null,null,null,null,null,null,null,{"$f":"G24","v":0}]
[null,null,null,null,null,null,null,null,null,{"$f":"H24","v":0}]
[null,null,null,null,null,null,null,null,null,{"$f":"I24","v":0}]
[null,null,null,null,null,null,null,null,null,{"$f":"B25","v":0}]
[null,null,null,null,null,null,null,null,null,{"$f":"C25","v":0}]
[null,null,null,null,null,null,null,null,null,{"$f":"D25","v":0}]
[null,null,null,null,null,null,null,null,null,{"$f":"E25","v":0}]
[null,null,null,null,null,null,null,null,null,{"$f":"F25","v":0}]
[null,null,null,null,null,null,null,null,null,{"$f":"G25","v":0}]
[null,null,null,null,null,null,null,null,null,{"$f":"H25","v":0}]
[null,null,null,null,null,null,null,null,null,{"$f":"I25","v":0}]
[null,null,null,null,null,null,null,null,null,{"$f":"B26","v":0}]
[null,null,null,null,null,null,null,null,null,{"$f":"C26","v":0}]
[null,null,null,null,null,null,null,null,null,{"$f":"D26","v":0}]
[null,null,null,null,null,null,null,null,null,{"$f":"E26","v":0}]
[null,null,null,null,null,null,null,null,null,{"$f":"F26","v":0}]
[null,null,null,null,null,null,null,null,null,{"$f":"G26","v":0}]
[null,null,null,null,null,null,null,null,null,{"$f":"H26","v":0}]
[null,null,null,null,null,null,null,null,null,{"$f":"I26","v":0}]
[null,null,null,null,null,null,null,null,null,{"$f":"B27","v":0}]
[null,null,null,null,null,null,null,null,null,{"$f":"C27","v":0}]
[null,null,null,null,null,null,null,null,null,{"$f":"D27","v":0}]
[null,null,null,null,null,null,null,null,null,{"$f":"E27","v":0}]
[null,null,null,null,null,null,null,null,null,{"$f":"F27","v":0}]
[null,null,null,null,null,null,null,null,null,{"$f":"G27","v":0}]
[null,null,null,null,null,null,null,null,null,{"$f":"H27","v":0}]
[null,null,null,null,null,null,null,null,null,{"$f":"I27","v":0}]
[null,null,null,null,null,null,null,null,null,{"$f":"B28","v":0}]
[null,null,null,null,null,null,null,null,null,{"$f":"C28","v":0}]
[null,null,null,null,null,null,null,null,null,{"$f":"D28","v":0}]
[null,null,null,null,null,null,null,null,null,{"$f":"E28","v":0}]
[null,null,null,null,null,null,null,null,null,{"$f":"F28","v":0}]
[null,null,null,null,null,null,null,null,null,{"$f":"G28","v":0}]
[null,null,null,null,null,null,null,null,null,{"$f":"H28","v":0}]
[null,null,null,null,null,null,null,null,null,{"$f":"I28","v":0}]
[null,null,null,null,null,null,null,null,null,{"$f":"B29","v":0}]
[null,null,null,null,null,null,null,null,null,{"$f":"C29","v":0}]
[null,null,null,null,null,null,null,null,null,{"$f":"D29","v":0}]
[null,null,null,null,null,null,null,null,null,{"$f":"E29","v":0}]
[null,null,null,null,null,null,null,null,null,{"$f":"F29","v":0}]
[null,null,null,null,null,null,null,null,null,{"$f":"G29","v":0}]
[null,null,null,null,null,null,null,null,null,{"$f":"H29","v":0}]
[null,null,null,null,null,null,null,null,null,{"$f":"I29","v":0}]
[null,null,null,null,null,null,null,null,null,{"$f":"B30","v":0}]
[null,null,null,null,null,null,null,null,null,{"$f":"C30","v":0}]
[null,null,null,null,null,null,null,null,null,{"$f":"D30","v":0}]
[null,null,null,null,null,null,null,null,null,{"$f":"E30","v":0}]
[null,null,null,null,null,null,null,null,null,{"$f":"F30","v":0}]
[null,null,null,null,null,null,null,null,null,{"$f":"G30","v":0}]
[null,null,null,null,null,null,null,null,null,{"$f":"H30","v":0}]
[null,null,null,null,null,null,null,null,null,{"$f":"I30","v":0}]
[null,null,null,null,null,null,null,null,null,{"$f":"B31","v":0}]
[null,null,null,null,null,null,null,null,null,{"$f":"C31","v":0}]
[null,null,null,null,null,null,null,null,null,{"$f":"D31","v":0}]
[null,null,null,null,null,null,null,null,null,{"$f":"E31","v":0}]
[null,null,null,null,null,null,null,null,null,{"$f":"F31","v":0}]
[null,null,null,null,null,null,null,null,null,{"$f":"G31","v":0}]
[null,null,null,null,null,null,null,null,null,{"$f":"H31","v":0}]
[null,null,null,null,null,null,null,null,null,{"$f":"I31","v":0}]
[null,null,null,null,null,null,null,null,null,{"$f":"B32","v":0}]
[null,null,null,null,null,null,null,null,null,{"$f":"C32","v":0}]
[null,null,null,null,null,null,null,null,null,{"$f":"D32","v":0}]
[null,null,null,null,null,null,null,null,null,{"$f":"E32","v":0}]
[null,null,null,null,null,null,null,null,null,{"$f":"F32","v":0}]
[null,null,null,null,null,null,null,null,null,{"$f":"G32","v":0}]
[null,null,null,null,null,null,null,null,null,{"$f":"H32","v":0}]
[null,null,null,null,null,null,null,null,null,{"$f":"I32","v":0}]
[null,null,null,null,null,null,null,null,null,{"$f":"B33","v":0}]
[null,null,null,null,null,null,null,null,null,{"$f":"C33","v":0}]
[null,null,null,null,null,null,null,null,null,{"$f":"D33","v":0}]
[null,null,null,null,null,null,null,null,null,{"$f":"E33","v":0}]
[null,null,null,null,null,null,null,null,null,{"$f":"F33","v":0}]
[null,null,null,null,null,null,null,null,null,{"$f":"G33","v":0}]
[null,null,null,null,null,null,null,null,null,{"$f":"H33","v":0}]
[null,null,null,null,null,null,null,null,null,{"$f":"I33","v":0}]
[null,null,null,null,null,null,null,null,null,{"$f":"B34","v":0}]
[null,null,null,null,null,null,null,null,null,{"$f":"C34","v":0}]
[null,null,null,null,null,null,null,null,null,{"$f":"D34","v":0}]
[null,null,null,null,null,null,null,null,null,{"$f":"E34","v":0}]
[null,null,null,null,null,null,null,null,null,{"$f":"F34","v":0}]
[null,null,null,null,null,null,null,null,null,{"$f":"G34","v":0}]
[null,null,null,null,null,null,null,null,null,{"$f":"H34","v":0}]
[null,null,null,null,null,null,null,null,null,{"$f":"I34","v":0}]
[null,null,null,null,null,null,null,null,null,{"$f":"B35","v":0}]
[null,null,null,null,null,null,null,null,null,{"$f":"C35","v":0}]
[null,null,null,null,null,null,null,null,null,{"$f":"D35","v":0}]
[null,null,null,null,null,null,null,null,null,{"$f":"E35","v":0}]
[null,null,null,null,null,null,null,null,null,{"$f":"F35","v":0}]
[null,null,null,null,null,null,null,null,null,{"$f":"G35","v":0}]
[null,null,null,null,null,null,null,null,null,{"$f":"H35","v":0}]
[null,null,null,null,null,null,null,null,null,{"$f":"I35","v":0}]
[null,null,null,null,null,null,null,null,null,{"$f":"B36","v":0}]
[null,null,null,null,null,null,null,null,null,{"$f":"C36","v":0}]
[null,null,null,null,null,null,null,null,null,{"$f":"D36","v":0}]
[null,null,null,null,null,null,null,null,null,{"$f":"E36","v":0}]
[null,null,null,null,null,null,null,null,null,{"$f":"F36","v":0}]
[null,null,null,null,null,null,null,null,null,{"$f":"G36","v":0}]
[null,null,null,null,null,null,null,null,null,{"$f":"H36","v":0}]
[null,null,null,null,null,null,null,null,null,{"$f":"I36","v":0}]
[null,null,null,null,null,null,null,null,null,{"$f":"B37","v":0}]
[null,null,null,null,null,null,null,null,null,{"$f":"C37","v":0}]
[null,null,null,null,null,null,null,null,null,{"$f":"D37","v":0}]
[null,null,null,null,null,null,null,null,null,{"$f":"E37","v":0}]
[null,null,null,null,null,null,null,null,null,{"$f":"F37","v":0}]
[null,null,null,null,null,null,null,null,null,{"$f":"G37","v":0}]
[null,null,null,null,null,null,null,null,null,{"$f":"H37","v":0}]
[null,null,null,null,null,null,null,null,null,{"$f":"I37","v":0}]
[null,null,null,null,null,null,null,null,null,{"$f":"B38","v":0}]
[null,null,null,null,null,null,null,null,null,{"$f":"C38","v":0}]
[null,null,null,null,null,null,null,null,null,{"$f":"D38","v":0}]
[null,null,null,null,null,null,null,null,null,{"$f":"E38","v":0}]
[null,null,null,null,null,null,null,null,null,{"$f":"F38","v":0}]
[null,null,null,null,null,null,null,null,null,{"$f":"G38","v":0}]
[null,null,null,null,null,null,null,null,null,{"$f":"H38","v":0}]
[null,null,null,null,null,null,null,null,null,{"$f":"I38","v":0}]
[null,null,null,null,null,null,null,null,null,{"$f":"B39","v":0}]
[null,null,null,null,null,null,null,null,null,{"$f":"C39","v":0}]
[null,null,null,null,null,null,null,null,null,{"$f":"D39","v":0}]
[null,null,null,null,null,null,null,null,null,{"$f":"E39","v":0}]
[null,null,null,null,null,null,null,null,null,{"$f":"F39","v":0}]
[null,null,null,null,null,null,null,null,null,{"$f":"G39","v":0}]
[null,null,null,null,null,null,null,null,null,{"$f":"H39","v":0}]
[null,null,null,null,null,null,null,null,null,{"$f":"I39","v":0}]
[null,null,null,null,null,null,null,null,null,{"$f":"B40","v":0}]
[null,null,null,null,null,null,null,null,null,{"$f":"C40","v":0}]
[null,null,null,null,null,null,null,null,null,{"$f":"D40","v":0}]
[null,null,null,null,null,null,null,null,null,{"$f":"E40","v":0}]
[null,null,null,null,null,null,null,null,null,{"$f":"F40","v":0}]
[null,null,null,null,null,null,null,null,null,{"$f":"G40","v":0}]
[null,null,null,null,null,null,null,null,null,{"$f":"H40","v":0}]
[null,null,null,null,null,null,null,null,null,{"$f":"I40","v":0}]
[null,null,null,null,null,null,null,null,null,{"$f":"B41","v":0}]
[null,null,null,null,null,null,null,null,null,{"$f":"C41","v":0}]
[null,null,null,null,null,null,null,null,null,{"$f":"D41","v":0}]
[null,null,null,null,null,null,null,null,null,{"$f":"E41","v":0}]
[null,null,null,null,null,null,null,null,null,{"$f":"F41","v":0}]
[null,null,null,null,null,null,null,null,null,{"$f":"G41","v":0}]
[null,null,null,null,null,null,null,null,null,{"$f":"H41","v":0}]
[null,null,null,null,null,null,null,null,null,{"$f":"I41","v":0}]
[null,null,null,null,null,null,null,null,null,{"$f":"B42","v":0}]
[null,null,null,null,null,null,null,null,null,{"$f":"C42","v":0}]
[null,null,null,null,null,null,null,null,null,{"$f":"D42","v":0}]
[null,null,null,null,null,null,null,null,null,{"$f":"E42","v":0}]
[null,null,null,null,null,null,null,null,null,{"$f":"F42","v":0}]
[null,null,null,null,null,null,null,null,null,{"$f":"G42","v":0}]
[null,null,null,null,null,null,null,null,null,{"$f":"H42","v":0}]
[null,null,null,null,null,null,null,null,null,{"$f":"I42","v":0}]
[null,null,null,null,null,null,null,null,null,{"$f":"B43","v":0}]
[null,null,null,null,null,null,null,null,null,{"$f":"C43","v":0}]
[null,null,null,null,null,null,null,null,null,{"$f":"D43","v":0}]
[null,null,null,null,null,null,null,null,null,{"$f":"E43","v":0}]
[null,null,null,null,null,null,null,null,null,{"$f":"F43","v":0}]
[null,null,null,null,null,null,null,null,null,{"$f":"G43","v":0}]
[null,null,null,null,null,null,null,null,null,{"$f":"H43","v":0}]
[null,null,null,null,null,null,null,null,null,{"$f":"I43","v":0}]
[null,null,null,null,null,null,null,null,null,{"$f":"B44","v":0}]
[null,null,null,null,null,null,null,null,null,{"$f":"C44","v":0}]
[null,null,null,null,null,null,null,null,null,{"$f":"D44","v":0}]
[null,null,null,null,null,null,null,null,null,{"$f":"E44","v":0}]
[null,null,null,null,null,null,null,null,null,{"$f":"F44","v":0}]
[null,null,null,null,null,null,null,null,null,{"$f":"G44","v":0}]
[null,null,null,null,null,null,null,null,null,{"$f":"H44","v":0}]
[null,null,null,null,null,null,null,null,null,{"$f":"I44","v":0}]
[null,null,null,null,null,null,null,null,null,{"$f":"B45","v":0}]
[null,null,null,null,null,null,null,null,null,{"$f":"C45","v":0}]
[null,null,null,null,null,null,null,null,null,{"$f":"D45","v":0}]
[null,null,null,null,null,null,null,null,null,{"$f":"E45","v":0}]
[null,null,null,null,null,null,null,null,null,{"$f":"F45","v":0}]
[null,null,null,null,null,null,null,null,null,{"$f":"G45","v":0}]
[null,null,null,null,null,null,null,null,null,{"$f":"H45","v":0}]
[null,null,null,null,null,null,null,null,null,{"$f":"I45","v":0}]
[null,null,null,null,null,null,null,null,null,{"$f":"B46","v":0}]
[null,null,null,null,null,null,null,null,null,{"$f":"C46","v":0}]
[null,null,null,null,null,null,null,null,null,{"$f":"D46","v":0}]
[null,null,null,null,null,null,null,null,null,{"$f":"E46","v":0}]
[null,null,null,null,null,null,null,null,null,{"$f":"F46","v":0}]
[null,null,null,null,null,null,null,null,null,{"$f":"G46","v":0}]
[null,null,null,null,null,null,null,null,null,{"$f":"H46","v":0}]
[null,null,null,null,null,null,null,null,null,{"$f":"I46","v":0}]
[null,null,null,null,null,null,null,null,null,{"$f":"B47","v":0}]
[null,null,null,null,null,null,null,null,null,{"$f":"C47","v":0}]
[null,null,null,null,null,null,null,null,null,{"$f":"D47","v":0}]
[null,null,null,null,null,null,null,null,null,{"$f":"E47","v":0}]
[null,null,null,null,null,null,null,null,null,{"$f":"F47","v":0}]
[null,null,null,null,null,null,null,null,null,{"$f":"G47","v":0}]
[null,null,null,null,null,null,null,null,null,{"$f":"H47","v":0}]
[null,null,null,null,null,null,null,null,null,{"$f":"I47","v":0}]
[null,null,null,null,null,null,null,null,null,{"$f":"B48","v":0}]
[null,null,null,null,null,null,null,null,null,{"$f":"C48","v":0}]
[null,null,null,null,null,null,null,null,null,{"$f":"D48","v":0}]
[null,null,null,null,null,null,null,null,null,{"$f":"E48","v":0}]
[null,null,null,null,null,null,null,null,null,{"$f":"F48","v":0}]
[null,null,null,null,null,null,null,null,null,{"$f":"G48","v":0}]
[null,null,null,null,null,null,null,null,null,{"$f":"H48","v":0}]
[null,null,null,null,null,null,null,null,null,{"$f":"I48","v":0}]
[null,null,null,null,null,null,null,null,null,{"$f":"B49","v":0}]
[null,null,null,null,null,null,null,null,null,{"$f":"C49","v":0}]
[null,null,null,null,null,null,null,null,null,{"$f":"D49","v":0}]
[null,null,null,null,null,null,null,null,null,{"$f":"E49","v":0}]
[null,null,null,null,null,null,null,null,null,{"$f":"F49","v":0}]
[null,null,null,null,null,null,null,null,null,{"$f":"G49","v":0}]
[null,null,null,null,null,null,null,null,null,{"$f":"H49","v":0}]
[null,null,null,null,null,null,null,null,null,{"$f":"I49","v":0}]
[null,null,null,null,null,null,null,null,null,{"$f":"B50","v":0}]
[null,null,null,null,null,null,null,null,null,{"$f":"C50","v":0}]
[null,null,null,null,null,null,null,null,null,{"$f":"D50","v":0}]
[null,null,null,null,null,null,null,null,null,{"$f":"E50","v":0}]
[null,null,null,null,null,null,null,null,null,{"$f":"F50","v":0}]
[null,null,null,null,null,null,null,null,null,{"$f":"G50","v":0}]
[null,null,null,null,null,null,null,null,null,{"$f":"H50","v":0}]
[null,null,null,null,null,null,null,null,null,{"$f":"I50","v":0}]
[null,null,null,null,null,null,null,null,null,{"$f":"B51","v":0}]
[null,null,null,null,null,null,null,null,null,{"$f":"C51","v":0}]
[null,null,null,null,null,null,null,null,null,{"$f":"D51","v":0}]
[null,null,null,null,null,null,null,null,null,{"$f":"E51","v":0}]
[null,null,null,null,null,null,null,null,null,{"$f":"F51","v":0}]
[null,null,null,null,null,null,null,null,null,{"$f":"G51","v":0}]
[null,null,null,null,null,null,null,null,null,{"$f":"H51","v":0}]
[null,null,null,null,null,null,null,null,null,{"$f":"I51","v":0}]
[null,null,null,null,null,null,null,null,null,{"$f":"B52","v":0}]
[null,null,null,null,null,null,null,null,null,{"$f":"C52","v":0}]
[null,null,null,null,null,null,null,null,null,{"$f":"D52","v":0}]
[null,null,null,null,null,null,null,null,null,{"$f":"E52","v":0}]
[null,null,null,null,null,null,null,null,null,{"$f":"F52","v":0}]
[null,null,null,null,null,null,null,null,null,{"$f":"G52","v":0}]
[null,null,null,null,null,null,null,null,null,{"$f":"H52","v":0}]
[null,null,null,null,null,null,null,null,null,{"$f":"I52","v":0}]
[null,null,null,null,null,null,null,null,null,{"$f":"B53","v":0}]
[null,null,null,null,null,null,null,null,null,{"$f":"C53","v":0}]
[null,null,null,null,null,null,null,null,null,{"$f":"D53","v":0}]
[null,null,null,null,null,null,null,null,null,{"$f":"E53","v":0}]
[null,null,null,null,null,null,null,null,null,{"$f":"F53","v":0}]
[null,null,null,null,null,null,null,null,null,{"$f":"G53","v":0}]
[null,null,null,null,null,null,null,null,null,{"$f":"H53","v":0}]
[null,null,null,null,null,null,null,null,null,{"$f":"I53","v":0}]
[null,null,null,null,null,null,null,null,null,{"$f":"B54","v":0}]
[null,null,null,null,null,null,null,null,null,{"$f":"C54","v":0}]
[null,null,null,null,null,null,null,null,null,{"$f":"D54","v":0}]
[null,null,null,null,null,null,null,null,null,{"$f":"E54","v":0}]
[null,null,null,null,null,null,null,null,null,{"$f":"F54","v":0}]
[null,null,null,null,null,null,null,null,null,{"$f":"G54","v":0}]
[null,null,null,null,null,null,null,null,null,{"$f":"H54","v":0}]
[null,null,null,null,null,null,null,null,null,{"$f":"I54","v":0}]
[null,null,null,null,null,null,null,null,null,{"$f":"B55","v":0}]
[null,null,null,null,null,null,null,null,null,{"$f":"C55","v":0}]
[null,null,null,null,null,null,null,null,null,{"$f":"D55","v":0}]
[null,null,null,null,null,null,null,null,null,{"$f":"E55","v":0}]
[null,null,null,null,null,null,null,null,null,{"$f":"F55","v":0}]
[null,null,null,null,null,null,null,null,null,{"$f":"G55","v":0}]
[null,null,null,null,null,null,null,null,null,{"$f":"H55","v":0}]
[null,null,null,null,null,null,null,null,null,{"$f":"I55","v":0}]
[null,null,null,null,null,null,null,null,null,{"$f":"B56","v":0}]
[null,null,null,null,null,null,null,null,null,{"$f":"C56","v":0}]
[null,null,null,null,null,null,null,null,null,{"$f":"D56","v":0}]
[null,null,null,null,null,null,null,null,null,{"$f":"E56","v":0}]
[null,null,null,null,null,null,null,null,null,{"$f":"F56","v":0}]
[null,null,null,null,null,null,null,null,null,{"$f":"G56","v":0}]
[null,null,null,null,null,null,null,null,null,{"$f":"H56","v":0}]
[null,null,null,null,null,null,null,null,null,{"$f":"I56","v":0}]
[null,null,null,null,null,null,null,null,null,{"$f":"B57","v":0}]
[null,null,null,null,null,null,null,null,null,{"$f":"C57","v":0}]
[null,null,null,null,null,null,null,null,null,{"$f":"D57","v":0}]
[null,null,null,null,null,null,null,null,null,{"$f":"E57","v":0}]
[null,null,null,null,null,null,null,null,null,{"$f":"F57","v":0}]
[null,null,null,null,null,null,null,null,null,{"$f":"G57","v":0}]
[null,null,null,null,null,null,null,null,null,{"$f":"H57","v":0}]
[null,null,null,null,null,null,null,null,null,{"$f":"I57","v":0}]
[null,null,null,null,null,null,null,null,null,{"$f":"B58","v":0}]
[null,null,null,null,null,null,null,null,null,{"$f":"C58","v":0}]
[null,null,null,null,null,null,null,null,null,{"$f":"D58","v":0}]
[null,null,null,null,null,null,null,null,null,{"$f":"E58","v":0}]
[null,null,null,null,null,null,null,null,null,{"$f":"F58","v":0}]
[null,null,null,null,null,null,null,null,null,{"$f":"G58","v":0}]
[null,null,null,null,null,null,null,null,null,{"$f":"H58","v":0}]
[null,null,null,null,null,null,null,null,null,{"$f":"I58","v":0}]
[null,null,null,null,null,null,null,null,null,{"$f":"B59","v":0}]
[null,null,null,null,null,null,null,null,null,{"$f":"C59","v":0}]
[null,null,null,null,null,null,null,null,null,{"$f":"D59","v":0}]
[null,null,null,null,null,null,null,null,null,{"$f":"E59","v":0}]
[null,null,null,null,null,null,null,null,null,{"$f":"F59","v":0}]
[null,null,null,null,null,null,null,null,null,{"$f":"G59","v":0}]
[null,null,null,null,null,null,null,null,null,{"$f":"H59","v":0}]
[null,null,null,null,null,null,null,null,null,{"$f":"I59","v":0}]
[null,null,null,null,null,null,null,null,null,{"$f":"B60","v":0}]
[null,null,null,null,null,null,null,null,null,{"$f":"C60","v":0}]
[null,null,null,null,null,null,null,null,null,{"$f":"D60","v":0}]
[null,null,null,null,null,null,null,null,null,{"$f":"E60","v":0}]
[null,null,null,null,null,null,null,null,null,{"$f":"F60","v":0}]
[null,null,null,null,null,null,null,null,null,{"$f":"G60","v":0}]
[null,null,null,null,null,null,null,null,null,{"$f":"H60","v":0}]
[null,null,null,null,null,null,null,null,null,{"$f":"I60","v":0}]
[null,null,null,null,null,null,null,null,null,{"$f":"B61","v":0}]
[null,null,null,null,null,null,null,null,null,{"$f":"C61","v":0}]
[null,null,null,null,null,null,null,null,null,{"$f":"D61","v":0}]
[null,null,null,null,null,null,null,null,null,{"$f":"E61","v":0}]
[null,null,null,null,null,null,null,null,null,{"$f":"F61","v":0}]
[null,null,null,null,null,null,null,null,null,{"$f":"G61","v":0}]
[null,null,null,null,null,null,null,null,null,{"$f":"H61","v":0}]
[null,null,null,null,null,null,null,null,null,{"$f":"I61","v":0}]
[null,null,null,null,null,null,null,null,null,{"$f":"B62","v":0}]
[null,null,null,null,null,null,null,null,null,{"$f":"C62","v":0}]
[null,null,null,null,null,null,null,null,null,{"$f":"D62","v":0}]
[null,null,null,null,null,null,null,null,null,{"$f":"E62","v":0}]
[null,null,null,null,null,null,null,null,null,{"$f":"F62","v":0}]
[null,null,null,null,null,null,null,null,null,{"$f":"G62","v":0}]
[null,null,null,null,null,null,null,null,null,{"$f":"H62","v":0}]
[null,null,null,null,null,null,null,null,null,{"$f":"I62","v":0}]
[null,null,null,null,null,null,null,null,null,{"$f":"B63","v":0}]
[null,null,null,null,null,null,null,null,null,{"$f":"C63","v":0}]
[null,null,null,null,null,null,null,null,null,{"$f":"D63","v":0}]
[null,null,null,null,null,null,null,null,null,{"$f":"E63","v":0}]
[null,null,null,null,null,null,null,null,null,{"$f":"F63","v":0}]
[null,null,null,null,null,null,null,null,null,{"$f":"G63","v":0}]
[null,null,null,null,null,null,null,null,null,{"$f":"H63","v":0}]
[null,null,null,null,null,null,null,null,null,{"$f":"I63","v":0}]
[null,null,null,null,null,null,null,null,null,{"$f":"B64","v":0}]
[null,null,null,null,null,null,null,null,null,{"$f":"C64","v":0}]
[null,null,null,null,null,null,null,null,null,{"$f":"D64","v":0}]
[null,null,null,null,null,null,null,null,null,{"$f":"E64","v":0}]
[null,null,null,null,null,null,null,null,null,{"$f":"F64","v":0}]
[null,null,null,null,null,null,null,null,null,{"$f":"G64","v":0}]
[null,null,null,null,null,null,null,null,null,{"$f":"H64","v":0}]
[null,null,null,null,null,null,null,null,null,{"$f":"I64","v":0}]
[null,null,null,null,null,null,null,null,null,{"$f":"B65","v":0}]
[null,null,null,null,null,null,null,null,null,{"$f":"C65","v":0}]
[null,null,null,null,null,null,null,null,null,{"$f":"D65","v":0}]
[null,null,null,null,null,null,null,null,null,{"$f":"E65","v":0}]
[null,null,null,null,null,null,null,null,null,{"$f":"F65","v":0}]
[null,null,null,null,null,null,null,null,null,{"$f":"G65","v":0}]
[null,null,null,null,null,null,null,null,null,{"$f":"H65","v":0}]
[null,null,null,null,null,null,null,null,null,{"$f":"I65","v":0}]
[null,null,null,null,null,null,null,null,null,{"$f":"B66","v":0}]
[null,null,null,null,null,null,null,null,null,{"$f":"C66","v":0}]
[null,null,null,null,null,null,null,null,null,{"$f":"D66","v":0}]
[null,null,null,null,null,null,null,null,null,{"$f":"E66","v":0}]
[null,null,null,null,null,null,null,null,null,{"$f":"F66","v":0}]
[null,null,null,null,null,null,null,null,null,{"$f":"G66","v":0}]
[null,null,null,null,null,null,null,null,null,{"$f":"H66","v":0}]
[null,null,null,null,null,null,null,null,null,{"$f":"I66","v":0}]
[null,null,null,null,null,null,null,null,null,{"$f":"B67","v":0}]
[null,null,null,null,null,null,null,null,null,{"$f":"C67","v":0}]
[null,null,null,null,null,null,null,null,null,{"$f":"D67","v":0}]
[null,null,null,null,null,null,null,null,null,{"$f":"E67","v":0}]
[null,null,null,null,null,null,null,null,null,{"$f":"F67","v":0}]
[null,null,null,null,null,null,null,null,null,{"$f":"G67","v":0}]
[null,null,null,null,null,null,null,null,null,{"$f":"H67","v":0}]
[null,null,null,null,null,null,null,null,null,{"$f":"I67","v":0}]
[null,null,null,null,null,null,null,null,null,{"$f":"B68","v":0}]
[null,null,null,null,null,null,null,null,null,{"$f":"C68","v":0}]
[null,null,null,null,null,null,null,null,null,{"$f":"D68","v":0}]
[null,null,null,null,null,null,null,null,null,{"$f":"E68","v":0}]
[null,null,null,null,null,null,null,null,null,{"$f":"F68","v":0}]
[null,null,null,null,null,null,null,null,null,{"$f":"G68","v":0}]
[null,null,null,null,null,null,null,null,null,{"$f":"H68","v":0}]
[null,null,null,null,null,null,null,null,null,{"$f":"I68","v":0}]
[null,null,null,null,null,null,null,null,null,{"$f":"B69","v":0}]
[null,null,null,null,null,null,null,null,null,{"$f":"C69","v":0}]
[null,null,null,null,null,null,null,null,null,{"$f":"D69","v":0}]
[null,null,null,null,null,null,null,null,null,{"$f":"E69","v":0}]
[null,null,null,null,null,null,null,null,null,{"$f":"F69","v":0}]
[null,null,null,null,null,null,null,null,null,{"$f":"G69","v":0}]
[null,null,null,null,null,null,null,null,null,{"$f":"H69","v":0}]
[null,null,null,null,null,null,null,null,null,{"$f":"I69","v":0}]
[null,null,null,null,null,null,null,null,null,{"$f":"B70","v":0}]
[null,null,null,null,null,null,null,null,null,{"$f":"C70","v":0}]
[null,null,null,null,null,null,null,null,null,{"$f":"D70","v":0}]
[null,null,null,null,null,null,null,null,null,{"$f":"E70","v":0}]
[null,null,null,null,null,null,null,null,null,{"$f":"F70","v":0}]
[null,null,null,null,null,null,null,null,null,{"$f":"G70","v":0}]
[null,null,null,null,null,null,null,null,null,{"$f":"H70","v":0}]
[null,null,null,null,null,null,null,null,null,{"$f":"I70","v":0}]
[null,null,null,null,null,null,null,null,null,{"$f":"B71","v":0}]
[null,null,null,null,null,null,null,null,null,{"$f":"C71","v":0}]
[null,null,null,null,null,null,null,null,null,{"$f":"D71","v":0}]
[null,null,null,null,null,null,null,null,null,{"$f":"E71","v":0}]
[null,null,null,null,null,null,null,null,null,{"$f":"F71","v":0}]
[null,null,null,null,null,null,null,null,null,{"$f":"G71","v":0}]
[null,null,null,null,null,null,null,null,null,{"$f":"H71","v":0}]
[null,null,null,null,null,null,null,null,null,{"$f":"I71","v":0}]
[null,null,null,null,null,null,null,null,null,{"$f":"B72","v":0}]
[null,null,null,null,null,null,null,null,null,{"$f":"C72","v":0}]
[null,null,null,null,null,null,null,null,null,{"$f":"D72","v":0}]
[null,null,null,null,null,null,null,null,null,{"$f":"E72","v":0}]
[null,null,null,null,null,null,null,null,null,{"$f":"F72","v":0}]
[null,null,null,null,null,null,null,null,null,{"$f":"G72","v":0}]
[null,null,null,null,null,null,null,null,null,{"$f":"H72","v":0}]
[null,null,null,null,null,null,null,null,null,{"$f":"I72","v":0}]
[null,null,null,null,null,null,null,null,null,{"$f":"B73","v":0}]
[null,null,null,null,null,null,null,null,null,{"$f":"C73","v":0}]
[null,null,null,null,null,null,null,null,null,{"$f":"D73","v":0}]
[null,null,null,null,null,null,null,null,null,{"$f":"E73","v":0}]
[null,null,null,null,null,null,null,null,null,{"$f":"F73","v":0}]
[null,null,null,null,null,null,null,null,null,{"$f":"G73","v":0}]
[null,null,null,null,null,null,null,null,null,{"$f":"H73","v":0}]
[null,null,null,null,null,null,null,null,null,{"$f":"I73","v":0}]
[null,null,null,null,null,null,null,null,null,{"$f":"B74","v":0}]
[null,null,null,null,null,null,null,null,null,{"$f":"C74","v":0}]
[null,null,null,null,null,null,null,null,null,{"$f":"D74","v":0}]
[null,null,null,null,null,null,null,null,null,{"$f":"E74","v":0}]
[null,null,null,null,null,null,null,null,null,{"$f":"F74","v":0}]
[null,null,null,null,null,null,null,null,null,{"$f":"G74","v":0}]
[null,null,null,null,null,null,null,null,null,{"$f":"H74","v":0}]
[null,null,null,null,null,null,null,null,null,{"$f":"I74","v":0}]
[null,null,null,null,null,null,null,null,null,{"$f":"B75","v":0}]
[null,null,null,null,null,null,null,null,null,{"$f":"C75","v":0}]
[null,null,null,null,null,null,null,null,null,{"$f":"D75","v":0}]
[null,null,null,null,null,null,null,null,null,{"$f":"E75","v":0}]
[null,null,null,null,null,null,null,null,null,{"$f":"F75","v":0}]
[null,null,null,null,null,null,null,null,null,{"$f":"G75","v":0}]
[null,null,null,null,null,null,null,null,null,{"$f":"H75","v":0}]
[null,null,null,null,null,null,null,null,null,{"$f":"I75","v":0}]
[null,null,null,null,null,null,null,null,null,{"$f":"B76","v":0}]
[null,null,null,null,null,null,null,null,null,{"$f":"C76","v":0}]
[null,null,null,null,null,null,null,null,null,{"$f":"D76","v":0}]
[null,null,null,null,null,null,null,null,null,{"$f":"E76","v":0}]
[null,null,null,null,null,null,null,null,null,{"$f":"F76","v":0}]
[null,null,null,null,null,null,null,null,null,{"$f":"G76","v":0}]
[null,null,null,null,null,null,null,null,null,{"$f":"H76","v":0}]
[null,null,null,null,null,null,null,null,null,{"$f":"I76","v":0}]
[null,null,null,null,null,null,null,null,null,{"$f":"B77","v":0}]
[null,null,null,null,null,null,null,null,null,{"$f":"C77","v":0}]
[null,null,null,null,null,null,null,null,null,{"$f":"D77","v":0}]
[null,null,null,null,null,null,null,null,null,{"$f":"E77","v":0}]
[null,null,null,null,null,null,null,null,null,{"$f":"F77","v":0}]
[null,null,null,null,null,null,null,null,null,{"$f":"G77","v":0}]
[null,null,null,null,null,null,null,null,null,{"$f":"H77","v":0}]
[null,null,null,null,null,null,null,null,null,{"$f":"I77","v":0}]
[null,null,null,null,null,null,null,null,null,{"$f":"B78","v":0}]
[null,null,null,null,null,null,null,null,null,{"$f":"C78","v":0}]
[null,null,null,null,null,null,null,null,null,{"$f":"D78","v":0}]
[null,null,null,null,null,null,null,null,null,{"$f":"E78","v":0}]
[null,null,null,null,null,null,null,null,null,{"$f":"F78","v":0}]
[null,null,null,null,null,null,null,null,null,{"$f":"G78","v":0}]
[null,null,null,null,null,null,null,null,null,{"$f":"H78","v":0}]
[null,null,null,null,null,null,null,null,null,{"$f":"I78","v":0}]
[null,null,null,null,null,null,null,null,null,{"$f":"B79","v":0}]
[null,null,null,null,null,null,null,null,null,{"$f":"C79","v":0}]
[null,null,null,null,null,null,null,null,null,{"$f":"D79","v":0}]
[null,null,null,null,null,null,null,null,null,{"$f":"E79","v":0}]
[null,null,null,null,null,null,null,null,null,{"$f":"F79","v":0}]
[null,null,null,null,null,null,null,null,null,{"$f":"G79","v":0}]
[null,null,null,null,null,null,null,null,null,{"$f":"H79","v":0}]
[null,null,null,null,null,null,null,null,null,{"$f":"I79","v":0}]
[null,null,null,null,null,null,null,null,null,{"$f":"B80","v":0}]
[null,null,null,null,null,null,null,null,null,{"$f":"C80","v":0}]
[null,null,null,null,null,null,null,null,null,{"$f":"D80","v":0}]
[null,null,null,null,null,null,null,null,null,{"$f":"E80","v":0}]
[null,null,null,null,null,null,null,null,null,{"$f":"F80","v":0}]
[null,null,null,null,null,null,null,null,null,{"$f":"G80","v":0}]
[null,null,null,null,null,null,null,null,null,{"$f":"H80","v":0}]
[null,null,null,null,null,null,null,null,null,{"$f":"I80","v":0}]
[null,null,null,null,null,null,null,null,null,{"$f":"B81","v":0}]
[null,null,null,null,null,null,null,null,null,{"$f":"C81","v":0}]
[null,null,null,null,null,null,null,null,null,{"$f":"D81","v":0}]
[null,null,null,null,null,null,null,null,null,{"$f":"E81","v":0}]
[null,null,null,null,null,null,null,null,null,{"$f":"F81","v":0}]
[null,null,null,null,null,null,null,null,null,{"$f":"G81","v":0}]
[null,null,null,null,null,null,null,null,null,{"$f":"H81","v":0}]
[null,null,null,null,null,null,null,null,null,{"$f":"I81","v":0}]
[null,null,null,null,null,null,null,null,null,{"$f":"B82","v":0}]
[null,null,null,null,null,null,null,null,null,{"$f":"C82","v":0}]
[null,null,null,null,null,null,null,null,null,{"$f":"D82","v":0}]
[null,null,null,null,null,null,null,null,null,{"$f":"E82","v":0}]
[null,null,null,null,null,null,null,null,null,{"$f":"F82","v":0}]
[null,null,null,null,null,null,null,null,null,{"$f":"G82","v":0}]
[null,null,null,null,null,null,null,null,null,{"$f":"H82","v":0}]
[null,null,null,null,null,null,null,null,null,{"$f":"I82","v":0}]
[null,null,null,null,null,null,null,null,null,{"$f":"B83","v":0}]
[null,null,null,null,null,null,null,null,null,{"$f":"C83","v":0}]
[null,null,null,null,null,null,null,null,null,{"$f":"D83","v":0}]
[null,null,null,null,null,null,null,null,null,{"$f":"E83","v":0}]
[null,null,null,null,null,null,null,null,null,{"$f":"F83","v":0}]
[null,null,null,null,null,null,null,null,null,{"$f":"G83","v":0}]
[null,null,null,null,null,null,null,null,null,{"$f":"H83","v":0}]
[null,null,null,null,null,null,null,null,null,{"$f":"I83","v":0}]
[null,null,null,null,null,null,null,null,null,{"$f":"B84","v":0}]
[null,null,null,null,null,null,null,null,null,{"$f":"C84","v":0}]
[null,null,null,null,null,null,null,null,null,{"$f":"D84","v":0}]
[null,null,null,null,null,null,null,null,null,{"$f":"E84","v":0}]
[null,null,null,null,null,null,null,null,null,{"$f":"F84","v":0}]
[null,null,null,null,null,null,null,null,null,{"$f":"G84","v":0}]
[null,null,null,null,null,null,null,null,null,{"$f":"H84","v":0}]
[null,null,null,null,null,null,null,null,null,{"$f":"I84","v":0}]
[null,null,null,null,null,null,null,null,null,{"$f":"B85","v":0}]
[null,null,null,null,null,null,null,null,null,{"$f":"C85","v":0}]
[null,null,null,null,null,null,null,null,null,{"$f":"D85","v":0}]
[null,null,null,null,null,null,null,null,null,{"$f":"E85","v":0}]
[null,null,null,null,null,null,null,null,null,{"$f":"F85","v":0}]
[null,null,null,null,null,null,null,null,null,{"$f":"G85","v":0}]
[null,null,null,null,null,null,null,null,null,{"$f":"H85","v":0}]
[null,null,null,null,null,null,null,null,null,{"$f":"I85","v":0}]
[null,null,null,null,null,null,null,null,null,{"$f":"B86","v":0}]
[null,null,null,null,null,null,null,null,null,{"$f":"C86","v":0}]
[null,null,null,null,null,null,null,null,null,{"$f":"D86","v":0}]
[null,null,null,null,null,null,null,null,null,{"$f":"E86","v":0}]
[null,null,null,null,null,null,null,null,null,{"$f":"F86","v":0}]
[null,null,null,null,null,null,null,null,null,{"$f":"G86","v":0}]
[null,null,null,null,null,null,null,null,null,{"$f":"H86","v":0}]
[null,null,null,null,null,null,null,null,null,{"$f":"I86","v":0}]
[null,null,null,null,null,null,null,null,null,{"$f":"B87","v":0}]
[null,null,null,null,null,null,null,null,null,{"$f":"C87","v":0}]
[null,null,null,null,null,null,null,null,null,{"$f":"D87","v":0}]
[null,null,null,null,null,null,null,null,null,{"$f":"E87","v":0}]
[null,null,null,null,null,null,null,null,null,{"$f":"F87","v":0}]
[null,null,null,null,null,null,null,null,null,{"$f":"G87","v":0}]
[null,null,null,null,null,null,null,null,null,{"$f":"H87","v":0}]
[null,null,null,null,null,null,null,null,null,{"$f":"I87","v":0}]
[null,null,null,null,null,null,null,null,null,{"$f":"B88","v":0}]
[null,null,null,null,null,null,null,null,null,{"$f":"C88","v":0}]
[null,null,null,null,null,null,null,null,null,{"$f":"D88","v":0}]
[null,null,null,null,null,null,null,null,null,{"$f":"E88","v":0}]
[null,null,null,null,null,null,null,null,null,{"$f":"F88","v":0}]
[null,null,null,null,null,null,null,null,null,{"$f":"G88","v":0}]
[null,null,null,null,null,null,null,null,null,{"$f":"H88","v":0}]
[null,null,null,null,null,null,null,null,null,{"$f":"I88","v":0}]
[null,null,null,null,null,null,null,null,null,{"$f":"B89","v":0}]
[null,null,null,null,null,null,null,null,null,{"$f":"C89","v":0}]
[null,null,null,null,null,null,null,null,null,{"$f":"D89","v":0}]
[null,null,null,null,null,null,null,null,null,{"$f":"E89","v":0}]
[null,null,null,null,null,null,null,null,null,{"$f":"F89","v":0}]
[null,null,null,null,null,null,null,null,null,{"$f":"G89","v":0}]
[null,null,null,null,null,null,null,null,null,{"$f":"H89","v":0}]
[null,null,null,null,null,null,null,null,null,{"$f":"I89","v":0}]
[null,null,null,null,null,null,null,null,null,{"$f":"B90","v":0}]
[null,null,null,null,null,null,null,null,null,{"$f":"C90","v":0}]
[null,null,null,null,null,null,null,null,null,{"$f":"D90","v":0}]
[null,null,null,null,null,null,null,null,null,{"$f":"E90","v":0}]
[null,null,null,null,null,null,null,null,null,{"$f":"F90","v":0}]
[null,null,null,null,null,null,null,null,null,{"$f":"G90","v":0}]
[null,null,null,null,null,null,null,null,null,{"$f":"H90","v":0}]
[null,null,null,null,null,null,null,null,null,{"$f":"I90","v":0}]
[null,null,null,null,null,null,null,null,null,{"$f":"B91","v":0}]
[null,null,null,null,null,null,null,null,null,{"$f":"C91","v":0}]
[null,null,null,null,null,null,null,null,null,{"$f":"D91","v":0}]
[null,null,null,null,null,null,null,null,null,{"$f":"E91","v":0}]
[null,null,null,null,null,null,null,null,null,{"$f":"F91","v":0}]
[null,null,null,null,null,null,null,null,null,{"$f":"G91","v":0}]
[null,null,null,null,null,null,null,null,null,{"$f":"H91","v":0}]
[null,null,null,null,null,null,null,null,null,{"$f":"I91","v":0}]
[null,null,null,null,null,null,null,null,null,{"$f":"B92","v":0}]
[null,null,null,null,null,null,null,null,null,{"$f":"C92","v":0}]
[null,null,null,null,null,null,null,null,null,{"$f":"D92","v":0}]
[null,null,null,null,null,null,null,null,null,{"$f":"E92","v":0}]
[null,null,null,null,null,null,null,null,null,{"$f":"F92","v":0}]
[null,null,null,null,null,null,null,null,null,{"$f":"G92","v":0}]
[null,null,null,null,null,null,null,null,null,{"$f":"H92","v":0}]
[null,null,null,null,null,null,null,null,null,{"$f":"I92","v":0}]
[null,null,null,null,null,null,null,null,null,{"$f":"B93","v":0}]
[null,null,null,null,null,null,null,null,null,{"$f":"C93","v":0}]
[null,null,null,null,null,null,null,null,null,{"$f":"D93","v":0}]
[null,null,null,null,null,null,null,null,null,{"$f":"E93","v":0}]
[null,null,null,null,null,null,null,null,null,{"$f":"F93","v":0}]
[null,null,null,null,null,null,null,null,null,{"$f":"G93","v":0}]
[null,null,null,null,null,null,null,null,null,{"$f":"H93","v":0}]
[null,null,null,null,null,null,null,null,null,{"$f":"I93","v":0}]
[null,null,null,null,null,null,null,null,null,{"$f":"B94","v":0}]
[null,null,null,null,null,null,null,null,null,{"$f":"C94","v":0}]
[null,null,null,null,null,null,null,null,null,{"$f":"D94","v":0}]
[null,null,null,null,null,null,null,null,null,{"$f":"E94","v":0}]
[null,null,null,null,null,null,null,null,null,{"$f":"F94","v":0}]
[null,null,null,null,null,null,null,null,null,{"$f":"G94","v":0}]
[null,null,null,null,null,null,null,null,null,{"$f":"H94","v":0}]
[null,null,null,null,null,null,null,null,null,{"$f":"I94","v":0}]
[null,null,null,null,null,null,null,null,null,{"$f":"B95","v":0}]
[null,null,null,null,null,null,null,null,null,{"$f":"C95","v":0}]
[null,null,null,null,null,null,null,null,null,{"$f":"D95","v":0}]
[null,null,null,null,null,null,null,null,null,{"$f":"E95","v":0}]
[null,null,null,null,null,null,null,null,null,{"$f":"F95","v":0}]
[null,null,null,null,null,null,null,null,null,{"$f":"G95","v":0}]
[null,null,null,null,null,null,null,null,null,{"$f":"H95","v":0}]
[null,null,null,null,null,null,null,null,null,{"$f":"I95","v":0}]
[null,null,null,null,null,null,null,null,null,{"$f":"B96","v":0}]
[null,null,null,null,null,null,null,null,null,{"$f":"C96","v":0}]
[null,null,null,null,null,null,null,null,null,{"$f":"D96","v":0}]
[null,null,null,null,null,null,null,null,null,{"$f":"E96","v":0}]
[null,null,null,null,null,null,null,null,null,{"$f":"F96","v":0}]
[null,null,null,null,null,null,null,null,null,{"$f":"G96","v":0}]
[null,null,null,null,null,null,null,null,null,{"$f":"H96","v":0}]
[null,null,null,null,null,null,null,null,null,{"$f":"I96","v":0}]
[null,null,null,null,null,null,null,null,null,{"$f":"B97","v":0}]
[null,null,null,null,null,null,null,null,null,{"$f":"C97","v":0}]
[null,null,null,null,null,null,null,null,null,{"$f":"D97","v":0}]
[null,null,null,null,null,null,null,null,null,{"$f":"E97","v":0}]
[null,null,null,null,null,null,null,null,null,{"$f":"F97","v":0}]
[null,null,null,null,null,null,null,null,null,{"$f":"G97","v":0}]
[null,null,null,null,null,null,null,null,null,{"$f":"H97","v":0}]
[null,null,null,null,null,null,null,null,null,{"$f":"I97","v":0}]
[null,null,null,null,null,null,null,null,null,{"$f":"B98","v":0}]
[null,null,null,null,null,null,null,null,null,{"$f":"C98","v":0}]
[null,null,null,null,null,null,null,null,null,{"$f":"D98","v":0}]
[null,null,null,null,null,null,null,null,null,{"$f":"E98","v":0}]
[null,null,null,null,null,null,null,null,null,{"$f":"F98","v":0}]
[null,null,null,null,null,null,null,null,null,{"$f":"G98","v":0}]
[null,null,null,null,null,null,null,null,null,{"$f":"H98","v":0}]
[null,null,null,null,null,null,null,null,null,{"$f":"I98","v":0}]
[null,null,null,null,null,null,null,null,null,{"$f":"B99","v":0}]
[null,null,null,null,null,null,null,null,null,{"$f":"C99","v":0}]
[null,null,null,null,null,null,null,null,null,{"$f":"D99","v":0}]
[null,null,null,null,null,null,null,null,null,{"$f":"E99","v":0}]
[null,null,null,null,null,null,null,null,null,{"$f":"F99","v":0}]
[null,null,null,null,null,null,null,null,null,{"$f":"G99","v":0}]
[null,null,null,null,null,null,null,null,null,{"$f":"H99","v":0}]
[null,null,null,null,null,null,null,null,null,{"$f":"I99","v":0}]
[null,null,null,null,null,null,null,null,null,{"$f":"B100","v":0}]
[null,null,null,null,null,null,null,null,null,{"$f":"C100","v":0}]
[null,null,null,null,null,null,null,null,null,{"$f":"D100","v":0}]
[null,null,null,null,null,null,null,null,null,{"$f":"E100","v":0}]
[null,null,null,null,null,null,null,null,null,{"$f":"F100","v":0}]
[null,null,null,null,null,null,null,null,null,{"$f":"G100","v":0}]
[null,null,null,null,null,null,null,null,null,{"$f":"H100","v":0}]
[null,null,null,null,null,null,null,null,null,{"$f":"I100","v":0}]
[null,null,null,null,null,null,null,null,null,{"$f":"B101","v":0}]
[null,null,null,null,null,null,null,null,null,{"$f":"C101","v":0}]
[null,null,null,null,null,null,null,null,null,{"$f":"D101","v":0}]
[null,null,null,null,null,null,null,null,null,{"$f":"E101","v":0}]
[null,null,null,null,null,null,null,null,null,{"$f":"F101","v":0}]
[null,null,null,null,null,null,null,null,null,{"$f":"G101","v":0}]
[null,null,null,null,null,null,null,null,null,{"$f":"H101","v":0}]
[null,null,null,null,null,null,null,null,null,{"$f":"I101","v":0}]
[null,null,null,null,null,null,null,null,null,{"$f":"B102","v":0}]
[null,null,null,null,null,null,null,null,null,{"$f":"C102","v":0}]
[null,null,null,null,null,null,null,null,null,{"$f":"D102","v":0}]
[null,null,null,null,null,null,null,null,null,{"$f":"E102","v":0}]
[null,null,null,null,null,null,null,null,null,{"$f":"F102","v":0}]
[null,null,null,null,null,null,null,null,null,{"$f":"G102","v":0}]
[null,null,null,null,null,null,null,null,null,{"$f":"H102","v":0}]
[null,null,null,null,null,null,null,null,null,{"$f":"I102","v":0}]
[null,null,null,null,null,null,null,null,null,{"$f":"B103","v":0}]
[null,null,null,null,null,null,null,null,null,{"$f":"C103","v":0}]
[null,null,null,null,null,null,null,null,null,{"$f":"D103","v":0}]
[null,null,null,null,null,null,null,null,null,{"$f":"E103","v":0}]
[null,null,null,null,null,null,null,null,null,{"$f":"F103","v":0}]
[null,null,null,null,null,null,null,null,null,{"$f":"G103","v":0}]
[null,null,null,null,null,null,null,null,null,{"$f":"H103","v":0}]
[null,null,null,null,null,null,null,null,null,{"$f":"I103","v":0}]
[null,null,null,null,null,null,null,null,null,{"$f":"B104","v":0}]
[null,null,null,null,null,null,null,null,null,{"$f":"C104","v":0}]
[null,null,null,null,null,null,null,null,null,{"$f":"D104","v":0}]
[null,null,null,null,null,null,null,null,null,{"$f":"E104","v":0}]
[null,null,null,null,null,null,null,null,null,{"$f":"F104","v":0}]
[null,null,null,null,null,null,null,null,null,{"$f":"G104","v":0}]
[null,null,null,null,null,null,null,null,null,{"$f":"H104","v":0}]
[null,null,null,null,null,null,null,null,null,{"$f":"I104","v":0}]
[null,null,null,null,null,null,null,null,null,{"$f":"B105","v":0}]
[null,null,null,null,null,null,null,null,null,{"$f":"C105","v":0}]
[null,null,null,null,null,null,null,null,null,{"$f":"D105","v":0}]
[null,null,null,null,null,null,null,null,null,{"$f":"E105","v":0}]
[null,null,null,null,null,null,null,null,null,{"$f":"F105","v":0}]
[null,null,null,null,null,null,null,null,null,{"$f":"G105","v":0}]
[null,null,null,null,null,null,null,null,null,{"$f":"H105","v":0}]
[null,null,null,null,null,null,null,null,null,{"$f":"I105","v":0}]
[null,null,null,null,null,null,null,null,null,{"$f":"B106","v":0}]
[null,null,null,null,null,null,null,null,null,{"$f":"C106","v":0}]
[null,null,null,null,null,null,null,null,null,{"$f":"D106","v":0}]
[null,null,null,null,null,null,null,null,null,{"$f":"E106","v":0}]
[null,null,null,null,null,null,null,null,null,{"$f":"F106","v":0}]
[null,null,null,null,null,null,null,null,null,{"$f":"G106","v":0}]
[null,null,null,null,null,null,null,null,null,{"$f":"H106","v":0}]
[null,null,null,null,null,null,null,null,null,{"$f":"I106","v":0}]
[null,null,null,null,null,null,null,null,null,{"$f":"B107","v":0}]
[null,null,null,null,null,null,null,null,null,{"$f":"C107","v":0}]
[null,null,null,null,null,null,null,null,null,{"$f":"D107","v":0}]
[null,null,null,null,null,null,null,null,null,{"$f":"E107","v":0}]
[null,null,null,null,null,null,null,null,null,{"$f":"F107","v":0}]
[null,null,null,null,null,null,null,null,null,{"$f":"G107","v":0}]
[null,null,null,null,null,null,null,null,null,{"$f":"H107","v":0}]
[null,null,null,null,null,null,null,null,null,{"$f":"I107","v":0}]
[null,null,null,null,null,null,null,null,null,{"$f":"B108","v":0}]
[null,null,null,null,null,null,null,null,null,{"$f":"C108","v":0}]
[null,null,null,null,null,null,null,null,null,{"$f":"D108","v":0}]
[null,null,null,null,null,null,null,null,null,{"$f":"E108","v":0}]